
BEGIN:VCALENDAR
VERSION:2.0
PRODID:-//Light Key Academy - ECPv6.15.3//NONSGML v1.0//EN
CALSCALE:GREGORIAN
METHOD:PUBLISH
X-WR-CALNAME:Light Key Academy
X-ORIGINAL-URL:https://infinitehealing.co.uk
X-WR-CALDESC:Events for Light Key Academy
REFRESH-INTERVAL;VALUE=DURATION:PT1H
X-Robots-Tag:noindex
X-PUBLISHED-TTL:PT1H
BEGIN:VTIMEZONE
TZID:America/New_York
BEGIN:DAYLIGHT
TZOFFSETFROM:-0500
TZOFFSETTO:-0400
TZNAME:EDT
DTSTART:20210314T070000
END:DAYLIGHT
BEGIN:STANDARD
TZOFFSETFROM:-0400
TZOFFSETTO:-0500
TZNAME:EST
DTSTART:20211107T060000
END:STANDARD
END:VTIMEZONE
BEGIN:VEVENT
DTSTART;TZID=America/New_York:20210928T140000
DTEND;TZID=America/New_York:20210929T150000
DTSTAMP:20260421T165312
CREATED:20210914T203835Z
LAST-MODIFIED:20211004T175732Z
UID:77102-1632837600-1632927600@infinitehealing.co.uk
SUMMARY:Magic circle
DESCRIPTION:[vc_row][vc_column][vc_column_text] \nMagic circle\n(English) \n[/vc_column_text][/vc_column][/vc_row][vc_row][vc_column width=”1/2″][vc_column_text css=”.vc_custom_1633355809360{margin-bottom: 10px !important;padding-top: 10px !important;padding-right: 10px !important;padding-bottom: 10px !important;padding-left: 10px !important;border-radius: 2px !important;}” el_class=”EPP-BOX”] \nAdvanced Light Key Protocol for Pain Relief \n(English) \nDate: 28th September 2021\nTime: 10:00 AM EST / 3:00 PM BST / 5:00 PM Israel / 7:30 PM India / 1:00 AM AEDT (Next Day)\nDuration: 30 – 40 Minutes \n(Click here to get the time for your time zone.) \n[/vc_column_text][/vc_column][vc_column width=”1/2″][vc_column_text el_class=”EPP-BOX” css=”.vc_custom_1633355847265{margin-bottom: 10px !important;padding-top: 10px !important;padding-right: 10px !important;padding-bottom: 10px !important;padding-left: 10px !important;border-radius: 2px !important;}”] \nFlowing with Life and Death\n\n(English) \nDate: 29th September 2021\nTime: 10:00 AM EST / 3:00 PM BST / 5:00 PM Israel / 7:30 PM India / 1:00 AM AEDT (Next Day)\nDuration: 30 – 40 Minutes \n(Click here to get the time for your time zone.) \n[/vc_column_text][/vc_column][/vc_row][vc_row][vc_column][/vc_column][/vc_row][vc_row css=”.vc_custom_1621236696640{margin-bottom: 5px !important;}”][vc_column width=”1/4″][vc_column_text css=”.vc_custom_1631720506664{margin-bottom: 10px !important;padding-top: 10px !important;padding-right: 10px !important;padding-bottom: 10px !important;padding-left: 10px !important;background-color: #f4f4f4 !important;}”] \n❤️ Pre-requisite:  \n\nLight Key Expert Healer (Certified).\n\n[/vc_column_text][vc_column_text css=”.vc_custom_1631638768793{padding-top: 10px !important;padding-right: 10px !important;padding-bottom: 10px !important;padding-left: 10px !important;background-color: #f4f4f4 !important;}”] \n❤️ Course Inclusion:  \n\nVideo and Audio Recordings.\n\n[/vc_column_text][/vc_column][vc_column width=”1/2″][vc_column_text css=”.vc_custom_1632823984931{margin-bottom: 0px !important;}”]❤️ Description:  \nIn these calls\, Nila will share new techniques\, which the expert healers can use for self help. These calls will be converted to courses in the near future along with certification options and the participants of these calls can get upgraded to the courses for free or with discounts at that point. \nSome topics to be covered are \n\nAdvanced Belief Clearing Protocol\nAdvanced pain relief protocol\nTimeless embodiment\nBeing at home in the body\nAscension Activation Protocol\nUnfreezing from time\nConscious relationship Level 1\nLight Key Protocol for healing birthing trauma\nMagnetizing the body for attracting your desires\nWellness through conflict resolution\nLight Key breathing\nBeyond addiction and aversion to sex\nReceiving awareness through Golden Cube of Magic\nFlowing with life and death\nBeyond loss & grief\n\nNote that these 2 back to back calls of ‘Magic Circle’ are exclusively for expert healers.[/vc_column_text][vc_column_text css=”.vc_custom_1631720387056{margin-bottom: 10px !important;}”] \n\n\nDisclaimer: This is not meant to be a replacement for any professional help you may require.\nTerms: The experience of each individual varies and hence the outcome from this call cannot be guaranteed. Please buy only if you are willing to take responsibility for the outcome of the practices taught.\n\n[/vc_column_text][/vc_column][vc_column width=”1/4″ css=”.vc_custom_1631105879203{padding-top: 0px !important;padding-right: 8px !important;padding-bottom: 25px !important;padding-left: 8px !important;}”][vc_column_text css=”.vc_custom_1631650594306{margin-bottom: 10px !important;padding-top: 10px !important;padding-right: 10px !important;padding-bottom: 10px !important;padding-left: 10px !important;background-color: #f4f4f4 !important;}”] \n❤️Cost for Call 1 and Call 2: \n$96Add to cartAdd to cart \n[/vc_column_text][vc_column_text css=”.vc_custom_1632753634370{margin-bottom: 0px !important;padding-top: 10px !important;padding-right: 10px !important;padding-bottom: 10px !important;padding-left: 10px !important;background-color: #f4f4f4 !important;}”] \n❤️ INR Payment Option:  \nYou can make INR payment through Google Pay to the number  \n(After making the payment\, please inform your name and email id to the same number in WhatsApp or send the information to team@infinitehealing.co.uk) \n[/vc_column_text][/vc_column][/vc_row][vc_row][vc_column][vc_column_text css=”.vc_custom_1631796865226{margin-bottom: 5px !important;}”]❤️ Here are some amazing shares from previous Expert Healer classes: \n“THANK YOU NILA FOR AMAZING COURSE THIS WEEK\,AND NOW THE GIFT TO DO A BLESSING AND PROSPERITY ATTUNEMENT HARMONY ATTUNEMENT WELLBEING ATTUNEMENT 🌠🌠🌠” \n“This is an amazing gift to have. The light key blessings and attunements have been a gift to my clients\, creating many shifts. It leaves me feeling so happy and grateful.” \n“I recently did Well-being attunement for a 54 yr old lady. She called up and said: My husband has started paying attention to me\, he shows concern and asks if I had food; he gets up from his chair and offers me to sit\, something he never did before\, I was not even considered a part of the family. She was amazed and I was too thinking that the attunement actually opened up her receiving and brought about changes in ppl around her. Blessed to be an Expert Healer!!!! Thankyou Nila🙏🏼” \n[/vc_column_text][vc_separator css=”.vc_custom_1621236614421{margin-bottom: 8px !important;}”][vc_btn title=”REGISTER YOUR INTEREST” color=”primary” align=”center” i_icon_fontawesome=”fa fa-pencil” add_icon=”true” link=”url:https%3A%2F%2Finfinitehealing.co.uk%2Fmagic-circle-registration%2F||target:%20_blank|” css=”.vc_custom_1631639608902{margin-bottom: 5px !important;}”][vc_column_text] \nPlease feel free to register and share with your family and friends. \nFor any queries/support\, please click here.\n[/vc_column_text][/vc_column][/vc_row]
URL:https://infinitehealing.co.uk/event/magic-circle/
CATEGORIES:Light key
END:VEVENT
BEGIN:VEVENT
DTSTART;TZID=America/New_York:20210929T160000
DTEND;TZID=America/New_York:20210929T173000
DTSTAMP:20260421T165312
CREATED:20210827T220417Z
LAST-MODIFIED:20211005T013301Z
UID:74823-1632931200-1632936600@infinitehealing.co.uk
SUMMARY:Light Key Protocol for Clearing Unhealthy Relationships
DESCRIPTION:[vc_row][vc_column][vc_column_text css=”.vc_custom_1630339248824{margin-bottom: 0px !important;}”] \nLight Key Protocol for Clearing Unhealthy Relationships\nWith Bonus Class : Inviting Money by Releasing Attachments \n(English) \nDate: 29th Sep 2021\nTime: 11:00 AM EST / 4:00 PM BST / 6:00 PM Israel / 8:30 PM India / 2:00 AM AEDT (Next Day)\nDuration: 1.5 Hours \n(Click here to get the time for your time zone.) \n[/vc_column_text][/vc_column][/vc_row][vc_row][vc_column][vc_column_text el_class=”hidden”] \n\n \nParticipants and repeaters of ‘Light Key Protocol for Clearing Unhealthy Relationships’  will get ‘Inviting Money by Releasing Attachments’ class as bonus. \n\n[/vc_column_text][/vc_column][/vc_row][vc_row][vc_column width=”1/4″][vc_column_text el_class=”hidden”][/vc_column_text][vc_column_text css=”.vc_custom_1630518595803{margin-bottom: 10px !important;padding-top: 10px !important;padding-right: 10px !important;padding-bottom: 10px !important;padding-left: 10px !important;background-color: #f4f4f4 !important;}”] \n❤️ Pre-requisites: \nCourse:\n\nNone\n\nCertification: \n\nLight Key Protocol for Clearing Unhealthy Relationships\nLight Key Intermediate Blueprint course-V3 (OR) Light Key Intermediate Blueprint -V4\nConscious and Prosperous healer – Basic (certification not required)\nMust have Certification of Joyous Body Protocol\nMust have Certification of Light Key Frequencies – Transformational processes for body\, life and beyond\n\n[/vc_column_text][vc_column_text css=”.vc_custom_1630293382468{margin-bottom: 10px !important;padding-top: 10px !important;padding-right: 10px !important;padding-bottom: 10px !important;padding-left: 10px !important;background-color: #f4f4f4 !important;}”] \n❤️ Certification Criteria: \n\nPass a descriptive Quiz with 60%.\nComplete a case study.\n\n[/vc_column_text][vc_column_text css=”.vc_custom_1627288703793{margin-bottom: 10px !important;padding-top: 10px !important;padding-right: 10px !important;padding-bottom: 10px !important;padding-left: 10px !important;background-color: #f4f4f4 !important;}”] \n❤️ Course Inclusion:  \n\nUser Manual.\nVideo and Audio recordings.\n\n[/vc_column_text][/vc_column][vc_column width=”1/2″ css=”.vc_custom_1624611635110{padding-top: 0px !important;padding-right: 25px !important;padding-bottom: 25px !important;padding-left: 25px !important;}”][vc_column_text css=”.vc_custom_1630291180847{margin-bottom: 10px !important;}”]❤️ Description: \nThe protocol for clearing unhealthy relationships is a series of steps incorporating the energy of light keys and light key frequencies that release you from unhealthy attachments that cause obsession\, addiction\, co-dependency etc. This protocol will give you huge freedom and empowerment. \nThe Light keys and Light key frequencies work at a very deep level. This protocol is gentle\, easy to use\, yet very powerful.[/vc_column_text][vc_column_text css=”.vc_custom_1624611596662{margin-bottom: 10px !important;}”] \n\nDisclaimer: This is not meant to be a replacement for any professional help you may require.\nTerms: The experience of each individual varies and hence the outcome from this course cannot be guaranteed. Please buy only if you are willing to take responsibility for the outcome of the practices taught.\n\n[/vc_column_text][vc_column_text css=”.vc_custom_1632894245803{margin-bottom: 10px !important;}”]❤️ Here are some amazing shares from previous classes: \n“Did – clearing of unhealthy relationship protocol- yesterday \, 1 hour later someone contacted me ( .y daughters family which I stopped all contact ) – started to blame and shame me for my actions and choices which obviously do not include this family 🌈 I was able to stay in my reality – say clear that I am not available for these kind of games anymore and stopped the conversation 😊🌞 so happy and grateful for this protocol and me choosing it to create a life without those distracting and truly unhealthy relationships – what else is actually possible now 🌈” \n“There has been lots of release – really lots. I love the unhealthy relationship clearing very much.💐💐💐” \n[/vc_column_text][vc_separator css=”.vc_custom_1623936100806{margin-bottom: 10px !important;padding-top: 0px !important;padding-bottom: 0px !important;}”][vc_btn title=”REGISTER YOUR INTEREST” color=”primary” align=”center” link=”url:https%3A%2F%2Finfinitehealing.co.uk%2Flight-key-protocol-for-clearing-unhealthy-relationships-registration%2F|title:Light%20Key%20Protocol%20for%20Clearing%20Unhealthy%20Relationships%20%E2%80%93%20Registration|target:%20_blank|” css=”.vc_custom_1633375517226{margin-top: 10px !important;padding-top: 10px !important;}” el_class=”hidden”][vc_column_text] \n\nPlease feel free to register and share with your family and friends. \nFor any queries/support\, please click here.\n\n[/vc_column_text][/vc_column][vc_column width=”1/4″][vc_column_text css=”.vc_custom_1633375525963{margin-bottom: 10px !important;padding-top: 10px !important;padding-right: 10px !important;padding-bottom: 20px !important;padding-left: 10px !important;background-color: #f4f4f4 !important;}” el_class=”hidden”] \n❤️ Cost: \nCourse without certification:\n\n$66Add to cartRead more \n\nCertification: \n$52Add to cartRead more \n\n[/vc_column_text][vc_column_text css=”.vc_custom_1632987298114{margin-bottom: 10px !important;}” el_class=”hidden”] \n\n\n\n\n\n❤️ Discount Info: \nIf you are a repeater:\n\nFree attendance for Light Key Protocol for Clearing Unhealthy Relationships and Bonus class Inviting Money by Releasing Attachments.\nYou can get recordings of both the classes by paying $44. Zoom link with Coupon code will be shared to your email if you have opted for promotional emails.\n\nHelp\n\nNote: Coupon expires after the class\n \n\nIf you are New to Light Key Protocol for Clearing Unhealthy Relationships: \n\n\nLight Key Protocol for Clearing Unhealthy Relationships class + Recordings for $66\nInviting Money by Releasing Attachments class + Recordings for FREE\n\n\n\n[/vc_column_text][vc_column_text css=”.vc_custom_1633375786472{margin-bottom: 10px !important;}”] \n\nYou can purchase the recordings of this class here:\nBuy Now\n\n[/vc_column_text][vc_column_text css=”.vc_custom_1632753612937{margin-bottom: 0px !important;padding-top: 10px !important;padding-right: 10px !important;padding-bottom: 10px !important;padding-left: 10px !important;background-color: #f4f4f4 !important;}”] \n❤️ INR Payment Option:  \nYou can make INR payment through Google Pay to the number  \n(After making the payment\, please inform your name and email id to the same number in WhatsApp or send the information to team@infinitehealing.co.uk) \n[/vc_column_text][/vc_column][/vc_row]
URL:https://infinitehealing.co.uk/event/light-key-protocol-for-clearing-unhealthy-relationships/
CATEGORIES:Light key
END:VEVENT
END:VCALENDAR