
BEGIN:VCALENDAR
VERSION:2.0
PRODID:-//Light Key Academy - ECPv6.15.3//NONSGML v1.0//EN
CALSCALE:GREGORIAN
METHOD:PUBLISH
X-ORIGINAL-URL:https://infinitehealing.co.uk
X-WR-CALDESC:Events for Light Key Academy
REFRESH-INTERVAL;VALUE=DURATION:PT1H
X-Robots-Tag:noindex
X-PUBLISHED-TTL:PT1H
BEGIN:VTIMEZONE
TZID:America/New_York
BEGIN:DAYLIGHT
TZOFFSETFROM:-0500
TZOFFSETTO:-0400
TZNAME:EDT
DTSTART:20210314T070000
END:DAYLIGHT
BEGIN:STANDARD
TZOFFSETFROM:-0400
TZOFFSETTO:-0500
TZNAME:EST
DTSTART:20211107T060000
END:STANDARD
END:VTIMEZONE
BEGIN:VEVENT
DTSTART;TZID=America/New_York:20211012T150000
DTEND;TZID=America/New_York:20211012T160000
DTSTAMP:20260421T052114
CREATED:20210916T215826Z
LAST-MODIFIED:20220117T061308Z
UID:77325-1634050800-1634054400@infinitehealing.co.uk
SUMMARY:Light Key Protocol for Glow and Grow
DESCRIPTION:[vc_row][vc_column][vc_column_text css=”.vc_custom_1633423260739{margin-bottom: 10px !important;}”] \nLight Key Protocol for Glow and Grow\nWith Bonus Class: Dental Health (20 Minutes) \n(English) \nDate: 12thOctober 2021\nTime: 11:00 AM EST / 4:00 PM BST / 6:00 PM Israel / 8:30 PM India / 2:00 AM AEDT (Next Day)\nDuration: 1.5 Hrs \n(Click here to get the time for your time zone.) \n[/vc_column_text][vc_column_text css=”.vc_custom_1634129780467{margin-bottom: 10px !important;}” el_class=”hidden”] \n\nBuy this class at a great discount when you choose a 3 in 1 package\n? Health & Glow @ $171.00 $120.00 click here for more details.  \n\n[/vc_column_text][/vc_column][/vc_row][vc_row disable_element=”yes” css=”.vc_custom_1633439886003{margin-bottom: 15px !important;}”][vc_column width=”1/6″][/vc_column][vc_column width=”2/3″][vc_column_text css=”.vc_custom_1633422310140{margin-bottom: 10px !important;}” el_class=”special-offergif77678″] \nParticipants and Repeaters of ‘Light Key Protocol for Glow and Grow’  will get ‘Dental Health’ class as bonus.\n[/vc_column_text][/vc_column][vc_column width=”1/6″][/vc_column][/vc_row][vc_row css=”.vc_custom_1621236696640{margin-bottom: 5px !important;}”][vc_column width=”1/4″][vc_column_text css=”.vc_custom_1634129765807{margin-bottom: 10px !important;padding-top: 0px !important;padding-right: 0px !important;padding-bottom: 0px !important;padding-left: 0px !important;}” el_class=”hidden”][/vc_column_text][vc_column_text css=”.vc_custom_1631899196623{margin-bottom: 10px !important;padding-top: 10px !important;padding-right: 10px !important;padding-bottom: 10px !important;padding-left: 10px !important;background-color: #f4f4f4 !important;}”] \n? Pre-requisites: \nPrerequisite for Course:\n \n\nNone\n\nPrerequisite for Certification: \n\nLight Key Protocol for Glow and Grow\nLight Keys for Life and Beyond! (Intermediate Blueprint Course-V3) or Intermediate Blueprint V4\nConscious and Prosperous healer – Basic (certification not required)\nMust have Certification of Joyous Body Protocol\nMust have Certification of Light Key Frequencies – Transformational processes for body\, life and beyond\n\n[/vc_column_text][vc_column_text css=”.vc_custom_1629380076899{margin-bottom: 10px !important;padding-top: 10px !important;padding-right: 10px !important;padding-bottom: 10px !important;padding-left: 10px !important;background-color: #f4f4f4 !important;}”] \n ? Certification Criteria: \n\nPass a descriptive quiz with 60%.\nComplete a case study.\n\n[/vc_column_text][vc_column_text css=”.vc_custom_1621237103391{padding-top: 10px !important;padding-right: 10px !important;padding-bottom: 10px !important;padding-left: 10px !important;background-color: #f4f4f4 !important;}”] \n? Course Inclusion:  \n\nUser Manual.\nVideo and Audio Recordings.\n\n[/vc_column_text][/vc_column][vc_column width=”1/2″][vc_column_text css=”.vc_custom_1633428220685{margin-bottom: 10px !important;}”]? Description:  \nGlow and Grow protocol is a Light Key Protocol. It induces growth desired and required by the body and is likely to restore lost tissues and help heal the bones & skin. This protocol can also create conducive environment in the body to heal. \n\n\n\n\n\nLight Key Protocols are a series of steps involving the light keys (high vibrational symbols) and Light Key Frequencies for a desired outcome.\n\n\n\n\n\n[/vc_column_text][vc_column_text css=”.vc_custom_1621234884429{margin-bottom: 10px !important;}”] \n\n\nDisclaimer: This is not meant to be a replacement for any professional help you may require.\nTerms: The experience of each individual varies and hence the outcome from this cannot be guaranteed. Please buy only if you are willing to take responsibility for the outcome of the practices taught.\n\n[/vc_column_text][vc_column_text css=”.vc_custom_1633423290156{margin-bottom: 10px !important;}”]? Here are some amazing shares from previous classes: \n“Today\, while doing the glow and grow protocol I was doing it for my hair and I felt sensations on my scalp. It felt like something is changing. I’m sure this will work for me”  \n“Thank you Nila\, Evening I was feeling very low\, After attending the call I m so energetic feeling calm and relaxed”  \n“I did the grow and glow and pain on my friend yesterday.. she just re broke her foot for a second time recently.. and hasn’t been able to exercise. She could not even get her tennis shoe in that foot. She woke up this morning and walked 3 miles with her friend pain free.. she was just blown away. Hdigabtt???“ \n[/vc_column_text][vc_separator css=”.vc_custom_1634138069775{margin-bottom: 8px !important;}” el_class=”hidden”][vc_column_text] \nPlease feel free to register and share with your family and friends. \nFor any queries/support\, please click here.\n[/vc_column_text][/vc_column][vc_column width=”1/4″ css=”.vc_custom_1621236747540{padding-top: 25px !important;padding-right: 8px !important;padding-bottom: 25px !important;padding-left: 8px !important;}”][vc_column_text css=”.vc_custom_1633505667772{margin-bottom: 10px !important;}” el_class=”hidden”] \nBe an Early Bird & Avail 6% discounted price given below!\n*Offer expires on 5th Oct 2021*\n[/vc_column_text][vc_column_text css=”.vc_custom_1634804252414{margin-bottom: 10px !important;padding-top: 10px !important;padding-right: 10px !important;padding-bottom: 20px !important;padding-left: 10px !important;background-color: #f4f4f4 !important;}” el_class=”hidden”] \n? Cost:\nCourse without certification:\n$66Add to cartAdd to cart  Buy Now\n\nCertification: \n$52Add to cartAdd to cart  Buy Now\n\n[/vc_column_text][vc_column_text css=”.vc_custom_1634804240630{margin-bottom: 10px !important;padding-top: 10px !important;padding-right: 10px !important;padding-bottom: 20px !important;padding-left: 10px !important;background-color: #f4f4f4 !important;}”] \n\nYou can purchase the recordings of this call here:\nBuy Now\n\n[/vc_column_text][vc_column_text css=”.vc_custom_1634113361113{margin-bottom: 10px !important;background-color: #f4f4f4 !important;}” el_class=”hidden”] \n\n? Discount info:\nIf you are a repeater:\n\nFree attendance for Light Key Protocol for Glow and Grow and Bonus class Dental Health.\nYou can get recordings of both the classes by paying $44. Zoom link with Coupon code will be shared to your email if you have opted for promotional emails.\n\nHelp\n\nNote: Coupon expires after the class. \n\nIf you are New to Light Key Protocol for Glow and Grow: \n\n\nLight Key Protocol for Glow and Grow class + Recordings for $66.\nDental Health class + Recordings for FREE.\n\n\n\n[/vc_column_text][vc_column_text css=”.vc_custom_1632753705995{margin-bottom: 0px !important;padding-top: 10px !important;padding-right: 10px !important;padding-bottom: 10px !important;padding-left: 10px !important;background-color: #f4f4f4 !important;}”] \n? INR Payment Option:  \nYou can make INR payment through Google Pay to the number  \n(After making the payment\, please inform your name and email id to the same number in WhatsApp or send the information to team@infinitehealing.co.uk) \n[/vc_column_text][/vc_column][/vc_row]
URL:https://infinitehealing.co.uk/event/light-key-protocol-for-glow-and-grow/
CATEGORIES:Health,Light key
END:VEVENT
END:VCALENDAR