
BEGIN:VCALENDAR
VERSION:2.0
PRODID:-//Light Key Academy - ECPv6.15.3//NONSGML v1.0//EN
CALSCALE:GREGORIAN
METHOD:PUBLISH
X-WR-CALNAME:Light Key Academy
X-ORIGINAL-URL:https://infinitehealing.co.uk
X-WR-CALDESC:Events for Light Key Academy
REFRESH-INTERVAL;VALUE=DURATION:PT1H
X-Robots-Tag:noindex
X-PUBLISHED-TTL:PT1H
BEGIN:VTIMEZONE
TZID:America/New_York
BEGIN:DAYLIGHT
TZOFFSETFROM:-0500
TZOFFSETTO:-0400
TZNAME:EDT
DTSTART:20210314T070000
END:DAYLIGHT
BEGIN:STANDARD
TZOFFSETFROM:-0400
TZOFFSETTO:-0500
TZNAME:EST
DTSTART:20211107T060000
END:STANDARD
END:VTIMEZONE
BEGIN:VEVENT
DTSTART;TZID=America/New_York:20211013T160000
DTEND;TZID=America/New_York:20211014T163000
DTSTAMP:20260425T134003
CREATED:20210921T185737Z
LAST-MODIFIED:20211018T114141Z
UID:77678-1634140800-1634229000@infinitehealing.co.uk
SUMMARY:Let Abundance In
DESCRIPTION:[vc_row][vc_column][vc_single_image image=”78136″ img_size=”full” alignment=”center” css=”.vc_custom_1632754457891{margin-bottom: 20px !important;}”][vc_column_text css=”.vc_custom_1632479474026{margin-bottom: 10px !important;}”] \nLet Abundance In\n(English) \n[/vc_column_text][/vc_column][/vc_row][vc_row][vc_column width=”1/2″ el_class=”octevent77678″][vc_column_text css=”.vc_custom_1633509211134{margin-bottom: 10px !important;padding-top: 0px !important;padding-right: 0px !important;padding-bottom: 0px !important;padding-left: 0px !important;border-radius: 2px !important;}” el_class=”EPP-BOX nw”] \nExpanding your financial reality through forgiveness\n\nDate: 13th October 2021\nTime: 11:00 AM EST Click here for your time zone\nDuration: 20 – 30 Minutes \nCost: $33Add to cartAdd to cart  Buy Now\n\n\n[/vc_column_text][/vc_column][vc_column width=”1/2″][vc_column_text el_class=”EPP-BOX nw” css=”.vc_custom_1633509196397{margin-bottom: 10px !important;padding-top: 10px !important;padding-right: 10px !important;padding-bottom: 10px !important;padding-left: 10px !important;border-radius: 2px !important;}”] \nBeing an invitation for amazing relationships through forgiveness\n\nDate: 14th October 2021\nTime: 11:00 AM EST Click here for your time zone\nDuration: 20 – 30 Minutes \nCost: $33Add to cartAdd to cart  Buy Now\n\n[/vc_column_text][/vc_column][/vc_row][vc_row el_class=”hidden”][vc_column][vc_column_text css=”.vc_custom_1633509222966{margin-bottom: 5px !important;padding-top: 0px !important;padding-right: 0px !important;padding-bottom: 0px !important;padding-left: 0px !important;border-radius: 2px !important;}” el_class=”free-title-74904″] \n\n⭐ You Save $12! If You Buy both the Calls @ $54Add to cartAdd to cart  Buy Now\n\n[/vc_column_text][/vc_column][/vc_row][vc_row el_class=”hidden”][vc_column][vc_column_text css=”.vc_custom_1633616909110{margin-bottom: 15px !important;}” el_class=”special-offergif77678″] \n\n\n\n\nPackage\nProducts\n\n\nBasic Light Key Protocol for Forgiveness – Golden wings of kindness\nShed excess Fat and Weight with Forgiveness\nExpanding Your Financial Reality Through Forgiveness\nBeing An Invitation For Amazing Relationships Through Forgiveness\nActual Cost\nYou save!\nBuy Now\n\n\nLet Abundance In\n\n\n✓\n✓\n$66\n18%\n$54 Buy Now\n\n\nFly High\n\n✓\n✓\n✓\n$99\n21%\n$78 Buy Now\n\n\nLive Light\n✓\n\n✓\n✓\n$121\n21%\n$96 Buy Now\n\n\n\n\n[/vc_column_text][/vc_column][/vc_row][vc_row css=”.vc_custom_1621236696640{margin-bottom: 5px !important;}”][vc_column width=”1/4″ el_class=”left-col71850″][vc_column_text css=”.vc_custom_1633509244933{margin-bottom: 10px !important;padding-top: 0px !important;padding-right: 0px !important;padding-bottom: 0px !important;padding-left: 0px !important;background-color: #f4f4f4 !important;}” el_class=”hidden”] \n\nYou save $9!\nFly High\n(3 In 1 Product)\n\n\nLet Abundance In 2 call series\nShed excess Fat and Weight with Forgiveness\n\n\n$99 Original price was: $99.$78Current price is: $78.Add to cartRead more  Buy Now\n\n[/vc_column_text][vc_column_text css=”.vc_custom_1632240382204{margin-bottom: 10px !important;padding-top: 10px !important;padding-right: 10px !important;padding-bottom: 10px !important;padding-left: 10px !important;background-color: #f4f4f4 !important;}”] \n❤️ Pre-requisite:  \n\nBasic Light Key Protocol for forgiveness – Golden wings of kindness\n\n[/vc_column_text][vc_column_text css=”.vc_custom_1632490888312{margin-bottom: 10px !important;padding-top: 10px !important;padding-right: 10px !important;padding-bottom: 10px !important;padding-left: 10px !important;background-color: #f4f4f4 !important;}”] \n❤️ Course Inclusion:  \n\nVideo and audio recording for both the classes.\n\n[/vc_column_text][/vc_column][vc_column width=”1/2″ el_class=”mid-col71850″][vc_column_text css=”.vc_custom_1632491953637{margin-bottom: 15px !important;}”]❤️ Expanding your financial reality through forgiveness:  \n\nWhat has forgiveness got to do with your financial reality?\n“No act of forgiveness is too small if it liberates energy for you” ― unknown\nDid you know that the cobwebs of anger\, resentment and grudge can lock and block your financial reality? Yes! Money is energy and it likes to flow. It can be energetically barricaded by stuck feelings of resentment\, anger\, and blame.\nWhen you are in blame and shame\, you would not allow yourself to receive what you desire because you don’t believe you deserve! When you forgive and go beyond resentments\, you not only clear the channels to receive\, you also vibrate high to attract & manifest your desires.\nSo get ready to dust those sticky cobwebs of un-forgiveness and create an expanded space to exponentialize your financial reality through this liberating call.\nNila will be guiding you through various Forgiveness exercises with the Light Key tools and processes.\n\n\n\n“you are a real blessing in my life- one for which I woke feeling much gratitude for this morning. The energy you sent me in yesterday’s process had a good impact\, physically and emotionally by the way 🙂”\n\n\n[/vc_column_text][vc_column_text css=”.vc_custom_1632491902890{margin-bottom: 0px !important;}”]❤️ Being an invitation for amazing relationships through Forgiveness:  \n\n“To forgive is the highest\, most beautiful form of love. In return\, you will receive untold peace and happiness.” ― Robert Muller\nHow many unresolved relationship dynamics do you have with yourself and others?\nJust as Buddha said “Holding onto anger is like grasping a hot coal with the intent of throwing it at someone else; you are the one who gets burned.”\nWhen you have emotions associated with unforgiveness like anger\, resentment\, grudge and vengefulness they harm you first by blocking your self-healing and also sabotage your relationships with everything.\nForgiveness is the possibility of a new start and a new space for greater things to show up. What if by choosing this call\, you can move to that new start and new space to not only heal your current relationships\, but also to be an invitation for amazing relationships with brighter possibilities?\nLight Key tools and processes quickly help you achieve this space with such ease and grace\, especially under Nila’s friendly and able guidance.\n\n[/vc_column_text][/vc_column][vc_column width=”1/4″][vc_column_text css=”.vc_custom_1633509262772{margin-bottom: 10px !important;padding-top: 0px !important;padding-right: 0px !important;padding-bottom: 0px !important;padding-left: 0px !important;background-color: #f4f4f4 !important;}” el_class=”special-offergif77678 rgt hidden”] \n\nYou save $13!\nLive Light\n(3 In 1 Product)\n\n\nLet Abundance In 2 call series\nBasic Light Key Protocol for Forgiveness\n\n\n$121 Original price was: $121.$96Current price is: $96.Add to cartRead more  Buy Now\n\n[/vc_column_text][vc_column_text css=”.vc_custom_1632496474941{margin-bottom: 0px !important;padding-top: 10px !important;padding-right: 10px !important;padding-bottom: 10px !important;padding-left: 10px !important;background-color: #f4f4f4 !important;}”] \n❤️ INR Payment Option:  \nYou can make INR payment through Google Pay to the number  \n(After making the payment\, please inform your name and email id to the same number in WhatsApp or send the information to team@infinitehealing.co.uk)[/vc_column_text][/vc_column][/vc_row][vc_row][vc_column][vc_column_text css=”.vc_custom_1632482287804{margin-bottom: 10px !important;}”] \n\n\nDisclaimer: This is not meant to be a replacement for any professional help you may require.\nTerms: The experience of each individual varies and hence the outcome from this call cannot be guaranteed. Please buy only if you are willing to take responsibility for the outcome of the practices taught.\n\n[/vc_column_text][vc_column_text css=”.vc_custom_1632462123893{margin-bottom: 5px !important;}”]❤️ Here are some amazing shares: \n\n“Was feeling quite emotionally at the start..spinning and passing the key through the memories really helps” \n\n\n“Thank you Nila\, it’s a great process…” \n\n\n“Thank you Nila\, golden warm light…in the solar plexus that is releasing all the judgements” \n\n\n“Thank you so much Nila… I absolutely love the practice sessions.” \n\n[/vc_column_text][vc_separator css=”.vc_custom_1621236614421{margin-bottom: 8px !important;}”][vc_btn title=”REGISTER YOUR INTEREST” color=”primary” align=”center” i_icon_fontawesome=”fa fa-pencil” add_icon=”true” link=”url:https%3A%2F%2Finfinitehealing.co.uk%2Flet-abundance-in-registration%2F||target:%20_blank|” css=”.vc_custom_1632417273513{margin-bottom: 5px !important;}”][vc_column_text] \nPlease feel free to register and share with your family and friends. \nFor any queries/support\, please click here.\n[/vc_column_text][/vc_column][/vc_row]
URL:https://infinitehealing.co.uk/event/let-abundance-in/
CATEGORIES:Light key
END:VEVENT
END:VCALENDAR