
BEGIN:VCALENDAR
VERSION:2.0
PRODID:-//Light Key Academy - ECPv6.15.3//NONSGML v1.0//EN
CALSCALE:GREGORIAN
METHOD:PUBLISH
X-ORIGINAL-URL:https://infinitehealing.co.uk
X-WR-CALDESC:Events for Light Key Academy
REFRESH-INTERVAL;VALUE=DURATION:PT1H
X-Robots-Tag:noindex
X-PUBLISHED-TTL:PT1H
BEGIN:VTIMEZONE
TZID:America/New_York
BEGIN:DAYLIGHT
TZOFFSETFROM:-0500
TZOFFSETTO:-0400
TZNAME:EDT
DTSTART:20210314T070000
END:DAYLIGHT
BEGIN:STANDARD
TZOFFSETFROM:-0400
TZOFFSETTO:-0500
TZNAME:EST
DTSTART:20211107T060000
END:STANDARD
END:VTIMEZONE
BEGIN:VEVENT
DTSTART;TZID=America/New_York:20211026T160000
DTEND;TZID=America/New_York:20211027T170000
DTSTAMP:20260421T052057
CREATED:20210930T175521Z
LAST-MODIFIED:20211006T124915Z
UID:78407-1635264000-1635354000@infinitehealing.co.uk
SUMMARY:Magic Circle
DESCRIPTION:[vc_row][vc_column][vc_column_text] \nMagic Circle\n(English) \n[/vc_column_text][/vc_column][/vc_row][vc_row][vc_column width=”1/2″][vc_column_text css=”.vc_custom_1633358803283{margin-bottom: 10px !important;padding-top: 10px !important;padding-right: 10px !important;padding-bottom: 10px !important;padding-left: 10px !important;border-radius: 2px !important;}” el_class=”EPP-BOX”] \nMagic Circle – Call 1\nDate: 26th October 2021\nTime: 11:00 AM EST / 4:00 PM BST / 6:00 PM Israel / 8:30 PM India / 2:00 AM AEDT (Next Day)\nDuration: 30 – 40 Minutes \n(Click here to get the time for your time zone.) \n[/vc_column_text][/vc_column][vc_column width=”1/2″][vc_column_text el_class=”EPP-BOX” css=”.vc_custom_1633011322491{margin-bottom: 10px !important;padding-top: 10px !important;padding-right: 10px !important;padding-bottom: 10px !important;padding-left: 10px !important;border-radius: 2px !important;}”] \nMagic Circle – Call 2\nDate: 27th October 2021\nTime: 11:00 AM EST / 4:00 PM BST / 6:00 PM Israel / 8:30 PM India / 2:00 AM AEDT (Next Day)\nDuration: 30 – 40 Minutes \n(Click here to get the time for your time zone.) \n[/vc_column_text][/vc_column][/vc_row][vc_row css=”.vc_custom_1621236696640{margin-bottom: 5px !important;}”][vc_column width=”1/4″][vc_column_text css=”.vc_custom_1631720506664{margin-bottom: 10px !important;padding-top: 10px !important;padding-right: 10px !important;padding-bottom: 10px !important;padding-left: 10px !important;background-color: #f4f4f4 !important;}”] \n❤️ Pre-requisite:  \n\nLight Key Expert Healer (Certified).\n\n[/vc_column_text][vc_column_text css=”.vc_custom_1631638768793{padding-top: 10px !important;padding-right: 10px !important;padding-bottom: 10px !important;padding-left: 10px !important;background-color: #f4f4f4 !important;}”] \n❤️ Course Inclusion:  \n\nVideo and Audio Recordings.\n\n[/vc_column_text][/vc_column][vc_column width=”1/2″][vc_column_text css=”.vc_custom_1633012688592{margin-bottom: 0px !important;}”] \n❤️ Description: \nThese calls are exclusively for Expert Healers. \nIn these calls\, Nila will share new techniques which the expert healers can use for self help. The content of the class may be channeled live or come with/without class notes. \nThese calls will be converted to courses in the near future along with certification options and the participants of these calls can get upgraded to the courses for free or with discounts at that point.[/vc_column_text][vc_column_text css=”.vc_custom_1631720387056{margin-bottom: 10px !important;}”] \n\n\nDisclaimer: This is not meant to be a replacement for any professional help you may require.\nTerms: The experience of each individual varies and hence the outcome from this call cannot be guaranteed. Please buy only if you are willing to take responsibility for the outcome of the practices taught.\n\n[/vc_column_text][/vc_column][vc_column width=”1/4″ css=”.vc_custom_1631105879203{padding-top: 0px !important;padding-right: 8px !important;padding-bottom: 25px !important;padding-left: 8px !important;}”][vc_column_text css=”.vc_custom_1633509729408{margin-bottom: 10px !important;padding-top: 10px !important;padding-right: 10px !important;padding-bottom: 15px !important;padding-left: 10px !important;background-color: #f4f4f4 !important;}”] \n❤️Cost for Call 1 and Call 2: \n$96Add to cartAdd to cart  Buy Now\n[/vc_column_text][vc_column_text css=”.vc_custom_1632753634370{margin-bottom: 0px !important;padding-top: 10px !important;padding-right: 10px !important;padding-bottom: 10px !important;padding-left: 10px !important;background-color: #f4f4f4 !important;}”] \n❤️ INR Payment Option:  \nYou can make INR payment through Google Pay to the number  \n(After making the payment\, please inform your name and email id to the same number in WhatsApp or send the information to team@infinitehealing.co.uk) \n[/vc_column_text][/vc_column][/vc_row][vc_row][vc_column][vc_column_text css=”.vc_custom_1633444322190{margin-bottom: 5px !important;}”]❤️ Here are some amazing shares from previous Expert Healer classes: \n“magical circle class on pain relief showed how much pain I was choosing to keep me away from my magical healing capabilities 😇 😀” \n“Yesterday I took magic circle calls for expert healers. As soon as I paid the amount the next moment I got double the amount from my client\, who paid for healing sessions. Magic of flowing GEF to my bank account Is showing up. I flow gef daily to my house\, my family\, bank accounts and every object in my house.” \n[/vc_column_text][vc_separator css=”.vc_custom_1621236614421{margin-bottom: 8px !important;}”][vc_btn title=”REGISTER YOUR INTEREST” color=”primary” align=”center” i_icon_fontawesome=”fa fa-pencil” add_icon=”true” link=”url:https%3A%2F%2Finfinitehealing.co.uk%2Fmagic-circle-registration-2%2F||target:%20_blank|” css=”.vc_custom_1633010807663{margin-bottom: 5px !important;}”][vc_column_text] \nPlease feel free to register and share with your family and friends. \nFor any queries/support\, please click here.\n[/vc_column_text][/vc_column][/vc_row]
URL:https://infinitehealing.co.uk/event/magic-circle-2/
CATEGORIES:Light key
END:VEVENT
END:VCALENDAR