
BEGIN:VCALENDAR
VERSION:2.0
PRODID:-//Light Key Academy - ECPv6.15.3//NONSGML v1.0//EN
CALSCALE:GREGORIAN
METHOD:PUBLISH
X-ORIGINAL-URL:https://infinitehealing.co.uk
X-WR-CALDESC:Events for Light Key Academy
REFRESH-INTERVAL;VALUE=DURATION:PT1H
X-Robots-Tag:noindex
X-PUBLISHED-TTL:PT1H
BEGIN:VTIMEZONE
TZID:America/New_York
BEGIN:DAYLIGHT
TZOFFSETFROM:-0500
TZOFFSETTO:-0400
TZNAME:EDT
DTSTART:20210314T070000
END:DAYLIGHT
BEGIN:STANDARD
TZOFFSETFROM:-0400
TZOFFSETTO:-0500
TZNAME:EST
DTSTART:20211107T060000
END:STANDARD
END:VTIMEZONE
BEGIN:VEVENT
DTSTART;TZID=America/New_York:20211215T150000
DTEND;TZID=America/New_York:20211216T160000
DTSTAMP:20260420T235624
CREATED:20211130T122310Z
LAST-MODIFIED:20211214T160529Z
UID:86112-1639580400-1639670400@infinitehealing.co.uk
SUMMARY:Magic Circle
DESCRIPTION:[vc_row][vc_column][vc_column_text] \nMagic Circle\n(English) \n[/vc_column_text][/vc_column][/vc_row][vc_row css=”.vc_custom_1638260296521{margin-bottom: 10px !important;}”][vc_column width=”1/2″ css=”.vc_custom_1638260319529{margin-bottom: 10px !important;}”][vc_column_text css=”.vc_custom_1639479343586{margin-bottom: 10px !important;padding-top: 12px !important;padding-right: 10px !important;padding-bottom: 10px !important;padding-left: 10px !important;border-radius: 2px !important;}” el_class=”EPP-BOX”] \nMagic Circle – Call 5\nDate: 15th December 2021\nTime: 10:00 AM EST / 3:00 PM GMT / 5:00 PM Israel / 8:30 PM India / 2:00 AM AET (Next Day)\nDuration: 30 – 40 Minutes \n(Click here to get the time for your time zone.) \n[/vc_column_text][/vc_column][vc_column width=”1/2″ css=”.vc_custom_1638260323289{margin-bottom: 10px !important;}”][vc_column_text el_class=”EPP-BOX” css=”.vc_custom_1639479359441{margin-bottom: 10px !important;padding-top: 12px !important;padding-right: 10px !important;padding-bottom: 10px !important;padding-left: 10px !important;border-radius: 2px !important;}”] \nMagic Circle – Call 6\nDate: 16th December 2021\nTime: 9:00 AM EST / 2:00 PM GMT / 4:00 PM Israel / 7:30 PM India / 1:00 AM AET (Next Day)\nDuration: 30 – 40 Minutes \n(Click here to get the time for your time zone.) \n[/vc_column_text][/vc_column][/vc_row][vc_row css=”.vc_custom_1621236696640{margin-bottom: 5px !important;}”][vc_column width=”1/4″][vc_column_text css=”.vc_custom_1638258231699{margin-bottom: 10px !important;padding-top: 10px !important;padding-right: 10px !important;padding-bottom: 10px !important;padding-left: 10px !important;background-color: #f4f4f4 !important;}” el_class=”mob-ev-ADDTOCRT”] \n❤️Cost for Call 1 and Call 2: \n$96Add to cartAdd to cart  Buy Now\n[/vc_column_text][vc_column_text css=”.vc_custom_1638257267006{margin-bottom: 10px !important;padding-top: 10px !important;padding-right: 10px !important;padding-bottom: 10px !important;padding-left: 10px !important;background-color: #f4f4f4 !important;}”] \n❤️ Pre-requisite:  \n\nLight Key Expert Healer (Certified).\n\n[/vc_column_text][vc_column_text css=”.vc_custom_1638274758151{margin-bottom: 0px !important;padding-top: 10px !important;padding-right: 10px !important;padding-bottom: 10px !important;padding-left: 10px !important;background-color: #f4f4f4 !important;}”] \n❤️ Inclusion:  \n\nVideo and Audio Recordings.\n\n[/vc_column_text][/vc_column][vc_column width=”1/2″][vc_column_text css=”.vc_custom_1638540477196{margin-bottom: 0px !important;}”] \n❤️ Description: \nThese calls are exclusively for Expert Healers. \nIn these calls\, Nila will share new techniques which the expert healers can use for self help. The content of the class may be channeled live or come with/without class notes. \nThese calls will be converted to courses in the near future along with certification options and the participants of these calls can get upgraded to the courses for free or with discounts at that point. \nTopics may include:\n\nAdvanced Belief Clearing Protocol\nTimeless embodiment\nBeing at home in the body\nAscension Activation Protocol\nUnfreezing from time\nConscious relationship Level 1\nMagnetizing the body for attracting your desires\nWellness through conflict resolution\nLight Key breathing\nBeyond addiction and aversion to sex\nReceiving awareness through Golden Cube of Magic\nBeyond loss & grief\n\n[/vc_column_text][vc_separator color=”white”][vc_column_text css=”.vc_custom_1631720387056{margin-bottom: 10px !important;}”] \n\n\nDisclaimer: This is not meant to be a replacement for any professional help you may require.\nTerms: The experience of each individual varies and hence the outcome from this call cannot be guaranteed. Please buy only if you are willing to take responsibility for the outcome of the practices taught.\n\n[/vc_column_text][/vc_column][vc_column width=”1/4″ css=”.vc_custom_1631105879203{padding-top: 0px !important;padding-right: 8px !important;padding-bottom: 25px !important;padding-left: 8px !important;}”][vc_column_text css=”.vc_custom_1639479924874{margin-bottom: 10px !important;padding-top: 10px !important;padding-right: 10px !important;padding-bottom: 10px !important;padding-left: 10px !important;background-color: #f4f4f4 !important;}” el_class=”DSK-ev-ADDTOCRT”] \n❤️Cost for Call 5 and Call 6: \n$96Add to cartAdd to cart  Buy Now\n[/vc_column_text][vc_column_text css=”.vc_custom_1638260237810{margin-bottom: 0px !important;padding-top: 10px !important;padding-right: 10px !important;padding-bottom: 10px !important;padding-left: 10px !important;background-color: #f4f4f4 !important;}”] \n❤️ INR Payment Option:  \nYou can make INR payment through Google Pay to the number  \n(After making the payment\, please inform your name and email id to the same number in WhatsApp or send the information to team@infinitehealing.co.uk)[/vc_column_text][/vc_column][/vc_row][vc_row][vc_column][vc_column_text css=”.vc_custom_1638257481659{margin-bottom: 5px !important;}”]❤️ Here are some amazing share from previous call: \n“Yesterday I took magic circle calls for expert healers. As soon as I paid the amount the next moment I got double the amount from my client\, who paid for healing sessions. Magic of flowing GEF to my bank account Is showing up. I flow gef daily to my house\, my family\, bank accounts and every object in my house.” \n“Magical circle class on pain relief showed how much pain I was choosing to keep me away from my magical healing capabilities 😇😀” \n“As always I receive such huge benefits from your teachings Nila.Today’s class was just as amazing as the others and I continue to be blown away” \n[/vc_column_text][vc_separator css=”.vc_custom_1621236614421{margin-bottom: 8px !important;}”][vc_btn title=”REGISTER YOUR INTEREST” color=”primary” align=”center” i_icon_fontawesome=”fa fa-pencil” add_icon=”true” link=”url:https%3A%2F%2Finfinitehealing.co.uk%2Fmagic-circle-registration-3%2F||target:%20_blank|” css=”.vc_custom_1638258517702{margin-bottom: 5px !important;}”][vc_column_text] \nPlease feel free to register and share with your family and friends. \nFor any queries/support\, please click here.\n[/vc_column_text][/vc_column][/vc_row]
URL:https://infinitehealing.co.uk/event/magic-circle-3/
CATEGORIES:Light key
END:VEVENT
BEGIN:VEVENT
DTSTART;TZID=America/New_York:20211216T150000
DTEND;TZID=America/New_York:20211216T160000
DTSTAMP:20260420T235624
CREATED:20211123T183345Z
LAST-MODIFIED:20211224T212457Z
UID:85508-1639666800-1639670400@infinitehealing.co.uk
SUMMARY:Moving from Control to Creation
DESCRIPTION:[vc_row][vc_column][vc_column_text] \nMoving from Control to Creation\n(English) \nDate: 16th December 2021\nTime: 10:00 AM EST / 3:00 PM GMT / 5:00 PM Israel / 8:30 PM India / 2:00 AM AET (Next Day)\nDuration: 60 Minutes \n(Click here to get the time for your time zone.) \n[/vc_column_text][/vc_column][/vc_row][vc_row css=”.vc_custom_1621236696640{margin-bottom: 5px !important;}”][vc_column width=”1/4″][vc_column_text css=”.vc_custom_1640362738542{margin-bottom: 10px !important;padding-top: -10px !important;padding-right: -10px !important;padding-bottom: -10px !important;padding-left: -10px !important;}” el_class=”mob-ev-ADDTOCRT”] \n\nYou can purchase the recordings of this call here:\nBuy Now\n\n[/vc_column_text][vc_column_text css=”.vc_custom_1640363095052{margin-bottom: 10px !important;padding-top: 10px !important;padding-right: 10px !important;padding-bottom: 10px !important;padding-left: 10px !important;background-color: #f4f4f4 !important;}” el_class=”mob-ev-ADDTOCRT”] \n❤️ INR Payment Option:  \nYou can make INR payment through Google Pay to the number  \n(After making the payment\, please inform your name and email id to the same number in WhatsApp or send the information to team@infinitehealing.co.uk)[/vc_column_text][vc_column_text css=”.vc_custom_1640362665908{margin-bottom: 10px !important;background-color: #f4f4f4 !important;}” el_class=”hidden”] \nBe an Early Bird & Avail 6% discounted price given below!\n*Offer expires on 9th Dec 2021*\n[/vc_column_text][vc_column_text css=”.vc_custom_1640291728058{margin-bottom: 10px !important;padding-top: 10px !important;padding-right: 10px !important;padding-bottom: 20px !important;padding-left: 10px !important;background-color: #f4f4f4 !important;}” el_class=”hidden”] \n❤️ Cost:\n$60Add to cartRead more Buy Now\n[/vc_column_text][vc_column_text css=”.vc_custom_1632303199020{margin-bottom: 10px !important;padding-top: 10px !important;padding-right: 10px !important;padding-bottom: 10px !important;padding-left: 10px !important;background-color: #f4f4f4 !important;}”] \n❤️ Pre-requisite: \n\nNone.\n\n[/vc_column_text][vc_column_text css=”.vc_custom_1636639301342{padding-top: 10px !important;padding-right: 10px !important;padding-bottom: 10px !important;padding-left: 10px !important;background-color: #f4f4f4 !important;}”] \n❤️ Inclusion:  \n\nVideo and Audio Recordings.\n\n[/vc_column_text][/vc_column][vc_column width=”1/2″][vc_column_text css=”.vc_custom_1638276895119{margin-bottom: 10px !important;}”]❤️ Description:  \nAre you a control freak? What if it is not wrong? What if it is not right either? What if it is an illusion? \nBy trying to control\, aren’t you wanting to be controlled by the outcomes – the outcomes that define you? That put you in a box? \nMost of the time\, we tend to control life and others in order to feel secure. What if security itself is a lie? Are you making your life small with control? What are you trying to create with control? \nNila will lead the group to look at the different aspects of control and gently help you move into expansion mode. \nPossible benefits: \n\nGain more ease with your life\nRecognize the glass ceilings you may have and expand beyond them\nBe more aware of the way you function and be in allowance of you. Feel better about yourself!\n\n[/vc_column_text][/vc_column][vc_column width=”1/4″][vc_column_text css=”.vc_custom_1639124281492{margin-bottom: 10px !important;background-color: #f4f4f4 !important;}” el_class=”hidden”] \nBe an Early Bird & Avail 6% discounted price given below!\n*Offer expires on 9th Dec 2021*\n[/vc_column_text][vc_column_text css=”.vc_custom_1640291723533{margin-bottom: 10px !important;padding-top: 10px !important;padding-right: 10px !important;padding-bottom: 20px !important;padding-left: 10px !important;background-color: #f4f4f4 !important;}” el_class=”hidden”] \n❤️ Cost:\n$60Add to cartRead more Buy Now\n[/vc_column_text][vc_column_text css=”.vc_custom_1640362770016{margin-bottom: 10px !important;padding-top: -10px !important;padding-right: -10px !important;padding-bottom: -10px !important;padding-left: -10px !important;}” el_class=”DSK-ev-ADDTOCRT”] \n\nYou can purchase the recordings of this call here:\nBuy Now\n\n[/vc_column_text][vc_column_text css=”.vc_custom_1640363025324{margin-bottom: 0px !important;padding-top: 10px !important;padding-right: 10px !important;padding-bottom: 10px !important;padding-left: 10px !important;background-color: #f4f4f4 !important;}” el_class=”DSK-ev-ADDTOCRT”] \n❤️ INR Payment Option:  \nYou can make INR payment through Google Pay to the number  \n(After making the payment\, please inform your name and email id to the same number in WhatsApp or send the information to team@infinitehealing.co.uk)[/vc_column_text][/vc_column][/vc_row][vc_row][vc_column][vc_separator css=”.vc_custom_1621236614421{margin-bottom: 8px !important;}”][vc_column_text css=”.vc_custom_1631861600003{margin-bottom: 10px !important;}”] \n\n\nDisclaimer: This is not meant to be a replacement for any professional help you may require.\nTerms: The experience of each individual varies and hence the outcome from this call cannot be guaranteed. Please buy only if you are willing to take responsibility for the outcome of the practices taught.\n\n[/vc_column_text][vc_column_text css=”.vc_custom_1637931473964{margin-bottom: 5px !important;}”]❤️ Here are some amazing shares from previous calls:\n \n“When we were into the call yesterday night. I did it for my sister whom I was trying to control always nd had povs about her. Today she came to my house spent more than one hour nd we had a hearty chat. She also made some food nd brought for me. I m no longer trying to control her.” \n“Thank you Nila for today’s call…I had so many control issues n with each exercise I could sense so many release from my body n feeling so much light n lightness… Thank you for your amazing gifts…How did we get so lucky?”  \n“It was life transforming for me.. all the places I operate from.. who is controlling my life.. who I am being to protect peace and burning all bridges in my universe.. so heavy not being me.. It gave me all the answers on relationship issues I’ve been facing.. phenomenal!! I look forward to free myself from everything I am carrying!!!” \n[/vc_column_text][vc_btn title=”REGISTER YOUR INTEREST” color=”primary” align=”center” i_icon_fontawesome=”fa fa-pencil” add_icon=”true” link=”url:https%3A%2F%2Finfinitehealing.co.uk%2Fmoving-from-control-to-creation-registration%2F|title:Moving%20from%20Control%20to%20Creation%20%E2%80%93%20Registration|target:%20_blank|” css=”.vc_custom_1640291735867{margin-bottom: 5px !important;}” el_class=”hidden”][vc_column_text] \nPlease feel free to register and share with your family and friends. \nFor any queries/support\, please click here.\n[/vc_column_text][/vc_column][/vc_row]
URL:https://infinitehealing.co.uk/event/moving-from-control-to-creation/
CATEGORIES:Life
END:VEVENT
END:VCALENDAR