
BEGIN:VCALENDAR
VERSION:2.0
PRODID:-//Light Key Academy - ECPv6.15.3//NONSGML v1.0//EN
CALSCALE:GREGORIAN
METHOD:PUBLISH
X-ORIGINAL-URL:https://infinitehealing.co.uk
X-WR-CALDESC:Events for Light Key Academy
REFRESH-INTERVAL;VALUE=DURATION:PT1H
X-Robots-Tag:noindex
X-PUBLISHED-TTL:PT1H
BEGIN:VTIMEZONE
TZID:America/New_York
BEGIN:DAYLIGHT
TZOFFSETFROM:-0500
TZOFFSETTO:-0400
TZNAME:EDT
DTSTART:20210314T070000
END:DAYLIGHT
BEGIN:STANDARD
TZOFFSETFROM:-0400
TZOFFSETTO:-0500
TZNAME:EST
DTSTART:20211107T060000
END:STANDARD
END:VTIMEZONE
BEGIN:VEVENT
DTSTART;TZID=America/New_York:20211221T150000
DTEND;TZID=America/New_York:20211221T160000
DTSTAMP:20260421T121437
CREATED:20211124T224658Z
LAST-MODIFIED:20211228T142712Z
UID:85651-1640098800-1640102400@infinitehealing.co.uk
SUMMARY:Synchronizing the Body with Earth for Health\, Wealth and Happiness
DESCRIPTION:[vc_row][vc_column][vc_column_text css=”.vc_custom_1638803085739{margin-bottom: 10px !important;}”] \nSynchronizing the Body with Earth for Health\, Wealth and Happiness\n(English) \nDate: 21st December 2021\nTime: 10:00 AM EST / 3:00 PM GMT / 5:00 PM Israel / 8:30 PM India / 2:00 AM AEDT (Next Day)\nDuration: 60 Minutes\n \n(Click here to get the time for your time zone.) \n[/vc_column_text][/vc_column][/vc_row][vc_row css=”.vc_custom_1621236696640{margin-bottom: 5px !important;}”][vc_column width=”1/4″][vc_column_text css=”.vc_custom_1640683605161{margin-bottom: 10px !important;padding-top: 10px !important;padding-right: 10px !important;padding-bottom: 20px !important;padding-left: 10px !important;background-color: #f4f4f4 !important;}” el_class=”mob-ev-ADDTOCRT”] \n\nYou can purchase the recordings of this call here:\nBuy Now\n\n[/vc_column_text][vc_column_text css=”.vc_custom_1640683596914{margin-bottom: 10px !important;padding-top: 10px !important;padding-right: 10px !important;padding-bottom: 20px !important;padding-left: 10px !important;background-color: #f4f4f4 !important;}” el_class=”hidden”] \n❤️ Cost:\nCourse without certification: \n$72Add to cartAdd to cart  Buy Now\nCertification: \n$42Add to cartAdd to cart  Buy Now\n[/vc_column_text][vc_column_text css=”.vc_custom_1639036232889{margin-bottom: 10px !important;padding-top: 10px !important;padding-right: 10px !important;padding-bottom: 10px !important;padding-left: 10px !important;background-color: #f4f4f4 !important;}”] \n❤️ Pre-requisites: \nCourse:\n\nNone\n\nCertification: \n\nSynchronizing the Body with Earth for Health\, Wealth and Happiness\nLight Key Intermediate Blueprint course-V3 (OR) Light Key Intermediate Blueprint -V4\nConscious and Prosperous healer – Basic (certification not required)\nMust have Certification of Joyous Body Protocol\nMust have Certification of Light Key Frequencies – Transformational processes for body\, life and beyond\n\n[/vc_column_text][vc_column_text css=”.vc_custom_1639036240297{margin-bottom: 10px !important;padding-top: 10px !important;padding-right: 10px !important;padding-bottom: 10px !important;padding-left: 10px !important;background-color: #f4f4f4 !important;}”] \n ❤️ Certification Criterion: \n\nPass a descriptive quiz with 60%.\n\n[/vc_column_text][vc_column_text css=”.vc_custom_1639036243455{padding-top: 10px !important;padding-right: 10px !important;padding-bottom: 10px !important;padding-left: 10px !important;background-color: #f4f4f4 !important;}”] \n❤️ Course Inclusion:  \n\nUser Manual.\nVideo and Audio Recordings.\n\n[/vc_column_text][/vc_column][vc_column width=”1/2″ css=”.vc_custom_1636547049981{margin-bottom: 10px !important;}”][vc_column_text css=”.vc_custom_1638272802068{margin-bottom: 10px !important;}”]❤️ Description: \n\nThe rustle of the leaves fall. It decomposes and reunites with the Earth as one. Underneath the Earth\, there’s a lifeforce of its own\, unknown to many. To many\, the soil may seem as dirt but there’s an intricate ecosystem of rest\, a process of rejuvenation and renewal. There’s a network of intelligence unseen and unknown to the naked eye. We are Earth\, we came from the Earth\, and we return to the Earth. It’s the cycle of death and birth\, endings and beginnings. \nThis class will connect you to the intelligence of the Earth. \nIn this class\, Nila will lead the group to connect\, receive and contribute to the planet and in turn enhance your human living on Earth – to live in health\, wealth and happiness. \n\n[/vc_column_text][vc_column_text css=”.vc_custom_1638803196687{margin-bottom: 10px !important;}”] \n\n\nDisclaimer: This is not meant to be a replacement for any professional help you may require.\nTerms: The experience of each individual varies and hence the outcome from this course cannot be guaranteed. Please buy only if you are willing to take responsibility for the outcome of the practices taught.\n\n[/vc_column_text][vc_column_text css=”.vc_custom_1638803208509{margin-bottom: 10px !important;}”]❤️ Here are some amazing shares from previous classes: \n\n“Synchronising the body with earth call” was amazing. I felt the vibrations so strong I had to go out for a walk even though it was raining and cold( I normally prefer to stay warm even if there is slightest of chillness). I kept repeating the words love you to all the trees on the path and also stood in the rain\, cold mud for couple of minutes bare foot – the feel was amazing. I repeated the light phrase too and had a good sleep! Thanks Nila for this wonderful call.” \n[/vc_column_text][vc_btn title=”REGISTER YOUR INTEREST” color=”primary” align=”center” i_icon_fontawesome=”fa fa-pencil” add_icon=”true” link=”url:https%3A%2F%2Finfinitehealing.co.uk%2Fsynchronizing-the-body-with-earth-for-health-wealth-and-happiness-registration%2F||target:%20_blank|” css=”.vc_custom_1637809842909{margin-bottom: 5px !important;}”][vc_separator css=”.vc_custom_1621236614421{margin-bottom: 8px !important;}”][vc_column_text css=”.vc_custom_1636546997914{margin-bottom: 10px !important;}”] \nPlease feel free to register and share with your family and friends. \nFor any queries/support\, please click here.\n[/vc_column_text][/vc_column][vc_column width=”1/4″ css=”.vc_custom_1637245811733{padding-top: 0px !important;padding-right: 8px !important;padding-bottom: 25px !important;padding-left: 8px !important;}”][vc_column_text css=”.vc_custom_1640683628984{margin-bottom: 10px !important;padding-top: 10px !important;padding-right: 10px !important;padding-bottom: 20px !important;padding-left: 10px !important;background-color: #f4f4f4 !important;}” el_class=”DSK-ev-ADDTOCRT”] \n\nYou can purchase the recordings of this call here:\nBuy Now\n\n[/vc_column_text][vc_column_text css=”.vc_custom_1640683621872{margin-bottom: 10px !important;padding-top: 10px !important;padding-right: 10px !important;padding-bottom: 20px !important;padding-left: 10px !important;background-color: #f4f4f4 !important;}” el_class=”hidden”] \n❤️ Cost:\nCourse without certification: \n$72Add to cartAdd to cart  Buy Now\nCertification: \n$42Add to cartAdd to cart  Buy Now\n[/vc_column_text][vc_column_text css=”.vc_custom_1640163095283{margin-bottom: 10px !important;background-color: #f4f4f4 !important;}” el_class=”hidden”] \n\n❤️ Discount info:\nIf you have attended/purchased “Synchronizing the Body with Earth for Health\, Wealth and Happiness”\, avail 50% discount to get upgraded to the course. Coupon code will be shared to you via email after 14-Dec-2021.\n\n[/vc_column_text][vc_column_text css=”.vc_custom_1637184753826{margin-bottom: 0px !important;padding-top: 10px !important;padding-right: 10px !important;padding-bottom: 10px !important;padding-left: 10px !important;background-color: #f4f4f4 !important;}”] \n❤️ INR Payment Option:  \nYou can make INR payment through Google Pay to the number  \n(After making the payment\, please inform your name and email id to the same number in WhatsApp or send the information to team@infinitehealing.co.uk)[/vc_column_text][/vc_column][/vc_row]
URL:https://infinitehealing.co.uk/event/synchronizing-the-body-with-earth-for-health-wealth-and-happiness/
CATEGORIES:Coaching,Spiritual Development
END:VEVENT
END:VCALENDAR