
BEGIN:VCALENDAR
VERSION:2.0
PRODID:-//Light Key Academy - ECPv6.15.3//NONSGML v1.0//EN
CALSCALE:GREGORIAN
METHOD:PUBLISH
X-ORIGINAL-URL:https://infinitehealing.co.uk
X-WR-CALDESC:Events for Light Key Academy
REFRESH-INTERVAL;VALUE=DURATION:PT1H
X-Robots-Tag:noindex
X-PUBLISHED-TTL:PT1H
BEGIN:VTIMEZONE
TZID:America/New_York
BEGIN:DAYLIGHT
TZOFFSETFROM:-0500
TZOFFSETTO:-0400
TZNAME:EDT
DTSTART:20220313T070000
END:DAYLIGHT
BEGIN:STANDARD
TZOFFSETFROM:-0400
TZOFFSETTO:-0500
TZNAME:EST
DTSTART:20221106T060000
END:STANDARD
END:VTIMEZONE
BEGIN:VEVENT
DTSTART;TZID=America/New_York:20220117T150000
DTEND;TZID=America/New_York:20220118T160000
DTSTAMP:20260420T185738
CREATED:20211215T180116Z
LAST-MODIFIED:20220119T152927Z
UID:87628-1642431600-1642521600@infinitehealing.co.uk
SUMMARY:Magic Circle
DESCRIPTION:[vc_row css=”.vc_custom_1636623632846{margin-bottom: 10px !important;}”][vc_column width=”1/2″ css=”.vc_custom_1636640422171{margin-bottom: 10px !important;}” el_class=”first-col”][vc_single_image image=”90126″ img_size=”585×585″ alignment=”center” css=”.vc_custom_1641811161663{margin-bottom: 5px !important;}”][vc_row_inner css=”.vc_custom_1636640388873{margin-bottom: 0px !important;}”][vc_column_inner el_class=”mrgn-btm-0″ width=”1/6″ css=”.vc_custom_1638878177960{margin-bottom: 0px !important;}”][/vc_column_inner][vc_column_inner el_class=”mrgn-btm-10″ width=”1/3″ css=”.vc_custom_1638878383870{margin-bottom: 0px !important;}”][vc_btn title=”Exciting Testimonials” color=”primary” align=”center” button_block=”true” link=”url:%23exciting-testimonials|||” css=”.vc_custom_1638878005926{margin-bottom: 0px !important;}” el_class=”registerNOW78521 evtquickOptsih”][/vc_column_inner][vc_column_inner el_class=”rgister-btn-sec mrgn-btm-0″ width=”1/3″ css=”.vc_custom_1638878316277{margin-bottom: 10px !important;}”][vc_btn title=”Know More” color=”primary” align=”center” button_block=”true” link=”url:%23des-section|||” css=”.vc_custom_1638878011438{margin-bottom: 0px !important;}” el_class=”registerNOW78521 evtquickOptsih”][/vc_column_inner][vc_column_inner el_class=”mrgn-btm-0″ width=”1/6″ css=”.vc_custom_1638878319397{margin-bottom: 0px !important;}”][/vc_column_inner][/vc_row_inner][/vc_column][vc_column width=”1/2″ el_id=”des-section”][vc_column_text el_id=”regis-from” css=”.vc_custom_1639585545384{margin-bottom: 10px !important;}”] \nMagic Circle (English)\n[/vc_column_text][vc_column_text css=”.vc_custom_1642588119260{margin-bottom: 10px !important;padding-top: 10px !important;padding-right: 2px !important;padding-bottom: 10px !important;padding-left: 2px !important;background-color: #f4f4f4 !important;}” el_class=”colorfulBg”] \nConscious and Prosperous Healer – Level 3 – 17th January 2022\n10:00 AM EST / 3:00 PM GMT / 5:00 PM Israel / 8:30 PM India / 2:00 AM AET (Next Day) \nDuration: 30 – 40 Minutes  (Click here to get the time for your time zone.) \n[/vc_column_text][vc_column_text css=”.vc_custom_1642588145403{margin-bottom: 10px !important;padding-top: 10px !important;padding-right: 2px !important;padding-bottom: 10px !important;padding-left: 2px !important;background-color: #f4f4f4 !important;}” el_class=”colorfulBg”] \nMedicine Buddha Healing – 18th January 2022\n10:00 AM EST / 3:00 PM GMT / 5:00 PM Israel / 8:30 PM India / 2:00 AM AET (Next Day) \nDuration: 30 – 40 Minutes  (Click here to get the time for your time zone.) \n[/vc_column_text][vc_column_text css=”.vc_custom_1639585516056{margin-bottom: 10px !important;padding-top: 10px !important;padding-right: 10px !important;padding-bottom: 10px !important;padding-left: 10px !important;background-color: #f4f4f4 !important;}”] \n❤️ Inclusion: \n\nAudio and Video Recordings.\n\n[/vc_column_text][vc_column_text css=”.vc_custom_1639747878615{margin-bottom: 10px !important;padding-top: 10px !important;padding-right: 10px !important;padding-bottom: 10px !important;padding-left: 10px !important;background-color: #f4f4f4 !important;}”] \n❤️ Pre-requisite:  \n\nLight Key Expert Healer (Certified).\n\n[/vc_column_text][vc_column_text css=”.vc_custom_1639750097037{margin-bottom: 10px !important;padding-top: 10px !important;padding-right: 10px !important;padding-bottom: 10px !important;padding-left: 10px !important;background-color: #f4f4f4 !important;}”] \n❤️Cost for Call 7 and Call 8: \n$96Add to cartAdd to cart  Buy Now\n[/vc_column_text][vc_column_text css=”.vc_custom_1638884785756{margin-bottom: 10px !important;padding-top: 5px !important;padding-right: 10px !important;padding-bottom: 2px !important;padding-left: 10px !important;background-color: #f4f4f4 !important;}”] \n❤️ INR Payment Option:\nYou can make INR payment through Google Pay to the number  \n(After making the payment\, please inform your name and email id to the same number in WhatsApp or send the information to team@infinitehealing.co.uk)[/vc_column_text][/vc_column][/vc_row][vc_row css=”.vc_custom_1636623632846{margin-bottom: 10px !important;}”][vc_column width=”1/2″ css=”.vc_custom_1638879837682{margin-bottom: 10px !important;}” el_class=”first-col”][vc_column_text css=”.vc_custom_1639749159846{margin-bottom: 10px !important;}”] \n❤️ Description: \nThese calls are exclusively for Expert Healers. \nIn these calls\, Nila will share new techniques which the expert healers can use for self help. The content of the class may be channeled live or come with/without class notes. \nThese calls will be converted to courses in the near future along with certification options and the participants of these calls can get upgraded to the courses for free or with discounts at that point. \nTopics may include:\n\nAdvanced Belief Clearing Protocol\nTimeless embodiment\nBeing at home in the body\nAscension Activation Protocol\nUnfreezing from time\nConscious relationship Level 1\nMagnetizing the body for attracting your desires\nWellness through conflict resolution\nLight Key breathing\nBeyond addiction and aversion to sex\nReceiving awareness through Golden Cube of Magic\nBeyond loss & grief\n\n[/vc_column_text][vc_column_text css=”.vc_custom_1639749176670{margin-bottom: 10px !important;padding-top: 10px !important;padding-right: 10px !important;padding-bottom: 10px !important;padding-left: 10px !important;background-color: #f4f4f4 !important;}”] \n❤️ Cost:\n$96 Buy Now If not yet purchased.\n[/vc_column_text][/vc_column][vc_column width=”1/2″][vc_single_image image=”68644″ img_size=”245×245″ alignment=”center” style=”vc_box_border_circle_2″][vc_column_text] \nNila is an international wellbeing coach who has been in this journey for more than 2 decades. She is also a medium\, channel\, author and entrepreneur. Her capacity with Money is well known – She has increased her company’s turnover by 17 times within 18 months; created multiple revenue streams out of nowhere; received windfall of money as if by magic etc. She is also known as ‘The magic lady. Nila has the knack of simplifying the laws of the universe through very simple techniques that are fun to practice. \n[/vc_column_text][/vc_column][/vc_row][vc_row full_width=”stretch_row” el_class=”discla-section-74904″][vc_column el_id=”exciting-testimonials”][vc_column_text css=”.vc_custom_1639749730281{margin-bottom: 10px !important;}”] \n\nDisclaimer: This is not meant to be a replacement for any professional help you may require.\nTerms: The experience of each individual varies and hence the outcome from this call cannot be guaranteed. Please buy only if you are willing to take responsibility for the outcome of the practices taught.\n\n[/vc_column_text][vc_column_text css=”.vc_custom_1639749256287{margin-bottom: 10px !important;}”]❤️ Here are some amazing share from previous call: \n“Yesterday I took magic circle calls for expert healers. As soon as I paid the amount the next moment I got double the amount from my client\, who paid for healing sessions. Magic of flowing GEF to my bank account Is showing up. I flow gef daily to my house\, my family\, bank accounts and every object in my house.” \n“Magical circle class on pain relief showed how much pain I was choosing to keep me away from my magical healing capabilities 😇😀” \n“Immense gratitude to Nila for the lovely keys and frequencies. Today they helped me to resolve a major issue … kept sending GEF and keys to the database issue we had today and it got resolved with ease now. Thank you so much Nila … love the keys and the frequencies and also the beautiful Golden cube of magic🙏😊” \n“Light key Frequency Class has personally helped me to grow in all aspects of my life. Using these Frequencies I m now able to manifest my desires of creating money for me but also has given me lot of clarity to work for the well being of others. It’s like a “MAGICAL WAND” for me now.” \n[/vc_column_text][vc_separator css=”.vc_custom_1621236614421{margin-bottom: 8px !important;}”][vc_btn title=”REGISTER YOUR INTEREST” color=”primary” align=”center” i_icon_fontawesome=”fa fa-pencil” add_icon=”true” link=”url:https%3A%2F%2Finfinitehealing.co.uk%2Fmagic-circle-call-7call8-registration%2F||target:%20_blank|” css=”.vc_custom_1639749786113{margin-bottom: 10px !important;}”][vc_column_text] \nPlease feel free to register and share with your family and friends. \nFor any queries/support\, please click here.\n[/vc_column_text][/vc_column][/vc_row]
URL:https://infinitehealing.co.uk/event/magic-circle-4/
CATEGORIES:Light key
END:VEVENT
END:VCALENDAR