
BEGIN:VCALENDAR
VERSION:2.0
PRODID:-//Light Key Academy - ECPv6.15.3//NONSGML v1.0//EN
CALSCALE:GREGORIAN
METHOD:PUBLISH
X-ORIGINAL-URL:https://infinitehealing.co.uk
X-WR-CALDESC:Events for Light Key Academy
REFRESH-INTERVAL;VALUE=DURATION:PT1H
X-Robots-Tag:noindex
X-PUBLISHED-TTL:PT1H
BEGIN:VTIMEZONE
TZID:America/New_York
BEGIN:DAYLIGHT
TZOFFSETFROM:-0500
TZOFFSETTO:-0400
TZNAME:EDT
DTSTART:20220313T070000
END:DAYLIGHT
BEGIN:STANDARD
TZOFFSETFROM:-0400
TZOFFSETTO:-0500
TZNAME:EST
DTSTART:20221106T060000
END:STANDARD
END:VTIMEZONE
BEGIN:VEVENT
DTSTART;TZID=America/New_York:20220120T150000
DTEND;TZID=America/New_York:20220120T160000
DTSTAMP:20260420T062141
CREATED:20211227T183506Z
LAST-MODIFIED:20220128T184407Z
UID:88614-1642690800-1642694400@infinitehealing.co.uk
SUMMARY:369 Breathing for Unlocking Possibilities
DESCRIPTION:[vc_row css=”.vc_custom_1636623632846{margin-bottom: 10px !important;}”][vc_column width=”1/2″ css=”.vc_custom_1636640422171{margin-bottom: 10px !important;}” el_class=”first-col”][vc_single_image image=”88724″ img_size=”full” alignment=”center” css=”.vc_custom_1640698268836{margin-bottom: 5px !important;}”][vc_row_inner css=”.vc_custom_1636640388873{margin-bottom: 0px !important;}”][vc_column_inner el_class=”mrgn-btm-0″ width=”1/6″ css=”.vc_custom_1638878177960{margin-bottom: 0px !important;}”][/vc_column_inner][vc_column_inner el_class=”mrgn-btm-10″ width=”1/3″ css=”.vc_custom_1638878383870{margin-bottom: 0px !important;}”][vc_btn title=”Exciting Testimonials” color=”primary” align=”center” button_block=”true” link=”url:%23exciting-testimonials|||” css=”.vc_custom_1638878005926{margin-bottom: 0px !important;}” el_class=”registerNOW78521 evtquickOptsih”][/vc_column_inner][vc_column_inner el_class=”rgister-btn-sec mrgn-btm-0″ width=”1/3″ css=”.vc_custom_1638878316277{margin-bottom: 10px !important;}”][vc_btn title=”Know More” color=”primary” align=”center” button_block=”true” link=”url:%23des-section|||” css=”.vc_custom_1638878011438{margin-bottom: 0px !important;}” el_class=”registerNOW78521 evtquickOptsih”][/vc_column_inner][vc_column_inner el_class=”mrgn-btm-0″ width=”1/6″ css=”.vc_custom_1638878319397{margin-bottom: 0px !important;}”][/vc_column_inner][/vc_row_inner][/vc_column][vc_column width=”1/2″ el_id=”des-section”][vc_column_text el_id=”regis-from” css=”.vc_custom_1640683261695{margin-bottom: 10px !important;}”] \n369 Breathing for Unlocking Possibilities (English)\n20th January 2022\n10:00 AM EST / 3:00 PM GMT / 5:00 PM Israel / 8:30 PM India / 2:00 AM AET (Next Day) \nDuration: 30 – 40 Minutes  (Click here to get the time for your time zone.) \n[/vc_column_text][vc_column_text css=”.vc_custom_1641197932096{margin-bottom: 10px !important;padding-top: 0px !important;padding-right: 0px !important;padding-bottom: 0px !important;padding-left: 0px !important;background-color: #f4f4f4 !important;}” el_class=”hidden”] \nBe an Early Bird & Avail $12 discounted price given below!\n*Offer expires on 2nd Jan 2022*\n[/vc_column_text][vc_column_text css=”.vc_custom_1641904069970{margin-bottom: 10px !important;padding-top: 0px !important;padding-right: 0px !important;padding-bottom: 0px !important;padding-left: 0px !important;background-color: #f4f4f4 !important;}”] \n\nBuy this Live call at a great discount when you choose a 5 in 1 package\n⭐ Limitless Life @ $168 $54 Buy Now or click here for more details.\n \n\n[/vc_column_text][vc_column_text css=”.vc_custom_1640611152548{margin-bottom: 10px !important;padding-top: 10px !important;padding-right: 10px !important;padding-bottom: 10px !important;padding-left: 10px !important;background-color: #f4f4f4 !important;}”] \n❤️ Inclusion: \n\nAudio and Video Recordings.\n\n[/vc_column_text][vc_column_text css=”.vc_custom_1640612297433{margin-bottom: 10px !important;padding-top: 10px !important;padding-right: 10px !important;padding-bottom: 10px !important;padding-left: 10px !important;background-color: #f4f4f4 !important;}”] \n❤️ Pre-requisite: \n\nNone.\n\n[/vc_column_text][vc_column_text css=”.vc_custom_1643012431749{margin-bottom: 10px !important;padding-top: 10px !important;padding-right: 10px !important;padding-bottom: 10px !important;padding-left: 10px !important;background-color: #f4f4f4 !important;}”] \n\nYou can purchase the recordings of this call here:\nBuy Now\n\n[/vc_column_text][vc_column_text css=”.vc_custom_1643012471737{margin-bottom: 10px !important;padding-top: 10px !important;padding-right: 10px !important;padding-bottom: 10px !important;padding-left: 10px !important;background-color: #f4f4f4 !important;}” el_class=”hidden”] \n❤️ Cost:\n$39Add to cartRead more  Buy Now\n[/vc_column_text][vc_column_text css=”.vc_custom_1638884785756{margin-bottom: 10px !important;padding-top: 5px !important;padding-right: 10px !important;padding-bottom: 2px !important;padding-left: 10px !important;background-color: #f4f4f4 !important;}”] \n❤️ INR Payment Option:\nYou can make INR payment through Google Pay to the number  \n(After making the payment\, please inform your name and email id to the same number in WhatsApp or send the information to team@infinitehealing.co.uk)[/vc_column_text][/vc_column][/vc_row][vc_row css=”.vc_custom_1636623632846{margin-bottom: 10px !important;}”][vc_column width=”1/2″ css=”.vc_custom_1638879837682{margin-bottom: 10px !important;}” el_class=”first-col”][vc_column_text css=”.vc_custom_1640683463895{margin-bottom: 10px !important;}”]❤️ Description:  \n\nBreath gives life. The number 369 has a magical quality to connect you to the universe. What magic can unfold when you combine these two together? \nNila will be teaching you a breathing technique that will unlock the infinite possibilities that are available in the universe. This will also be an experiential call where you will be practicing the technique with the group. \nAccording to Nila\, Group work exponentializes the outcome. \nPotential benefits:\n1) Dissolving energy blocks in the body\, mind and spirit.\n2) Deep relaxation.\n3) Expanded awareness to possibilities.\n4) Courage to follow up on intuition.\n5) Trusting the universe. \n\n[/vc_column_text][vc_column_text css=”.vc_custom_1643013704041{margin-bottom: 10px !important;padding-top: 10px !important;padding-right: 10px !important;padding-bottom: 10px !important;padding-left: 10px !important;background-color: #f4f4f4 !important;}” el_class=”hidden”] \n❤️ Cost:\n$39 Buy Now If not yet purchased.\n[/vc_column_text][vc_column_text css=”.vc_custom_1640611783042{margin-bottom: 10px !important;}”] \n\n\nDisclaimer: This is not meant to be a replacement for any professional help you may require.\nTerms: The experience of each individual varies and hence the outcome from this call cannot be guaranteed. Please register only if you are willing to take responsibility for the outcome of the practices taught.\n\n[/vc_column_text][/vc_column][vc_column width=”1/2″][vc_single_image image=”68644″ img_size=”245×245″ alignment=”center” style=”vc_box_border_circle_2″][vc_column_text] \nNila is an international wellbeing coach who has been in this journey for more than 2 decades. She is also a medium\, channel\, author and entrepreneur. Her capacity with Money is well known – She has increased her company’s turnover by 17 times within 18 months; created multiple revenue streams out of nowhere; received windfall of money as if by magic etc. She is also known as ‘The magic lady. Nila has the knack of simplifying the laws of the universe through very simple techniques that are fun to practice. \n[/vc_column_text][/vc_column][/vc_row][vc_row full_width=”stretch_row” el_class=”discla-section-74904″][vc_column el_id=”exciting-testimonials”][vc_column_text css=”.vc_custom_1643376958065{margin-bottom: 10px !important;}”]❤️ Here are some amazing shares: \n“Thank you Nila for 369 blessings. Just saw the mail. I was running grace audio today😊 feeling more energetic happy for no reason ❤️❤️” \n“It was wonderful experience today…I could only visualize Flow key while Nila asked to keep breathe through…it’s like a flow of breath…🤗🤗✨✨✨” \n[/vc_column_text][vc_separator css=”.vc_custom_1621236614421{margin-bottom: 8px !important;}”][vc_btn title=”REGISTER YOUR INTEREST” color=”primary” align=”center” i_icon_fontawesome=”fa fa-pencil” add_icon=”true” link=”url:https%3A%2F%2Finfinitehealing.co.uk%2F369-breathing-for-unlocking-possibilities-registration%2F||target:%20_blank|” css=”.vc_custom_1643377443682{margin-bottom: 10px !important;}” el_class=”hidden”][vc_column_text] \nPlease feel free to register and share with your family and friends. \nFor any queries/support\, please click here.\n[/vc_column_text][/vc_column][/vc_row]
URL:https://infinitehealing.co.uk/event/369-breathing-for-unlocking-possibilities/
CATEGORIES:Health,Wellness
END:VEVENT
END:VCALENDAR