
BEGIN:VCALENDAR
VERSION:2.0
PRODID:-//Light Key Academy - ECPv6.15.3//NONSGML v1.0//EN
CALSCALE:GREGORIAN
METHOD:PUBLISH
X-ORIGINAL-URL:https://infinitehealing.co.uk
X-WR-CALDESC:Events for Light Key Academy
REFRESH-INTERVAL;VALUE=DURATION:PT1H
X-Robots-Tag:noindex
X-PUBLISHED-TTL:PT1H
BEGIN:VTIMEZONE
TZID:America/New_York
BEGIN:DAYLIGHT
TZOFFSETFROM:-0500
TZOFFSETTO:-0400
TZNAME:EDT
DTSTART:20220313T070000
END:DAYLIGHT
BEGIN:STANDARD
TZOFFSETFROM:-0400
TZOFFSETTO:-0500
TZNAME:EST
DTSTART:20221106T060000
END:STANDARD
END:VTIMEZONE
BEGIN:VEVENT
DTSTART;TZID=America/New_York:20220216T080000
DTEND;TZID=America/New_York:20220216T100000
DTSTAMP:20260421T082254
CREATED:20220208T124116Z
LAST-MODIFIED:20220210T134458Z
UID:92826-1644998400-1645005600@infinitehealing.co.uk
SUMMARY:Light Key Intermediate Blueprint Course For Life and Beyond—V4 — Hebrew
DESCRIPTION:[vc_row css=”.vc_custom_1643981182427{margin-bottom: 2px !important;}”][vc_column width=”1/2″ css=”.vc_custom_1636640422171{margin-bottom: 10px !important;}” el_class=”first-col”][vc_single_image image=”92837″ img_size=”full” alignment=”center” css=”.vc_custom_1644329380719{margin-top: 20px !important;margin-bottom: 5px !important;}”][vc_row_inner css=”.vc_custom_1640363144187{margin-bottom: 10px !important;}”][vc_column_inner el_class=”mrgn-btm-0″ width=”1/6″ css=”.vc_custom_1638878177960{margin-bottom: 0px !important;}”][/vc_column_inner][vc_column_inner el_class=”mrgn-btm-10″ width=”1/3″ css=”.vc_custom_1638878383870{margin-bottom: 0px !important;}”][vc_btn title=”Exciting Testimonials” color=”primary” align=”center” button_block=”true” link=”url:%23exist-testimonials|||” css=”.vc_custom_1643978417410{margin-bottom: 0px !important;}” el_class=”registerNOW78521 evtquickOptsih”][/vc_column_inner][vc_column_inner el_class=”rgister-btn-sec mrgn-btm-0″ width=”1/3″ css=”.vc_custom_1638878316277{margin-bottom: 10px !important;}”][vc_btn title=”Know More” color=”primary” align=”center” button_block=”true” link=”url:%23des-section|||” css=”.vc_custom_1638878011438{margin-bottom: 0px !important;}” el_class=”registerNOW78521 evtquickOptsih”][/vc_column_inner][vc_column_inner el_class=”mrgn-btm-0″ width=”1/6″ css=”.vc_custom_1638878319397{margin-bottom: 0px !important;}”][/vc_column_inner][/vc_row_inner][/vc_column][vc_column width=”1/2″ el_id=”des-section” css=”.vc_custom_1640350355209{padding-right: 0px !important;padding-left: 0px !important;}”][vc_column_text el_id=”regis-from” css=”.vc_custom_1644400457896{margin-bottom: 10px !important;padding-right: 10px !important;padding-left: 0px !important;}”] \nLight Key Intermediate Blueprint Course For Life and Beyond-V4 (Hebrew)\n16th February 2022\n10:00 AM Israel / 3:00 AM EST / 8:00 AM GMT / 1:30 PM India / 7:00 PM AET \nDuration: 2 Hours  (Click here to get the time for your time zone.) \n[/vc_column_text][vc_column_text css=”.vc_custom_1644400488657{margin-bottom: 10px !important;padding-top: 10px !important;padding-right: 10px !important;padding-bottom: 10px !important;padding-left: 10px !important;background-color: #f4f4f4 !important;}”] \n❤️ Course Inclusion: \n\nUser Manual.\nAudio and Video Recordings.\n\n❤️ Cost:\n$153Add to cartAdd to cart  Buy Now\n❤️ Course Pre-requisite: \n\nBasic Light Key Blueprint Course for Life and Beyond!\n\n[/vc_column_text][vc_column_text css=”.vc_custom_1644326818555{margin-bottom: 10px !important;padding-top: 0px !important;padding-right: 0px !important;padding-bottom: 0px !important;padding-left: 0px !important;background-color: #f4f4f4 !important;}”] \n\n❤️ Discount info:\n\nIf you are a repeater you are eligible for 50% Discount. Please write to team@infinitehealing.com to claim your discount coupon.\n\nNote: Offer expires after the class.\n\n[/vc_column_text][vc_column_text css=”.vc_custom_1640359881629{margin-bottom: 10px !important;padding-top: 5px !important;padding-right: 10px !important;padding-bottom: 2px !important;padding-left: 10px !important;background-color: #f4f4f4 !important;}”] \n❤️ INR Payment Option:\nYou can make INR payment through Google Pay to the number  \n(After making the payment\, please inform your name and email id to the same number in WhatsApp or send the information to team@infinitehealing.co.uk)[/vc_column_text][/vc_column][/vc_row][vc_row css=”.vc_custom_1636623632846{margin-bottom: 10px !important;}”][vc_column width=”1/2″ css=”.vc_custom_1636640422171{margin-bottom: 10px !important;}” el_class=”first-col”][vc_column_text css=”.vc_custom_1644326313740{margin-bottom: 10px !important;}”] \n❤️ Description: \nHow has been your experience with Basic Light Keys? Are you enjoying practicing them? Are you curious what more? Well\, if you are one of them who loves to delve into more adventures of life\, here is more of the treasure of Light – just for you!\nThis course has evolved during the months and includes further practices such as:\n\nProsperity Keys\nLife Key\nHealth Key\nFame Key\nExpansion Key\nLove Keys\nMastery and Kindness Process\nLight Key experience to remove stuck energy within body/organs\nExperiencing the Keys\n\nThese simple but amazing Light Keys and processes will bring in more light and expansion into specific areas for which they are designed and empower you to lead a happy and thriving life. Light Key System is growing and expanding faster and Nila is receiving more and more downloads and information.\nIn this upgraded version (V4)\, you will be learning the ‘JOY’ & ‘FLOW’ Keys! How magical would it be to be the vibration of Joy and create magical flow in your life with these light keys!\n❤️ Benefits:\n\nEnhance your awareness to enrich your daily life\nAccess the space of clarity and calm\nDevelop the strength to embrace all of you\nExpand and grow in all aspects of life and achieve mastery of your life\n\n[/vc_column_text][vc_column_text css=”.vc_custom_1644331960100{margin-bottom: 10px !important;padding-top: 10px !important;padding-right: 10px !important;padding-bottom: 10px !important;padding-left: 10px !important;background-color: #f4f4f4 !important;}”] \n❤️ Cost:\n $153 Buy Now if not yet purchased.\n[/vc_column_text][/vc_column][vc_column width=”1/2″ css=”.vc_custom_1640350355209{padding-right: 0px !important;padding-left: 0px !important;}”][vc_single_image image=”89591″ img_size=”245×245″ alignment=”center” style=”vc_box_border_circle_2″ css=”.vc_custom_1644326683298{margin-bottom: 10px !important;}”][vc_column_text] \n❤️ Your Facilitator: Tagit\nEmail: tagitsdance@gmail.com\nPhone: +972 54-731-9757\n[/vc_column_text][/vc_column][/vc_row][vc_row full_width=”stretch_row” el_class=”discla-section-74904″][vc_column el_id=”exciting-testimonials”][vc_column_text css=”.vc_custom_1643978439139{margin-bottom: 10px !important;padding-top: 10px !important;padding-right: 10px !important;padding-bottom: 10px !important;padding-left: 10px !important;background-color: #f4f4f4 !important;}” el_id=”exist-testimonials”] \n\nDisclaimer: This is not meant to be a replacement for any professional help you may require.\nTerms: The experience of each individual varies and hence the outcome from this class cannot be guaranteed. Please register only if you are willing to take responsibility for the outcome of the practices taught.\n[/vc_column_text][vc_column_text css=”.vc_custom_1644326549036{margin-bottom: 10px !important;}”]❤️ Here are some amazing shares from previous classes: \n\n“I feel so energized and feelings of bliss… just from practicing after the blue print seminar❤️ Thank you @Tagit IHF @Nila IH“\n\n[/vc_column_text][vc_separator css=”.vc_custom_1621236614421{margin-bottom: 8px !important;}”][vc_btn title=”REGISTER YOUR INTEREST” color=”primary” align=”center” i_icon_fontawesome=”fa fa-pencil” add_icon=”true” link=”url:https%3A%2F%2Finfinitehealing.co.uk%2Flight-key-intermediate-blueprint-course-for-life-and-beyond-v4hebrew-registration%2F||target:%20_blank|” css=”.vc_custom_1644332250887{margin-bottom: 10px !important;}”][vc_column_text] \nPlease feel free to register and share with your family and friends. \nFor any queries/support\, please click here.\n[/vc_column_text][/vc_column][/vc_row]
URL:https://infinitehealing.co.uk/event/light-key-intermediate-blueprint-course-for-life-and-beyond-v4-hebrew/
CATEGORIES:Light key
END:VEVENT
END:VCALENDAR