
BEGIN:VCALENDAR
VERSION:2.0
PRODID:-//Light Key Academy - ECPv6.15.3//NONSGML v1.0//EN
CALSCALE:GREGORIAN
METHOD:PUBLISH
X-ORIGINAL-URL:https://infinitehealing.co.uk
X-WR-CALDESC:Events for Light Key Academy
REFRESH-INTERVAL;VALUE=DURATION:PT1H
X-Robots-Tag:noindex
X-PUBLISHED-TTL:PT1H
BEGIN:VTIMEZONE
TZID:America/New_York
BEGIN:DAYLIGHT
TZOFFSETFROM:-0500
TZOFFSETTO:-0400
TZNAME:EDT
DTSTART:20220313T070000
END:DAYLIGHT
BEGIN:STANDARD
TZOFFSETFROM:-0400
TZOFFSETTO:-0500
TZNAME:EST
DTSTART:20221106T060000
END:STANDARD
END:VTIMEZONE
BEGIN:VEVENT
DTSTART;TZID=America/New_York:20220312T140000
DTEND;TZID=America/New_York:20220312T163000
DTSTAMP:20260419T090806
CREATED:20220301T103440Z
LAST-MODIFIED:20220413T100355Z
UID:93756-1647093600-1647102600@infinitehealing.co.uk
SUMMARY:Light Key Frequencies and Protocol for Attracting Money
DESCRIPTION:[vc_row css=”.vc_custom_1643981182427{margin-bottom: 2px !important;}”][vc_column css=”.vc_custom_1646222981569{margin-bottom: 0px !important;}” el_class=”first-col”][vc_single_image image=”93866″ img_size=”full” alignment=”center” css=”.vc_custom_1646226602548{margin-top: 20px !important;margin-bottom: 10px !important;}” el_class=”DSK-ev-ADDTOCRT”][vc_single_image image=”93883″ img_size=”full” alignment=”center” css=”.vc_custom_1646226592487{margin-top: 20px !important;margin-bottom: 10px !important;}” el_class=”mob-ev-ADDTOCRT”][/vc_column][/vc_row][vc_row css=”.vc_custom_1643981182427{margin-bottom: 2px !important;}”][vc_column width=”1/2″][vc_column_text css=”.vc_custom_1648046273727{margin-bottom: 5px !important;padding-top: 10px !important;padding-right: 10px !important;padding-bottom: 10px !important;padding-left: 10px !important;background-color: #f4f4f4 !important;}” el_class=”fam-main-container”] \nBasic Light Key Frequencies (Certified)\n9:00 AM EST / 2:00 PM GMT / 4:00 PM Israel / 7:30 PM India / 1:00 AM AET (Next Day) \nDuration: 1 – 1.5 Hrs  (Click here to get the time for your time zone.) \nPre-requisite: None. \n❤️ You can purchase the recordings of this class here:Buy Now\n[/vc_column_text][/vc_column][vc_column width=”1/2″ css=”.vc_custom_1636640422171{margin-bottom: 10px !important;}” el_class=”first-col”][vc_column_text css=”.vc_custom_1649844230441{margin-bottom: 5px !important;padding-top: 10px !important;padding-right: 10px !important;padding-bottom: 10px !important;padding-left: 10px !important;background-color: #f4f4f4 !important;}” el_class=”fam-main-container”] \nLight Key Protocol for Attracting Money\n10:30 AM EST / 3:30 PM GMT / 5:30 PM Israel / 09:00 PM India / 2:30 AM AET (Next Day) \nDuration: 45 – 60 Mins  (Click here to get the time for your time zone.) \nPre-requisite: Basic Light Key Frequencies. \n❤️ You can purchase the recordings of this class here:Buy Now\n[/vc_column_text][/vc_column][/vc_row][vc_row disable_element=”yes” css=”.vc_custom_1649843781637{margin-bottom: 2px !important;}”][vc_column css=”.vc_custom_1646222947969{margin-bottom: 0px !important;}” el_class=”first-col”][vc_column_text css=”.vc_custom_1646145828342{margin-bottom: 10px !important;padding-top: 10px !important;padding-right: 10px !important;padding-bottom: 10px !important;padding-left: 10px !important;background-color: #f4f4f4 !important;}”] \n❤️ Buy both calls and save $12 $144 Original price was: $144.$132Current price is: $132.Add to cartAdd to cart  Buy Now\n[/vc_column_text][/vc_column][/vc_row][vc_row css=”.vc_custom_1643981182427{margin-bottom: 2px !important;}”][vc_column width=”1/2″][vc_column_text css=”.vc_custom_1646214933860{margin-bottom: 10px !important;}”] \n❤️ Description: \n\nBasic Light Key frequencies also known as Light Key Frequencies – Transformational processes for body\, life and beyond is a certified course.\nDid you know you can tune into certain frequencies of the universe to create a great shift in your body\, life and being?\nIn this class\, you will learn how to tune into three such frequencies and how to apply them on yourself and others.\nGolden Earth frequency: Helps you build a fulfilling\, joyful and abundant life here on earth.\nUniversal kindness frequency: Helps you create peace\, harmony\, and possibilities.\nRainbow Ray frequency: Helps you clear limiting beliefs\, energy blocks and old contracts.\nIf you are an aspiring healer\, this would a good one to start your journey with. If you are an experienced healer\, this will add much more ease and efficiency into your sessions.\n\n[/vc_column_text][vc_column_text css=”.vc_custom_1646215304229{margin-bottom: 15px !important;padding-top: 10px !important;padding-right: 10px !important;padding-bottom: 10px !important;padding-left: 10px !important;background-color: #f4f4f4 !important;}”] \n❤️ Course Inclusion: \n\nUser Manual.\nAudio and Video Recordings.\nCertification (After passing a descriptive Quiz).\n\n[/vc_column_text][vc_column_text css=”.vc_custom_1646215313134{margin-bottom: 15px !important;padding-top: 10px !important;padding-right: 10px !important;padding-bottom: 10px !important;padding-left: 10px !important;background-color: #f4f4f4 !important;}”] \nIf you like to practise this protocol on your clients\, get certified.\n❤️ Certification criterion: \n\nPass a descriptive quiz with 60%.\n\n[/vc_column_text][vc_single_image image=”68644″ img_size=”215×215″ alignment=”center” style=”vc_box_border_circle_2″ css=”.vc_custom_1646215384171{margin-bottom: 10px !important;}”][vc_column_text css=”.vc_custom_1646215582073{margin-bottom: 5px !important;}”]Nila is an international wellbeing coach who has been in this journey for more than 2 decades. She is also a medium\, channel\, author and entrepreneur. Her capacity with Money is well known – She has increased her company’s turnover by 17 times within 18 months; created multiple revenue streams out of nowhere; received windfall of money as if by magic etc. She is also known as ‘The magic lady. Nila has the knack of simplifying the laws of the universe through very simple techniques that are fun to practice.[/vc_column_text][/vc_column][vc_column width=”1/2″ css=”.vc_custom_1646222993751{margin-bottom: 10px !important;}” el_class=”first-col”][vc_column_text css=”.vc_custom_1646209269089{margin-bottom: 10px !important;}”] \n❤️ Description: \n\nWould you like to call upon the magical Light Key frequencies to support you financially?\nIn this simple protocol you will learn how to harmonize your relationship with money by releasing resistances to money flow.\nThis protocol will also help you to create a non-judgemental space for money to come into your life with ease.\nPotential Benefits:\n\nHarmonizing the relationship with money.\nRelease stagnancy in your finances.\nCreate desirable money flow.\n\n\n[/vc_column_text][vc_column_text css=”.vc_custom_1646215333035{margin-bottom: 15px !important;padding-top: 10px !important;padding-right: 10px !important;padding-bottom: 10px !important;padding-left: 10px !important;background-color: #f4f4f4 !important;}”] \n❤️ Course Inclusion: \n\nUser Manual.\nAudio and Video Recordings.\n\n[/vc_column_text][vc_column_text css=”.vc_custom_1646215345892{margin-bottom: 15px !important;padding-top: 10px !important;padding-right: 10px !important;padding-bottom: 10px !important;padding-left: 10px !important;background-color: #f4f4f4 !important;}”] \nIf you like to practise this protocol on your clients\, get certified.\n❤️ Certification criterion: \n\nPassing a descriptive quiz with 60%.\n\n❤️ Certification Pre-requisites: \n\nLight Key Frequencies for Limitless Reality (OR) Light Key Frequencies and Vortices for Limitless Reality\nBasic Light Key Blueprint Course for Life and Beyond!\nCertification of Conscious and Prosperous Healer Basic with certification\n\n❤️ Certification Cost:\n$42Add to cartAdd to cart  Buy Now\n[/vc_column_text][/vc_column][/vc_row][vc_row full_width=”stretch_row” el_class=”discla-section-74904″][vc_column el_id=”exciting-testimonials”][vc_column_text css=”.vc_custom_1643978439139{margin-bottom: 10px !important;padding-top: 10px !important;padding-right: 10px !important;padding-bottom: 10px !important;padding-left: 10px !important;background-color: #f4f4f4 !important;}” el_id=”exist-testimonials”] \n\nDisclaimer: This is not meant to be a replacement for any professional help you may require.\nTerms: The experience of each individual varies and hence the outcome from this class cannot be guaranteed. Please register only if you are willing to take responsibility for the outcome of the practices taught.\n[/vc_column_text][vc_column_text css=”.vc_custom_1640359881629{margin-bottom: 10px !important;padding-top: 5px !important;padding-right: 10px !important;padding-bottom: 2px !important;padding-left: 10px !important;background-color: #f4f4f4 !important;}”] \n❤️ INR Payment Option:\nYou can make INR payment through Google Pay to the number  \n(After making the payment\, please inform your name and email id to the same number in WhatsApp or send the information to team@infinitehealing.co.uk)[/vc_column_text][vc_column_text css=”.vc_custom_1646130420344{margin-bottom: 10px !important;}”] \n❤️ Here are some amazing shares from previous classes:\n\n“ I use frequencies to create peace in my office situations\,I had to attend meeting with chairman since my boss was absent\, we needed to deliver news that wasn’t matching to his expectations\, I did my work before meeting. It went smooth he accepted easily and meeting got over in 15min without unpleasant discussions 😀. Light key frequencies are magical indeed 😍“\n\n\n“I realised I was following and giving significance to following structure in a particular project. I also realised following structure was making me stiff. I flowed frequencies to it and asked to help me come out of structure as I was doing much better free flowing. And when my chance came to perform\, I did it completely forgetting about the how’s and got a great round of applause💃🏼💃🏼💃🏼💃🏼”\n\n\n“Consistently second time I watched magic of GEF. The water purifier has been under two repairs in last 4/5 days and today it stopped working out of nowhere. I requested GEF to help her and voila: my mil said the purifier started working all of a sudden. ❤️❤️ The geyser in my room wasn’t working\, and it started working after running this magical frequency. Hdigabtt? WEIP?””\n\n[/vc_column_text][vc_separator css=”.vc_custom_1621236614421{margin-bottom: 8px !important;}”][vc_btn title=”REGISTER YOUR INTEREST” color=”primary” align=”center” i_icon_fontawesome=”fa fa-pencil” add_icon=”true” link=”|||” css=”.vc_custom_1645784745623{margin-bottom: 10px !important;}” el_class=”event_registration NEWERIH”][vc_column_text] \n\nPlease feel free to register and share with your family and friends. \nFor any queries/support\, please click here.\n[/vc_column_text][/vc_column][/vc_row]
URL:https://infinitehealing.co.uk/event/light-key-frequencies-attracting-money/
CATEGORIES:Light key,Money
END:VEVENT
END:VCALENDAR