
BEGIN:VCALENDAR
VERSION:2.0
PRODID:-//Light Key Academy - ECPv6.15.3//NONSGML v1.0//EN
CALSCALE:GREGORIAN
METHOD:PUBLISH
X-WR-CALNAME:Light Key Academy
X-ORIGINAL-URL:https://infinitehealing.co.uk
X-WR-CALDESC:Events for Light Key Academy
REFRESH-INTERVAL;VALUE=DURATION:PT1H
X-Robots-Tag:noindex
X-PUBLISHED-TTL:PT1H
BEGIN:VTIMEZONE
TZID:America/New_York
BEGIN:DAYLIGHT
TZOFFSETFROM:-0500
TZOFFSETTO:-0400
TZNAME:EDT
DTSTART:20220313T070000
END:DAYLIGHT
BEGIN:STANDARD
TZOFFSETFROM:-0400
TZOFFSETTO:-0500
TZNAME:EST
DTSTART:20221106T060000
END:STANDARD
END:VTIMEZONE
BEGIN:VEVENT
DTSTART;TZID=America/New_York:20220422T140000
DTEND;TZID=America/New_York:20220422T150000
DTSTAMP:20260421T082108
CREATED:20220401T142951Z
LAST-MODIFIED:20240124T131726Z
UID:94960-1650636000-1650639600@infinitehealing.co.uk
SUMMARY:Free Light Key Experience
DESCRIPTION:[vc_row css=”.vc_custom_1636623632846{margin-bottom: 10px !important;}”][vc_column width=”1/2″ css=”.vc_custom_1636640422171{margin-bottom: 10px !important;}” el_class=”first-col”][vc_single_image image=”91072″ img_size=”full” alignment=”center” css=”.vc_custom_1643633390579{margin-bottom: 3px !important;}”][/vc_column][vc_column width=”1/2″][vc_column_text el_id=”regis-from” css=”.vc_custom_1706102233981{margin-bottom: 5px !important;}” el_class=”hidden”] \nFree Light Key Experience\nEnglish\n22nd April 2022\n10:00 AM EST / 3:00 PM GMT / 5:00 PM Israel / 7:30 PM India / 12:00 AM AET (Next Day) \nDuration: 40 – 60 Mins  (Click here to get the time for your time zone.) \nRegister here to get the zoom link to join this call\n[/vc_column_text][vc_column_text css=”.vc_custom_1706102241987{margin-bottom: 5px !important;}”] \nFree Light Key Experience\nEnglish\n22nd April 2022\n10:00 AM EST / 3:00 PM GMT / 5:00 PM Israel / 7:30 PM India / 12:00 AM AET (Next Day) \nDuration: 40 – 60 Mins  (Click here to get the time for your time zone.) \n[/vc_column_text][vc_column_text css=”.vc_custom_1643884639953{margin-bottom: 10px !important;padding-top: 0px !important;padding-right: 0px !important;padding-bottom: 0px !important;padding-left: 0px !important;}”] \n[/vc_column_text][vc_row_inner css=”.vc_custom_1706102219739{margin-bottom: 10px !important;}” el_class=”hidden”][vc_column_inner el_class=”DSK-ev-ADDTOCRT” width=”1/6″ css=”.vc_custom_1643636155266{margin-bottom: 0px !important;}”][/vc_column_inner][vc_column_inner width=”2/3″][vc_btn title=”Register Now” color=”primary” align=”center” button_block=”true” link=”|||” css=”.vc_custom_1649674862927{margin-bottom: 0px !important;}” el_class=”event_registration”][/vc_column_inner][vc_column_inner width=”1/6″][/vc_column_inner][/vc_row_inner][vc_row_inner disable_element=”yes” css=”.vc_custom_1649673846948{margin-bottom: 0px !important;}”][vc_column_inner el_class=”DSK-ev-ADDTOCRT” width=”1/6″ css=”.vc_custom_1643636155266{margin-bottom: 0px !important;}”][/vc_column_inner][vc_column_inner el_class=”rgister-btn-sec mrgn-btm-0″ width=”2/3″ css=”.vc_custom_1643636349813{margin-bottom: 10px !important;}”][vc_btn title=”Join Live – FREE*” color=”primary” align=”center” button_block=”true” link=”url:https%3A%2F%2Fus02web.zoom.us%2Fj%2F82570108539%3Fpwd%3DdUEzZlZJL1lHZmhTRGdNUEtwL0N1dz09||target:%20_blank|” css=”.vc_custom_1648824465032{margin-bottom: 0px !important;}” el_class=”registerNOW78521″][/vc_column_inner][vc_column_inner el_class=”DSK-ev-ADDTOCRT” width=”1/6″ css=”.vc_custom_1643636100618{margin-bottom: 0px !important;}”][/vc_column_inner][/vc_row_inner][vc_column_text css=”.vc_custom_1649673853991{margin-bottom: 10px !important;padding-top: 10px !important;padding-right: 10px !important;padding-bottom: 10px !important;padding-left: 10px !important;}” el_class=”hidden”] \nMeeting ID: 825 7010 8539\nPasscode: 016802\n[/vc_column_text][vc_single_image image=”94968″ img_size=”245×245″ alignment=”center” style=”vc_box_border_circle_2″ css=”.vc_custom_1648824313709{margin-bottom: 10px !important;}”][vc_column_text] \n❤️ Your Host: Vijaya Subramaniam\nEmail: viniitraa@gmail.com\nPhone: +60122345832\n[/vc_column_text][/vc_column][/vc_row][vc_row css=”.vc_custom_1643631531563{margin-bottom: 5px !important;}”][vc_column][vc_column_text css=”.vc_custom_1648824083685{margin-bottom: 10px !important;}”]❤️ Description:  \n\nHave you been too busy to take care of yourself? Are you experiencing any physical\, emotional or mental stress?\nYou may say that you’re too busy to take care of yourself because of demands at work or at home\, but if you don’t show you some kindness\, who will?\nWould you like to learn some simple and easy self-care techniques to heal your body\, mind and spirit? These techniques do not take much time to practice and you can do it any time and anywhere.\nPeople have experienced massive shifts in a matter of minutes using these techniques.\nJoin the call live to learn these healing techniques from Nila\, the founder of Light Key Wellness System – Absolutely free! No need to even register!\nWould you be willing to invest a few minutes for your wellbeing?\n\n[/vc_column_text][vc_column_text css=”.vc_custom_1648824603505{margin-bottom: 10px !important;padding-top: 10px !important;padding-right: 10px !important;padding-bottom: 10px !important;padding-left: 10px !important;background-color: #f4f4f4 !important;}”] \n\n\nDisclaimer: This is not meant to be a replacement for any professional help you may require.\nTerms: The experience of each individual varies and hence the outcome from this class cannot be guaranteed. Please register only if you are willing to take responsibility for the outcome of the practices taught.\n\n[/vc_column_text][/vc_column][/vc_row][vc_row][vc_column][vc_column_text css=”.vc_custom_1648824726874{margin-bottom: 5px !important;}”] \n❤️ Here are some amazing shares:\n\n“Heaviness absolutely gone\, thank you!?✨\,It brought a balance to my entire system” “Thank you for allowing me to experience these tools ?”\n\n\n“In deep deep Gratitude with open heart for Kindness@ Nila. ? Thank you so much bringing Magic to our life and recognizing and encouraging each one of us for our share. I mean it feels very expansive. Thank you. I mean I ran out words. ❤️✨✨✨✨ Loads of love and blessings sending your way.”\n\n\n\n“immense gratitude to you Nila … a stuck situation changed dramatically this week… thank you for the magic of Kindness keys and your blessings… immense gratitude to you!!”\n\n\n\n“Thank you so much for the awsomest meditation journey we did today. Future seems so bright and promising ????”\n\n[/vc_column_text][vc_separator css=”.vc_custom_1621236614421{margin-bottom: 8px !important;}”][vc_column_text] \nFor any queries/support\, please click here.\n[/vc_column_text][/vc_column][/vc_row]
URL:https://infinitehealing.co.uk/event/free-light-key-experience-3/
CATEGORIES:Light key
END:VEVENT
END:VCALENDAR