
BEGIN:VCALENDAR
VERSION:2.0
PRODID:-//Light Key Academy - ECPv6.15.3//NONSGML v1.0//EN
CALSCALE:GREGORIAN
METHOD:PUBLISH
X-WR-CALNAME:Light Key Academy
X-ORIGINAL-URL:https://infinitehealing.co.uk
X-WR-CALDESC:Events for Light Key Academy
REFRESH-INTERVAL;VALUE=DURATION:PT1H
X-Robots-Tag:noindex
X-PUBLISHED-TTL:PT1H
BEGIN:VTIMEZONE
TZID:America/New_York
BEGIN:DAYLIGHT
TZOFFSETFROM:-0500
TZOFFSETTO:-0400
TZNAME:EDT
DTSTART:20220313T070000
END:DAYLIGHT
BEGIN:STANDARD
TZOFFSETFROM:-0400
TZOFFSETTO:-0500
TZNAME:EST
DTSTART:20221106T060000
END:STANDARD
END:VTIMEZONE
BEGIN:VEVENT
DTSTART;TZID=America/New_York:20220428T133000
DTEND;TZID=America/New_York:20220428T140000
DTSTAMP:20260421T145056
CREATED:20220412T093159Z
LAST-MODIFIED:20220506T122022Z
UID:95140-1651152600-1651154400@infinitehealing.co.uk
SUMMARY:Vortex Of Light Meditation For Manifesting Desires
DESCRIPTION:[vc_row css=”.vc_custom_1643981182427{margin-bottom: 2px !important;}”][vc_column width=”1/2″ css=”.vc_custom_1636640422171{margin-bottom: 10px !important;}” el_class=”first-col”][vc_single_image image=”95142″ img_size=”full” alignment=”center” css=”.vc_custom_1649756088684{margin-top: 20px !important;margin-bottom: 5px !important;}”][vc_row_inner css=”.vc_custom_1640363144187{margin-bottom: 10px !important;}”][vc_column_inner el_class=”mrgn-btm-0″ width=”1/6″ css=”.vc_custom_1638878177960{margin-bottom: 0px !important;}”][/vc_column_inner][vc_column_inner el_class=”mrgn-btm-10″ width=”1/3″ css=”.vc_custom_1638878383870{margin-bottom: 0px !important;}”][vc_btn title=”Exciting Testimonials” color=”primary” align=”center” button_block=”true” link=”url:%23exist-testimonials|||” css=”.vc_custom_1643978417410{margin-bottom: 0px !important;}” el_class=”registerNOW78521 evtquickOptsih”][/vc_column_inner][vc_column_inner el_class=”rgister-btn-sec mrgn-btm-0″ width=”1/3″ css=”.vc_custom_1638878316277{margin-bottom: 10px !important;}”][vc_btn title=”Know More” color=”primary” align=”center” button_block=”true” link=”url:%23des-section|||” css=”.vc_custom_1638878011438{margin-bottom: 0px !important;}” el_class=”registerNOW78521 evtquickOptsih”][/vc_column_inner][vc_column_inner el_class=”mrgn-btm-0″ width=”1/6″ css=”.vc_custom_1638878319397{margin-bottom: 0px !important;}”][/vc_column_inner][/vc_row_inner][/vc_column][vc_column width=”1/2″ el_id=”des-section” css=”.vc_custom_1640350355209{padding-right: 0px !important;padding-left: 0px !important;}”][vc_column_text el_id=”regis-from” css=”.vc_custom_1650438776294{margin-bottom: 10px !important;padding-right: 10px !important;padding-left: 0px !important;}”] \nVortex Of Light Meditation For Manifesting Desires\n(English)\n28th April 2022\n09:30 AM EST / 2:30 PM BST / 4:30 PM Israel / 7:00 PM India / 11:30 PM AEDT \nDuration: 20 – 30 Mins  (Click here to get the time for your time zone.) \n[/vc_column_text][vc_column_text css=”.vc_custom_1651839613840{margin-bottom: 10px !important;padding-top: 10px !important;padding-right: 10px !important;padding-bottom: 10px !important;padding-left: 10px !important;background-color: #f4f4f4 !important;}”] \n❤️ You can purchase the recordings of this class here:Buy Now\n[/vc_column_text][vc_column_text css=”.vc_custom_1651838788761{margin-bottom: 10px !important;padding-top: 10px !important;padding-right: 10px !important;padding-bottom: 10px !important;padding-left: 10px !important;background-color: #f4f4f4 !important;}”] \n❤️ Inclusion: \n\nAudio and Video Recordings.\n\n\n❤️ Pre-requisite: \n\nVortex of Light attunement.\n\n[/vc_column_text][vc_column_text css=”.vc_custom_1651038300058{margin-bottom: 10px !important;padding-top: 5px !important;padding-right: 10px !important;padding-bottom: 2px !important;padding-left: 10px !important;background-color: #f4f4f4 !important;}”] \n❤️ INR Payment Option:\nFor INR payments\, you can use Paytm payment gateway. Set the page currency as “INR” and then select ‘Paytm’ during the checkout. You can pay using QR code\, UPI\, bank transfer and credit/debit card as well.[/vc_column_text][vc_single_image image=”68644″ img_size=”215×215″ alignment=”center” style=”vc_box_border_circle_2″ css=”.vc_custom_1649755118651{margin-bottom: 10px !important;}”][/vc_column][/vc_row][vc_row css=”.vc_custom_1636623632846{margin-bottom: 10px !important;}”][vc_column width=”1/2″ css=”.vc_custom_1636640422171{margin-bottom: 10px !important;}” el_class=”first-col”][vc_column_text css=”.vc_custom_1649755018571{margin-bottom: 10px !important;}”] \n❤️ Description: \n\nVortex of Light is the spirit of light in action along with the collective consciousness. Nila was attuned to the Vortex of Light by the Source of Light and she has been attuning and teaching attunements since then. Attunements are invitation to join in the action with light.\nIn this meditation\, Nila will lead to manifest your desires using Vortex of Light.\nVortex of Light is a very powerful element of the universe and this meditation can be life changing.\n\n[/vc_column_text][vc_column_text css=”.vc_custom_1649755912460{margin-bottom: 10px !important;padding-top: 10px !important;padding-right: 10px !important;padding-bottom: 10px !important;padding-left: 10px !important;background-color: #f4f4f4 !important;}”] \n❤️ Cost:\n $18 Buy Now if not yet purchased.\n[/vc_column_text][/vc_column][vc_column width=”1/2″ css=”.vc_custom_1640350355209{padding-right: 0px !important;padding-left: 0px !important;}”][vc_column_text] \nNila is an international wellbeing coach who has been in this journey for more than 2 decades. She is also a medium\, channel\, author and entrepreneur. Her capacity with Money is well known – She has increased her company’s turnover by 17 times within 18 months; created multiple revenue streams out of nowhere; received windfall of money as if by magic etc. She is also known as ‘The magic lady. Nila has the knack of simplifying the laws of the universe through very simple techniques that are fun to practice.\n[/vc_column_text][/vc_column][/vc_row][vc_row full_width=”stretch_row” el_class=”discla-section-74904″][vc_column el_id=”exciting-testimonials”][vc_column_text css=”.vc_custom_1649756368010{margin-bottom: 10px !important;padding-top: 10px !important;padding-right: 10px !important;padding-bottom: 10px !important;padding-left: 10px !important;background-color: #f4f4f4 !important;}” el_id=”exist-testimonials”] \n\nDisclaimer: This is not meant to be a replacement for any professional help you may require.\nTerms: The experience of each individual varies and hence the outcome from this class cannot be guaranteed. Please register only if you are willing to take responsibility for the outcome of the practices taught.\n[/vc_column_text][vc_column_text css=”.vc_custom_1649755071312{margin-bottom: 10px !important;}”] \n❤️ Here are some amazing shares from previous classes:\n\n“VOL meditation was wholesomely awasome\, got profound awareness on why I created what I created and released it 💜“\n\n\n“Nila thank you so much… I had severe back pain yesterday and it disappeared after the VOL meditation… Thank you God bless you for touching and impacting so many lives”\n\n\n“its a phenomenal experience everyday and I’m a lot relaxed\, the worry in my mind has gone\, the freckles on the forehead have sombered and I feel very light.. thanks Nila for this beautiful gift”\n\n[/vc_column_text][vc_separator css=”.vc_custom_1621236614421{margin-bottom: 8px !important;}”][vc_btn title=”REGISTER YOUR INTEREST” color=”primary” align=”center” i_icon_fontawesome=”fa fa-pencil” add_icon=”true” link=”|||” css=”.vc_custom_1645784745623{margin-bottom: 10px !important;}” el_class=”event_registration NEWERIH”][vc_column_text] \n\nPlease feel free to register and share with your family and friends. \nFor any queries/support\, please click here.\n[/vc_column_text][/vc_column][/vc_row]
URL:https://infinitehealing.co.uk/event/vortex-of-light-meditation-for-manifesting-desires/
CATEGORIES:Light key
END:VEVENT
END:VCALENDAR