
BEGIN:VCALENDAR
VERSION:2.0
PRODID:-//Light Key Academy - ECPv6.15.3//NONSGML v1.0//EN
CALSCALE:GREGORIAN
METHOD:PUBLISH
X-ORIGINAL-URL:https://infinitehealing.co.uk
X-WR-CALDESC:Events for Light Key Academy
REFRESH-INTERVAL;VALUE=DURATION:PT1H
X-Robots-Tag:noindex
X-PUBLISHED-TTL:PT1H
BEGIN:VTIMEZONE
TZID:America/New_York
BEGIN:DAYLIGHT
TZOFFSETFROM:-0500
TZOFFSETTO:-0400
TZNAME:EDT
DTSTART:20220313T070000
END:DAYLIGHT
BEGIN:STANDARD
TZOFFSETFROM:-0400
TZOFFSETTO:-0500
TZNAME:EST
DTSTART:20221106T060000
END:STANDARD
END:VTIMEZONE
BEGIN:VEVENT
DTSTART;TZID=America/New_York:20220502T143000
DTEND;TZID=America/New_York:20220502T150000
DTSTAMP:20260420T094418
CREATED:20220421T061358Z
LAST-MODIFIED:20220427T054845Z
UID:95341-1651501800-1651503600@infinitehealing.co.uk
SUMMARY:Attunements For Health\, Wealth And Happiness by Expert Healers
DESCRIPTION:[vc_row css=”.vc_custom_1643981182427{margin-bottom: 2px !important;}”][vc_column css=”.vc_custom_1646222981569{margin-bottom: 0px !important;}” el_class=”first-col”][vc_single_image image=”95299″ img_size=”full” alignment=”center” css=”.vc_custom_1650448722944{margin-top: 20px !important;margin-bottom: 10px !important;}” el_class=”DSK-ev-ADDTOCRT”][vc_single_image image=”95300″ img_size=”full” alignment=”center” css=”.vc_custom_1650448905539{margin-top: 20px !important;margin-bottom: 10px !important;}” el_class=”mob-ev-ADDTOCRT”][/vc_column][/vc_row][vc_row css=”.vc_custom_1643981182427{margin-bottom: 2px !important;}”][vc_column width=”1/3″ css=”.vc_custom_1646296241115{margin-bottom: 5px !important;}”][vc_column_text css=”.vc_custom_1650456480167{margin-bottom: 5px !important;padding-top: 10px !important;padding-right: 10px !important;padding-bottom: 10px !important;padding-left: 10px !important;background-color: #f4f4f4 !important;}” el_class=”fam-main-container”] \nWellbeing Attunement – Live\n29th April 2022\n09:30AM EST / 2:30 PM BST / 4:30 PM Israel / 7:00 PM India / 11:30PM AEDT  \n Duration: 30 Minutes (Click here to get the time for your time zone.) \nCost:  $24Add to cartAdd to cart  Buy Now\nPre-requisite: Light Key Protocol for Conflict Resolution \n[/vc_column_text][/vc_column][vc_column width=”1/3″ css=”.vc_custom_1646296234063{margin-bottom: 5px !important;}” el_class=”first-col”][vc_column_text css=”.vc_custom_1650456517008{margin-bottom: 5px !important;padding-top: 10px !important;padding-right: 10px !important;padding-bottom: 10px !important;padding-left: 10px !important;background-color: #f4f4f4 !important;}” el_class=”fam-main-container”] \nProsperity Attunement – Live\n2nd May 2022\n10:30AM EST / 3:30 PM BST / 5:30 PM Israel / 8:00 PM India / 12:30AM AEDT (Next Day) \n Duration: 30 Minutes (Click here to get the time for your time zone.) \nCost:  $24Add to cartAdd to cart  Buy Now\nPre-requisite: Light Key Protocol for Conflict Resolution. \n[/vc_column_text][/vc_column][vc_column width=”1/3″][vc_column_text css=”.vc_custom_1650457256431{margin-bottom: 5px !important;padding-top: 10px !important;padding-right: 10px !important;padding-bottom: 10px !important;padding-left: 10px !important;background-color: #f4f4f4 !important;}” el_class=”fam-main-container”] \nHarmony Attunement – Live\n4th May 2022\n10:30AM EST / 3:30 PM BST / 5:30 PM Israel / 8:00 PM India / 12:30AM AEDT (Next Day) \n Duration: 30 Minutes (Click here to get the time for your time zone.) \nCost:  $24Add to cartAdd to cart  Buy Now\nPre-requisite: Light Key Protocol for Conflict Resolution \n[/vc_column_text][/vc_column][/vc_row][vc_row css=”.vc_custom_1643981182427{margin-bottom: 2px !important;}”][vc_column css=”.vc_custom_1646222947969{margin-bottom: 0px !important;}” el_class=”first-col”][vc_column_text css=”.vc_custom_1650454161710{margin-bottom: 10px !important;padding-top: 5px !important;padding-right: 10px !important;padding-bottom: 5px !important;padding-left: 10px !important;background-color: #f4f4f4 !important;}” el_class=”highlight-pink-bg”] \n❤️ Buy all 3 attunements for $54. You save $18!  $72 Original price was: $72.$54Current price is: $54.Add to cartAdd to cart  Buy Now\n[/vc_column_text][vc_column_text css=”.vc_custom_1651038519667{margin-bottom: 10px !important;padding-top: 6px !important;padding-right: 10px !important;padding-bottom: 6px !important;padding-left: 10px !important;background-color: #f4f4f4 !important;}”] \nFor INR payments\, you can use Paytm payment gateway. Set the page currency as “INR” and then select ‘Paytm’ during the checkout. You can pay using QR code\, UPI\, bank transfer and credit/debit card as well.\n[/vc_column_text][/vc_column][/vc_row][vc_row css=”.vc_custom_1643981182427{margin-bottom: 2px !important;}”][vc_column width=”1/2″][vc_column_text css=”.vc_custom_1650454300006{margin-bottom: 10px !important;}”] \n❤️ Description: \n\nWellbeing Attunement:\nThis attunement helps the recipient to have a greater sense of wellbeing – physical and emotional. and gives them a great sense of confidence and empowerment to lead their life.\nProsperity Attunement:\nThis attunement clears\, balances and energizes your root chakra with golden earth frequency. This helps in clearing your blocks to prosperity and sense of belonging.\nHarmony Attunement:\nThis attunement helps the recipient to open their heart and connect to their life and people from a more authentic space and love resulting in harmony and peace.\nJoin our expert healers for these 3 amazing attunements to synchronize your energies to health\, wealth and happiness.\n\n[/vc_column_text][vc_column_text css=”.vc_custom_1646320237684{margin-bottom: 10px !important;padding-top: 10px !important;padding-right: 10px !important;padding-bottom: 10px !important;padding-left: 10px !important;background-color: #f4f4f4 !important;}” el_id=”exist-testimonials”] \n\nDisclaimer: This is not meant to be a replacement for any professional help you may require.\nTerms: The experience of each individual varies and hence the outcome from this call cannot be guaranteed. Please register only if you are willing to take responsibility for the outcome of the practices taught.\n[/vc_column_text][/vc_column][vc_column width=”1/2″][vc_column_text css=”.vc_custom_1646324162099{margin-bottom: 10px !important;padding-top: 10px !important;padding-right: 10px !important;padding-bottom: 10px !important;padding-left: 10px !important;background-color: #f4f4f4 !important;}”] \n❤️ Pre-requisite: \n\nNone.\n\n[/vc_column_text][vc_column_text css=”.vc_custom_1650456243410{margin-bottom: 10px !important;padding-top: 10px !important;padding-right: 10px !important;padding-bottom: 10px !important;padding-left: 10px !important;background-color: #f4f4f4 !important;}”] \n❤️ Inclusion: \n\nVideo and audio recordings for all 3 events.\n\n[/vc_column_text][vc_row_inner css=”.vc_custom_1650455315233{margin-top: 0px !important;margin-right: 0px !important;margin-bottom: 10px !important;margin-left: 0px !important;padding-top: 0px !important;background-color: #f0f8ff !important;}”][vc_column_inner width=”1/3″ css=”.vc_custom_1650456402053{padding-top: 5px !important;}”][vc_single_image image=”95337″ img_size=”100×100″ alignment=”center” style=”vc_box_border_circle_2″ css=”.vc_custom_1650469507534{margin-bottom: 5px !important;padding-top: 5px !important;padding-bottom: 5px !important;}”][/vc_column_inner][vc_column_inner width=”2/3″ css=”.vc_custom_1650456149150{padding-top: 10px !important;}”][vc_column_text css=”.vc_custom_1650456101960{margin-top: 25px !important;padding-top: 0px !important;padding-bottom: 0px !important;}”] \n\nExpert Healer: Anupama singh\npeepulportal@gmail.com\n[/vc_column_text][/vc_column_inner][/vc_row_inner][vc_row_inner css=”.vc_custom_1650455321081{margin-top: 0px !important;margin-right: 0px !important;margin-bottom: 10px !important;margin-left: 0px !important;padding-top: 0px !important;background-color: #f0f8ff !important;}”][vc_column_inner width=”1/3″ css=”.vc_custom_1650456411030{padding-top: 5px !important;}”][vc_single_image image=”89592″ img_size=”100×100″ alignment=”center” style=”vc_box_border_circle_2″ css=”.vc_custom_1650456012058{margin-bottom: 5px !important;padding-top: 5px !important;padding-bottom: 5px !important;}”][/vc_column_inner][vc_column_inner width=”2/3″ css=”.vc_custom_1650455979449{padding-top: 10px !important;}”][vc_column_text css=”.vc_custom_1650454829634{margin-top: 25px !important;padding-top: 0px !important;padding-bottom: 0px !important;}”] \n\nExpert Healer: Monika Jain\nmonikajain173@gmail.com\n[/vc_column_text][/vc_column_inner][/vc_row_inner][vc_row_inner css=”.vc_custom_1650455325842{margin-top: 0px !important;margin-right: 0px !important;margin-bottom: 10px !important;margin-left: 0px !important;padding-top: 0px !important;background-color: #f0f8ff !important;}”][vc_column_inner width=”1/3″ css=”.vc_custom_1650456416584{padding-top: 5px !important;}”][vc_single_image image=”89585″ img_size=”100×100″ alignment=”center” style=”vc_box_border_circle_2″ css=”.vc_custom_1650456029481{margin-bottom: 5px !important;padding-top: 5px !important;padding-bottom: 5px !important;}”][/vc_column_inner][vc_column_inner width=”2/3″ css=”.vc_custom_1650455992829{padding-top: 10px !important;}”][vc_column_text css=”.vc_custom_1650454838313{margin-top: 25px !important;padding-top: 0px !important;padding-bottom: 0px !important;}”] \n\nExpert Healer: Tamanna Goplani\nmercury_mg@yahoo.com\n[/vc_column_text][/vc_column_inner][/vc_row_inner][/vc_column][/vc_row][vc_row full_width=”stretch_row” el_class=”discla-section-74904″][vc_column el_id=”exciting-testimonials”][vc_column_text css=”.vc_custom_1650449256870{margin-bottom: 10px !important;}”] \n❤️ Here are some amazing shares:\n\n“Thank you so much for the attunement. I’m having such a relief that all my desires\, my family and I are taken care of and we are in safe hands of the Universe. So grateful for the energy. Love and light to everyone🙏😊 Feeling a great sense of calm as well ❤️🙏😊”\n\n\n“THANK YOU SO MUCH!! Honestly\, i felt generational poverty curse demon thats been following me for thousands of lifetimes back off and leave. Im shocked. God Bless You forever. May God and universe always give you all of your desires! ❤️❤️❤️❤️❤️ till next time! ❤️🙏”\n\n“I had an Sudden change after harmony attunement. Our relatives who stopped communicating with us from years…joined us again as if nothing happened between us. Receiving their visits\, communications and gifts. \nThanks to Nila for wonderful gift.“\n\n[/vc_column_text][vc_separator css=”.vc_custom_1621236614421{margin-bottom: 8px !important;}”][vc_btn title=”REGISTER YOUR INTEREST” color=”primary” align=”center” i_icon_fontawesome=”fa fa-pencil” add_icon=”true” link=”|||” css=”.vc_custom_1645784745623{margin-bottom: 10px !important;}” el_class=”event_registration NEWERIH”][vc_column_text] \n\nPlease feel free to register and share with your family and friends. \nFor any queries/support\, please click here.\n[/vc_column_text][/vc_column][/vc_row]
URL:https://infinitehealing.co.uk/event/prosperity-attunement-live/
CATEGORIES:Light key
END:VEVENT
END:VCALENDAR