
BEGIN:VCALENDAR
VERSION:2.0
PRODID:-//Light Key Academy - ECPv6.15.3//NONSGML v1.0//EN
CALSCALE:GREGORIAN
METHOD:PUBLISH
X-ORIGINAL-URL:https://infinitehealing.co.uk
X-WR-CALDESC:Events for Light Key Academy
REFRESH-INTERVAL;VALUE=DURATION:PT1H
X-Robots-Tag:noindex
X-PUBLISHED-TTL:PT1H
BEGIN:VTIMEZONE
TZID:America/New_York
BEGIN:DAYLIGHT
TZOFFSETFROM:-0500
TZOFFSETTO:-0400
TZNAME:EDT
DTSTART:20220313T070000
END:DAYLIGHT
BEGIN:STANDARD
TZOFFSETFROM:-0400
TZOFFSETTO:-0500
TZNAME:EST
DTSTART:20221106T060000
END:STANDARD
END:VTIMEZONE
BEGIN:VEVENT
DTSTART;TZID=America/New_York:20220510T140000
DTEND;TZID=America/New_York:20220512T150000
DTSTAMP:20260424T060712
CREATED:20220427T073109Z
LAST-MODIFIED:20220511T114409Z
UID:95552-1652191200-1652367600@infinitehealing.co.uk
SUMMARY:Light Keys Wellness — Kids Summer Camp
DESCRIPTION:[vc_row css=”.vc_custom_1643981182427{margin-bottom: 2px !important;}”][vc_column css=”.vc_custom_1646222981569{margin-bottom: 0px !important;}” el_class=”first-col”][vc_single_image image=”95704″ img_size=”full” alignment=”center” css=”.vc_custom_1651242066341{margin-top: 20px !important;margin-bottom: 10px !important;}” el_class=”DSK-ev-ADDTOCRT”][vc_single_image image=”95567″ img_size=”full” alignment=”center” css=”.vc_custom_1651060447473{margin-top: 20px !important;margin-bottom: 10px !important;}” el_class=”mob-ev-ADDTOCRT”][/vc_column][/vc_row][vc_row css=”.vc_custom_1643981182427{margin-bottom: 2px !important;}”][vc_column width=”1/2″ css=”.vc_custom_1646296241115{margin-bottom: 5px !important;}”][vc_row_inner][vc_column_inner width=”1/3″ css=”.vc_custom_1652103555889{padding-right: 0px !important;}”][vc_single_image image=”95932″ img_size=”full” alignment=”center” css=”.vc_custom_1652101775948{padding-top: 0px !important;padding-right: 0px !important;padding-bottom: 0px !important;padding-left: 0px !important;}”][/vc_column_inner][vc_column_inner width=”2/3″ css=”.vc_custom_1652098622801{padding-top: 0px !important;padding-left: 0px !important;background-color: #f4f4f4 !important;}”][vc_column_text css=”.vc_custom_1652101211062{margin-bottom: 5px !important;padding-top: 10px !important;padding-right: 10px !important;padding-bottom: 12px !important;padding-left: 10px !important;background-color: #f4f4f4 !important;}” el_class=”fam-main-container”] \nDay 1 – Session 1 (FREE)\nDance Session with Khushi Goplani\n10th May 2022 10:00 AM EST / 7:30 PM India \n Duration: 15 – 20 Minutes (Click here to get the time for your time zone.) More details  \n[/vc_column_text][vc_btn title=”Register Now” color=”primary” align=”left” link=”|||” css=”.vc_custom_1652100923131{margin-bottom: 10px !important;padding-top: 0px !important;background-color: #f4f4f4 !important;}” el_class=”event_registration NEWERIH kidReg”][/vc_column_inner][/vc_row_inner][vc_column_text css=”.vc_custom_1652099758453{margin-bottom: 0px !important;padding-top: 5px !important;padding-right: 10px !important;padding-bottom: 0px !important;padding-left: 10px !important;background-color: #f4f4f4 !important;}” el_class=”fam-main-container hidden”] \n\nDay 1 – Session 1 (FREE)\nDance Session with Khushi Goplani\n10th May 2022 10:00 AM EST / 7:30 PM India \n Duration: 15 – 20 Minutes (Click here to get the time for your time zone.) More details  \n[/vc_column_text][/vc_column][vc_column width=”1/2″ css=”.vc_custom_1646296234063{margin-bottom: 5px !important;}” el_class=”first-col”][vc_row_inner][vc_column_inner width=”1/3″ css=”.vc_custom_1652095799488{padding-right: 0px !important;}”][vc_single_image image=”95933″ img_size=”full” alignment=”center” css=”.vc_custom_1652097041254{padding-top: 0px !important;padding-right: 0px !important;padding-bottom: 0px !important;padding-left: 0px !important;}”][/vc_column_inner][vc_column_inner width=”2/3″ css=”.vc_custom_1652100212449{padding-top: 0px !important;padding-left: 0px !important;background-color: #f4f4f4 !important;}”][vc_column_text css=”.vc_custom_1652096777275{margin-bottom: 5px !important;padding-top: 10px !important;padding-right: 10px !important;padding-bottom: 15px !important;padding-left: 10px !important;background-color: #f4f4f4 !important;}” el_class=”fam-main-container”] \nDay 1 – Session 2\nBasic Light Key Frequencies with Nila\n10th May 2022 10:20 AM EST / 7:50 PM India\n Duration: 40 Minutes (Click here to get the time for your time zone.) \nCost:  $33Add to cartAdd to cart  Buy Now More details \n[/vc_column_text][/vc_column_inner][/vc_row_inner][vc_column_text css=”.vc_custom_1652099770109{margin-bottom: 5px !important;padding-top: 10px !important;padding-right: 10px !important;padding-bottom: 25px !important;padding-left: 10px !important;background-color: #f4f4f4 !important;}” el_class=”fam-main-container hidden”] \n\nDay 1 – Session 2\nBasic Light Key Frequencies with Nila\n10th May 2022 10:20 AM EST / 7:50 PM India\n Duration: 40 Minutes (Click here to get the time for your time zone.) \nCost:  $33Add to cartAdd to cart  Buy Now More details \n[/vc_column_text][/vc_column][/vc_row][vc_row css=”.vc_custom_1643981182427{margin-bottom: 2px !important;}”][vc_column width=”1/2″ css=”.vc_custom_1646296241115{margin-bottom: 5px !important;}”][vc_row_inner][vc_column_inner width=”1/3″ css=”.vc_custom_1652095799488{padding-right: 0px !important;}”][vc_single_image image=”95934″ img_size=”full” alignment=”center” css=”.vc_custom_1652100410358{padding-top: 0px !important;padding-right: 0px !important;padding-bottom: 0px !important;padding-left: 0px !important;}”][/vc_column_inner][vc_column_inner width=”2/3″ css=”.vc_custom_1652100222318{padding-top: 0px !important;padding-left: 0px !important;background-color: #f4f4f4 !important;}”][vc_column_text css=”.vc_custom_1652100582944{margin-bottom: 5px !important;padding-top: 10px !important;padding-right: 10px !important;padding-bottom: 5px !important;padding-left: 10px !important;background-color: #f4f4f4 !important;}” el_class=”fam-main-container”] \nDay 2\nSession 1: Art with Light Keys with Elaine\n\nSession 2: Lightlogue Experience with Nila\n11th May 2022 10:00 AM EST / 7:30 PM India\n Duration: 1 Hour (Click here to get the time for your time zone.) \nCost:  $33Add to cartAdd to cart  Buy Now More details \n[/vc_column_text][/vc_column_inner][/vc_row_inner][vc_column_text css=”.vc_custom_1652099781668{margin-bottom: 5px !important;padding-top: 10px !important;padding-right: 10px !important;padding-bottom: 10px !important;padding-left: 10px !important;background-color: #f4f4f4 !important;}” el_class=”fam-main-container hidden”] \n\nDay 2\nSession 1: Art with Light Keys with Elaine\n\nSession 2: Lightlogue Experience with Nila\n11th May 2022 10:00 AM EST / 7:30 PM India\n Duration: 1 Hour (Click here to get the time for your time zone.) \nCost:  $33Add to cartAdd to cart  Buy Now More details \n[/vc_column_text][/vc_column][vc_column width=”1/2″ css=”.vc_custom_1646296234063{margin-bottom: 5px !important;}” el_class=”first-col”][vc_row_inner][vc_column_inner width=”1/3″ css=”.vc_custom_1652095799488{padding-right: 0px !important;}”][vc_single_image image=”95935″ img_size=”full” alignment=”center” css=”.vc_custom_1652100415785{padding-top: 0px !important;padding-right: 0px !important;padding-bottom: 0px !important;padding-left: 0px !important;}”][/vc_column_inner][vc_column_inner width=”2/3″ css=”.vc_custom_1652100217606{padding-top: 0px !important;padding-left: 0px !important;background-color: #f4f4f4 !important;}”][vc_column_text css=”.vc_custom_1652100605526{margin-bottom: 5px !important;padding-top: 10px !important;padding-right: 10px !important;padding-bottom: 5px !important;padding-left: 10px !important;background-color: #f4f4f4 !important;}” el_class=”fam-main-container”] \nDay 3\nSession 1: Ease And Grace Protocol with Nila\n\nSession 2: Treasure Hunt with Nila & Tamanna\n12th May 2022 10:00 AM EST / 7:30 PM India\n Duration: 1 Hour (Click here to get the time for your time zone.) \nCost:  $33Add to cartAdd to cart  Buy Now More details \n[/vc_column_text][/vc_column_inner][/vc_row_inner][vc_column_text css=”.vc_custom_1652099789506{margin-bottom: 5px !important;padding-top: 10px !important;padding-right: 10px !important;padding-bottom: 10px !important;padding-left: 10px !important;background-color: #f4f4f4 !important;}” el_class=”fam-main-container hidden”] \n\nDay 3\nSession 1: Ease And Grace Protocol with Nila\n\nSession 2: Treasure Hunt with Nila & Tamanna\n12th May 2022 10:00 AM EST / 7:30 PM India\n Duration: 1 Hour (Click here to get the time for your time zone.) \nCost:  $33Add to cartAdd to cart  Buy Now More details \n[/vc_column_text][/vc_column][/vc_row][vc_row css=”.vc_custom_1643981182427{margin-bottom: 2px !important;}”][vc_column css=”.vc_custom_1646222947969{margin-bottom: 0px !important;}” el_class=”first-col”][vc_column_text css=”.vc_custom_1651061759596{margin-bottom: 0px !important;padding-top: 5px !important;padding-right: 10px !important;padding-bottom: 5px !important;padding-left: 10px !important;}”] \n❤️ Pre-requisite: None.\n[/vc_column_text][vc_column_text css=”.vc_custom_1651851760548{margin-bottom: 0px !important;padding-top: 5px !important;padding-right: 10px !important;padding-bottom: 5px !important;padding-left: 10px !important;}”] \n❤️ Certification criterion: To get a kids certificate\, you will have to submit the form which will be added to the My Account section 3 hours before the class starts.\n[/vc_column_text][vc_column_text css=”.vc_custom_1652195355441{margin-bottom: 10px !important;padding-top: 5px !important;padding-right: 10px !important;padding-bottom: 5px !important;padding-left: 10px !important;background-color: #f4f4f4 !important;}” el_class=”highlight-pink-bg”] \n❤️ Buy all 3 days pass at $99 Original price was: $99.$72Current price is: $72.Add to cartAdd to cart  Buy Now You save $27.\n[/vc_column_text][vc_column_text css=”.vc_custom_1651058836303{margin-bottom: 10px !important;padding-top: 6px !important;padding-right: 10px !important;padding-bottom: 6px !important;padding-left: 10px !important;background-color: #f4f4f4 !important;}”] \nFor INR payments\, you can use Paytm payment gateway. Set the page currency as “INR” and then select ‘Paytm’ during the checkout. You can pay using QR code\, UPI\, bank transfer and credit/debit card as well.\n[/vc_column_text][/vc_column][/vc_row][vc_row css=”.vc_custom_1643981182427{margin-bottom: 2px !important;}”][vc_column width=”2/3″][vc_column_text css=”.vc_custom_1651243498920{margin-bottom: 10px !important;}” el_id=”comeDown”] \n❤️ Description: \n\n\n\n\nEvent\nDetails\nInclusion\n\n\n\n\nKids Summer Camp Day 1 – Session 1 \nDance Session with Khushi Goplani – Free\nN/A\n\n\n\n\nGet Grooving and Dance with Khushi\nDance is a way of expressing oneself and aligning the body\, mind and spirit to the joy of living!\nThis session will help the children come out of their shell and embrace their body with joy!\nJoin our little angel Khushi in her dance session as she takes these tiny butterflies to fly into Joy and happiness!\n\n\n\n\nKids Summer Camp Day 1 – Session 2 \nBasic Light Key Frequencies with Nila\nKids Manual\, Audio & Video recordings\, Certificate\n\n\n\n\nFuture of medicine is moving towards frequencies!\nDid you know you can tune into certain frequencies to create a great shift in your body\, life and being?\nIn this class\, Nila will teach the children using a story how to tune into three such frequencies and benefit out of them! This is like giving them a magic wand!\nGolden Earth frequency: Helps the children create more success and joy in life!\nUniversal kindness frequency: Helps the children live in harmony!\nSilver Ray frequency: Helps balancing the body!\nAfter this class\, children can use these frequencies on them and others! What a great empowerment it will be for the little ones!\nThey receive certificates of attendance too (only if they attend live!*)\n* If children can’t attend live for some reason\, certificates can be issued if either of the parents is a certified LKF practitioner.\n\n\n\n\nKids Summer Camp – Day 2 \n1. Art with Light Keys with Elaine\n2. Lightlogue Experience with Nila\nAudio & Video recordings\n\n\n\n\n1. Art with Elaine\nExpress your heart out with Art!\nJoin Elaine as she teaches Light keys in a beautiful art form. Draw and colour away your blues!\nChildren can learn some potent high vibrational symbols in a totally fun way and use them to ease their life!\n2. Lightlogues are divine art forms that help us to connect to the universe and receive awareness.\nThere are many ways to receive from lightlogues.\nIn this call\, Nila will be walking the group through a new technique that can unlock the possibilities for the body\, mind and spirit to create unlimited lightness in your life.\nGet ready to be blown away by the magic!\n\n\n\n\nKids Summer Camp – Day 3 \n1. Ease And Grace Protocol with Nila\n2. Treasure Hunt with Nila & Tamanna\nKids Manual\, Audio & Video recordings\, Certificate\n\n\n\n\n1. Would you like your kids to have a joy ride with their learning? What if they can have support from the elements of the universe?\nFrom this class\, you will learn very simple tools and techniques that any one can use to gain more awareness and ease with respect to learning & coping with systems such as school.\nThese tools will help with:\n\nEase with studies & exams\nDealing with conflicts and bullying\nBringing joy into difficult tasks\nLoving themselves unconditionally\n\nThis course can help children\, parents or any one who is struggling with the system.\n2. Treasure Hunt\nAn exciting game in which Nila and her team will assign fun tasks to children and get them awareness of their own potency!\nWell\, it’s not about winning or losing; it’s about having a good time while participating in the activities. Its going to be a spectacular fun event….Are you joining in the Fun?\n\n\n\n\n\n\n[/vc_column_text][/vc_column][vc_column width=”1/3″][vc_single_image image=”68644″ img_size=”150×150″ alignment=”center” style=”vc_box_border_circle_2″ css=”.vc_custom_1651062940482{margin-bottom: 10px !important;}”][vc_column_text css=”.vc_custom_1646324228931{margin-bottom: 10px !important;}”] \nNila is an international wellbeing coach who has been in this journey for more than 2 decades. She is also a medium\, channel\, author and entrepreneur. Her capacity with Money is well known – She has increased her company’s turnover by 17 times within 18 months; created multiple revenue streams out of nowhere; received windfall of money as if by magic etc. She is also known as ‘The magic lady. Nila has the knack of simplifying the laws of the universe through very simple techniques that are fun to practice.\n[/vc_column_text][/vc_column][/vc_row][vc_row full_width=”stretch_row” el_class=”discla-section-74904″][vc_column el_id=”exciting-testimonials”][vc_column_text css=”.vc_custom_1646320237684{margin-bottom: 10px !important;padding-top: 10px !important;padding-right: 10px !important;padding-bottom: 10px !important;padding-left: 10px !important;background-color: #f4f4f4 !important;}”] \n\nDisclaimer: This is not meant to be a replacement for any professional help you may require.\nTerms: The experience of each individual varies and hence the outcome from this call cannot be guaranteed. Please register only if you are willing to take responsibility for the outcome of the practices taught.\n[/vc_column_text][vc_column_text css=”.vc_custom_1651059683464{margin-bottom: 10px !important;}”] \n❤️ Here are some amazing shares:\n\n“I realised I was following and giving significance to following structure in a particular project. I also realised following structure was making me stiff. I flowed frequencies to it and asked to help me come out of structure as I was doing much better free flowing. And when my chance came to perform\, I did it completely forgetting about the how’s and got a great round of applause💃🏼💃🏼💃🏼💃🏼”\n\n\n“Thank you Nila was today’s beautiful class on ease and grace protocol.. My daughter was enjoying and feeling it way too easy to create magic on her own self…A big thank you to you from my daughter Stutie 🙏🏻”\n\n\n“”lightlogues\, are my jewels\, and lucky charms which I carry every where..” “Felt all my fears\, lack of confidence\, anxiety etc al leaving me””\n\n[/vc_column_text][vc_separator css=”.vc_custom_1621236614421{margin-bottom: 8px !important;}”][vc_column_text] \nFor any queries/support\, please click here.\n[/vc_column_text][/vc_column][/vc_row]
URL:https://infinitehealing.co.uk/event/light-keys-wellness-kids-summer-camp/
CATEGORIES:Light key,Wellness
END:VEVENT
BEGIN:VEVENT
DTSTART;TZID=America/New_York:20220512T134500
DTEND;TZID=America/New_York:20220512T140000
DTSTAMP:20260424T060712
CREATED:20220422T083625Z
LAST-MODIFIED:20240626T084216Z
UID:95375-1652363100-1652364000@infinitehealing.co.uk
SUMMARY:Transmission from Maha Shakti – Destroyer Of The Evil
DESCRIPTION:[vc_row css=”.vc_custom_1643981182427{margin-bottom: 2px !important;}”][vc_column width=”1/2″ css=”.vc_custom_1636640422171{margin-bottom: 10px !important;}” el_class=”first-col”][vc_single_image image=”95415″ img_size=”full” alignment=”center” css=”.vc_custom_1650652957841{margin-top: 20px !important;margin-bottom: 5px !important;}”][vc_row_inner css=”.vc_custom_1640363144187{margin-bottom: 10px !important;}”][vc_column_inner el_class=”mrgn-btm-0″ width=”1/6″ css=”.vc_custom_1638878177960{margin-bottom: 0px !important;}”][/vc_column_inner][vc_column_inner el_class=”mrgn-btm-10″ width=”1/3″ css=”.vc_custom_1638878383870{margin-bottom: 0px !important;}”][vc_btn title=”Exciting Testimonials” color=”primary” align=”center” button_block=”true” link=”url:%23exist-testimonials|||” css=”.vc_custom_1643978417410{margin-bottom: 0px !important;}” el_class=”registerNOW78521 evtquickOptsih”][/vc_column_inner][vc_column_inner el_class=”rgister-btn-sec mrgn-btm-0″ width=”1/3″ css=”.vc_custom_1638878316277{margin-bottom: 10px !important;}”][vc_btn title=”Know More” color=”primary” align=”center” button_block=”true” link=”url:%23des-section|||” css=”.vc_custom_1638878011438{margin-bottom: 0px !important;}” el_class=”registerNOW78521 evtquickOptsih”][/vc_column_inner][vc_column_inner el_class=”mrgn-btm-0″ width=”1/6″ css=”.vc_custom_1638878319397{margin-bottom: 0px !important;}”][/vc_column_inner][/vc_row_inner][/vc_column][vc_column width=”1/2″ el_id=”des-section” css=”.vc_custom_1640350355209{padding-right: 0px !important;padding-left: 0px !important;}”][vc_column_text el_id=”regis-from” css=”.vc_custom_1698409282921{margin-bottom: 10px !important;padding-right: 10px !important;padding-left: 0px !important;}”] \nTransmission from Maha Shakti – Destroyer Of The Evil\n(English)\n12th May 2022\n09:45AM EST / 2:45 PM BST / 4:45 PM Israel / 7:15 PM India / 11:45PM AEDT \nDuration: 15 Mins (Click here to get the time for your time zone.) \n[/vc_column_text][vc_column_text css=”.vc_custom_1719391281681{margin-bottom: 10px !important;padding-right: 10px !important;padding-left: 0px !important;}”] \nYou can purchase the recordings of this class here:\nBuy Now\n[/vc_column_text][vc_column_text css=”.vc_custom_1719391295001{margin-bottom: 15px !important;padding-top: 10px !important;padding-right: 10px !important;padding-bottom: 10px !important;padding-left: 10px !important;background-color: #f4f4f4 !important;}” el_class=”hidden”] \n❤️ Inclusion: \n\nAudio and Video recordings.\n\n\n❤️ Cost:\n$33Add to cartAdd to cart  Buy Now\n\n❤️ Pre-requisite: \n\nNone.\n\n[/vc_column_text][vc_column_text css=”.vc_custom_1719391306802{margin-bottom: 15px !important;padding-top: 10px !important;padding-right: 10px !important;padding-bottom: 10px !important;padding-left: 10px !important;background-color: #f4f4f4 !important;}”] \n❤️ Inclusion: \n\nAudio and Video recordings.\n\n❤️ Pre-requisite: \n\nNone.\n\n[/vc_column_text][vc_column_text css=”.vc_custom_1719391315940{margin-bottom: 10px !important;padding-top: 0px !important;padding-right: 0px !important;padding-bottom: 0px !important;padding-left: 0px !important;background-color: #f4f4f4 !important;}” el_class=”hidden”] \n\n❤️ Buy all three together at a great discount $99 $72 Buy Now\n\nTransmission from Saint Germain – Live – 10th May\nTransmission from Ascended Master Portia – Live – 11th May\nTransmission from Maha Shakti – Destroyer Of The Evil – Live – 12th May\n\n\n[/vc_column_text][/vc_column][/vc_row][vc_row css=”.vc_custom_1636623632846{margin-bottom: 10px !important;}”][vc_column width=”1/2″ css=”.vc_custom_1636640422171{margin-bottom: 10px !important;}” el_class=”first-col”][vc_column_text css=”.vc_custom_1645458453275{margin-bottom: 10px !important;}”] \n❤️ Description: \n\nIn this transmission\, Nila will be channeling energy of the Universal Goddess Energy. \nThis energy is coming through to destroy the evil intentions\, curses and actions that are perpetrated and being projected/aimed at your body and at the planet. \nThis transmission is geared towards clearing the body and and earth and bring out the shine. \n\n\n[/vc_column_text][vc_column_text css=”.vc_custom_1719391326052{margin-bottom: 10px !important;padding-top: 10px !important;padding-right: 10px !important;padding-bottom: 10px !important;padding-left: 10px !important;background-color: #f4f4f4 !important;}” el_class=”hidden”] \n❤️ Course Cost:\n $33 Buy Now if not yet purchased.\n[/vc_column_text][vc_column_text css=”.vc_custom_1643978439139{margin-bottom: 10px !important;padding-top: 10px !important;padding-right: 10px !important;padding-bottom: 10px !important;padding-left: 10px !important;background-color: #f4f4f4 !important;}” el_id=”exist-testimonials”] \n\nDisclaimer: This is not meant to be a replacement for any professional help you may require.\nTerms: The experience of each individual varies and hence the outcome from this class cannot be guaranteed. Please register only if you are willing to take responsibility for the outcome of the practices taught.\n[/vc_column_text][vc_column_text css=”.vc_custom_1647409603947{margin-bottom: 10px !important;}”] \n❤️ Here are some amazing shares from previous classes:\n“After today’s shakti transmission I feeling very active\, energetic. Attunements I did today got done in 3 min earlier it used to take 5 6 min.what more magic is available now I wonder????” \n“Thank you for this series… wonderful energies…” “I love the Feb transmissions Saraswati\, Mahalakshmi and Shakti? i play it often all 3 in a day and night” \n“yes. its very powerful..” “I felt my heart chakra just opened. ?So grateful ma’am ??” \n[/vc_column_text][/vc_column][vc_column width=”1/2″ css=”.vc_custom_1640350355209{padding-right: 0px !important;padding-left: 0px !important;}”][vc_column_text css=”.vc_custom_1651038993480{margin-bottom: 10px !important;padding-top: 5px !important;padding-right: 10px !important;padding-bottom: 2px !important;padding-left: 10px !important;background-color: #f4f4f4 !important;}”] \n❤️ INR Payment Option:\nFor INR payments\, you can use Paytm payment gateway. Set the page currency as “INR” and then select ‘Paytm’ during the checkout. You can pay using QR code\, UPI\, bank transfer and credit/debit card as well.[/vc_column_text][vc_single_image image=”95373″ img_size=”200×200″ alignment=”center” style=”vc_box_border_circle_2″ css=”.vc_custom_1645452431533{margin-bottom: 10px !important;}”][vc_column_text css=”.vc_custom_1647330846472{margin-bottom: 10px !important;}”] \n\n[/vc_column_text][vc_column_text css=”.vc_custom_1647332884631{margin-bottom: 10px !important;}”] \nNila is an international wellbeing coach who has been in this journey for more than 2 decades. She is also a medium\, channel\, author and entrepreneur. Her capacity with Money is well known – She has increased her company’s turnover by 17 times within 18 months; created multiple revenue streams out of nowhere; received windfall of money as if by magic etc. She is also known as ‘The magic lady. Nila has the knack of simplifying the laws of the universe through very simple techniques that are fun to practice. \n[/vc_column_text][/vc_column][/vc_row][vc_row full_width=”stretch_row” el_class=”discla-section-74904″][vc_column el_id=”exciting-testimonials”][vc_separator css=”.vc_custom_1621236614421{margin-bottom: 8px !important;}”][vc_btn title=”REGISTER YOUR INTEREST” color=”primary” align=”center” i_icon_fontawesome=”fa fa-pencil” add_icon=”true” link=”|||” css=”.vc_custom_1647409418139{margin-bottom: 10px !important;}” el_class=”event_registration NEWERIH”][vc_column_text] \nPlease feel free to register and share with your family and friends. \nFor any queries/support\, please click here.\n[/vc_column_text][/vc_column][/vc_row]
URL:https://infinitehealing.co.uk/event/transmission-from-maha-shakti-destroyer-of-the-evil/
CATEGORIES:Light key,Meditation
END:VEVENT
END:VCALENDAR