
BEGIN:VCALENDAR
VERSION:2.0
PRODID:-//Light Key Academy - ECPv6.15.3//NONSGML v1.0//EN
CALSCALE:GREGORIAN
METHOD:PUBLISH
X-WR-CALNAME:Light Key Academy
X-ORIGINAL-URL:https://infinitehealing.co.uk
X-WR-CALDESC:Events for Light Key Academy
REFRESH-INTERVAL;VALUE=DURATION:PT1H
X-Robots-Tag:noindex
X-PUBLISHED-TTL:PT1H
BEGIN:VTIMEZONE
TZID:America/New_York
BEGIN:DAYLIGHT
TZOFFSETFROM:-0500
TZOFFSETTO:-0400
TZNAME:EDT
DTSTART:20220313T070000
END:DAYLIGHT
BEGIN:STANDARD
TZOFFSETFROM:-0400
TZOFFSETTO:-0500
TZNAME:EST
DTSTART:20221106T060000
END:STANDARD
END:VTIMEZONE
BEGIN:VEVENT
DTSTART;TZID=America/New_York:20220526T140000
DTEND;TZID=America/New_York:20220526T160000
DTSTAMP:20260420T093325
CREATED:20220505T085239Z
LAST-MODIFIED:20220603T145355Z
UID:95807-1653573600-1653580800@infinitehealing.co.uk
SUMMARY:Light Key Protocol for Embracing Sex and Possibilities
DESCRIPTION:[vc_row css=”.vc_custom_1643981182427{margin-bottom: 2px !important;}”][vc_column width=”1/2″ css=”.vc_custom_1636640422171{margin-bottom: 10px !important;}” el_class=”first-col”][vc_single_image image=”96367″ img_size=”full” alignment=”center” css=”.vc_custom_1653373336402{margin-top: 20px !important;margin-bottom: 5px !important;}”][vc_row_inner css=”.vc_custom_1640363144187{margin-bottom: 10px !important;}”][vc_column_inner el_class=”mrgn-btm-0″ width=”1/6″ css=”.vc_custom_1638878177960{margin-bottom: 0px !important;}”][/vc_column_inner][vc_column_inner el_class=”mrgn-btm-10″ width=”1/3″ css=”.vc_custom_1638878383870{margin-bottom: 0px !important;}”][vc_btn title=”Exciting Testimonials” color=”primary” align=”center” button_block=”true” link=”url:%23exist-testimonials|||” css=”.vc_custom_1643978417410{margin-bottom: 0px !important;}” el_class=”registerNOW78521 evtquickOptsih”][/vc_column_inner][vc_column_inner el_class=”rgister-btn-sec mrgn-btm-0″ width=”1/3″ css=”.vc_custom_1638878316277{margin-bottom: 10px !important;}”][vc_btn title=”Know More” color=”primary” align=”center” button_block=”true” link=”url:%23des-section|||” css=”.vc_custom_1638878011438{margin-bottom: 0px !important;}” el_class=”registerNOW78521 evtquickOptsih”][/vc_column_inner][vc_column_inner el_class=”mrgn-btm-0″ width=”1/6″ css=”.vc_custom_1638878319397{margin-bottom: 0px !important;}”][/vc_column_inner][/vc_row_inner][/vc_column][vc_column width=”1/2″ el_id=”des-section” css=”.vc_custom_1640350355209{padding-right: 0px !important;padding-left: 0px !important;}”][vc_column_text el_id=”regis-from” css=”.vc_custom_1653301335455{margin-bottom: 10px !important;padding-right: 10px !important;padding-left: 0px !important;}”] \nLight Key Protocol for Embracing Sex and Possibilities\n(English)\n26th May 2022\n10:00 AM EST / 3:00 PM GMT / 5:00 PM Israel / 7:30 PM India / 12:00 AM AET (Next Day) \nDuration: 1.5 – 2 Hrs (Click here to get the time for your time zone.) \n[/vc_column_text][vc_column_text css=”.vc_custom_1654267852070{margin-bottom: 15px !important;padding-top: 10px !important;padding-right: 10px !important;padding-bottom: 10px !important;padding-left: 10px !important;background-color: #f4f4f4 !important;}”] \n❤️ You can purchase the recordings of this class here:Buy Now\n[/vc_column_text][vc_column_text css=”.vc_custom_1654267868347{margin-bottom: 15px !important;padding-top: 10px !important;padding-right: 10px !important;padding-bottom: 10px !important;padding-left: 10px !important;background-color: #f4f4f4 !important;}”] \n❤️ Course Inclusion: \n\nManual\nAudio and Video Recordings\n\n❤️ Course Pre-requisite: \n\nLight Key Frequencies – Transformational processes for body\, life and beyond (Certified)\n\n[/vc_column_text][/vc_column][/vc_row][vc_row css=”.vc_custom_1636623632846{margin-bottom: 10px !important;}”][vc_column width=”1/2″ css=”.vc_custom_1636640422171{margin-bottom: 10px !important;}” el_class=”first-col”][vc_column_text css=”.vc_custom_1651817845917{margin-bottom: 10px !important;}”] \n❤️ Description: \n\nHow do you feel about sex\, your sex life\, sexual preferences and your sexuality?\nMost of us are not even comfortable talking about this leave alone expressing ourselves freely! This course will give you profound insights & effective tools to embrace the possibilities of sex!\nWhat if sex is not a bad word but the creative energy that runs the universe?\nThis course will cover the following topics:\n\nDemystifying Sex\nYour capacity with sex\nEmbracing the potency of genitals\nReleasing the unconsciousness around your sex life\nReleasing the conditioning and moving into choice with sex\nA look into sex addiction\nWillingness to Gifting and receiving pleasures\nNew light key frequencies to express your sexualness\n\n..and perhaps\, more… \n\n❤️ Potential Benefits: \n\nMore ease with you & your body\nBetter receiving\nMore creative energy\nEnhanced Self expression\nSense of freedom and empowerment to embrace your capacities\n\n[/vc_column_text][vc_column_text css=”.vc_custom_1652857128958{margin-bottom: 10px !important;padding-top: 15px !important;padding-right: 10px !important;padding-bottom: 20px !important;padding-left: 10px !important;background-color: #f4f4f4 !important;}”] \n❤️ Course Cost:\n$120 Buy Now if not yet purchased.\n[/vc_column_text][vc_column_text css=”.vc_custom_1643978439139{margin-bottom: 10px !important;padding-top: 10px !important;padding-right: 10px !important;padding-bottom: 10px !important;padding-left: 10px !important;background-color: #f4f4f4 !important;}” el_id=”exist-testimonials”] \n\nDisclaimer: This is not meant to be a replacement for any professional help you may require.\nTerms: The experience of each individual varies and hence the outcome from this class cannot be guaranteed. Please register only if you are willing to take responsibility for the outcome of the practices taught.\n[/vc_column_text][/vc_column][vc_column width=”1/2″ css=”.vc_custom_1640350355209{padding-right: 0px !important;padding-left: 0px !important;}”][vc_column_text css=”.vc_custom_1654268008771{margin-bottom: 10px !important;padding-top: 10px !important;padding-right: 10px !important;padding-bottom: 10px !important;padding-left: 10px !important;background-color: #f4f4f4 !important;}”] \n❤️ You can purchase the Certification of this class here:Buy Now\n[/vc_column_text][vc_column_text css=”.vc_custom_1654268021764{margin-bottom: 10px !important;padding-top: 10px !important;padding-right: 10px !important;padding-bottom: 10px !important;padding-left: 10px !important;background-color: #f4f4f4 !important;}”] \nIf you like to practice this protocol on your clients\, get certified.\n❤️ Certification criterion: \n\nPassing a descriptive quiz with 60%.\n\n\n❤️ Certification Pre-requisites:\n\n\nLight Key Protocol for Embracing Sex and Possibilities – course\nMust have Certification of Light Key Frequencies for Limitless Reality (OR) Light Key Frequencies & Vortices for limitless reality\n\n[/vc_column_text][vc_column_text css=”.vc_custom_1651749984906{margin-bottom: 10px !important;}”] \n❤️ Here are some amazing shares from previous classes:\n“Would love to acknowledge what I received from last week’s magic circle class on sex and receiving pleasure. Well though I thought I have done dozens of classes on this topic earlier from different modality\, even light key Advanced intimacy class I was avoiding something to get on this and that was receiving pleasure from anything that I do. Nila went firing rapid bullets in this class and each word was like omg. Next day I felt like singing after a year. Recorded a song in starmaker app which is my ever favorite super romantic and sensuous song..I totally loved singing and way I did each word differently was super creative for me. Thank you Nila again” \n“Great awareness\,enjoyed the calls\, thanks so much Nila\,So love to be in all your calls.” “Thank you for for this wonderful experience and channelling all this amazing info\, you are wonderful” \n“As always I receive such huge benefits from your teachings Nila.Today’s class was just as amazing as the others and I continue to be blown away” \n[/vc_column_text][vc_separator css=”.vc_custom_1621236614421{margin-bottom: 8px !important;}”][vc_btn title=”REGISTER YOUR INTEREST” color=”primary” align=”center” i_icon_fontawesome=”fa fa-pencil” add_icon=”true” link=”|||” css=”.vc_custom_1647409418139{margin-bottom: 10px !important;}” el_class=”event_registration NEWERIH”][vc_column_text] \nPlease feel free to register and share with your family and friends. \nFor any queries/support\, please click here.\n[/vc_column_text][/vc_column][/vc_row]
URL:https://infinitehealing.co.uk/event/light-key-protocol-for-embracing-sex-and-possibilities/
CATEGORIES:Light key
END:VEVENT
END:VCALENDAR