
BEGIN:VCALENDAR
VERSION:2.0
PRODID:-//Light Key Academy - ECPv6.15.3//NONSGML v1.0//EN
CALSCALE:GREGORIAN
METHOD:PUBLISH
X-ORIGINAL-URL:https://infinitehealing.co.uk
X-WR-CALDESC:Events for Light Key Academy
REFRESH-INTERVAL;VALUE=DURATION:PT1H
X-Robots-Tag:noindex
X-PUBLISHED-TTL:PT1H
BEGIN:VTIMEZONE
TZID:America/New_York
BEGIN:DAYLIGHT
TZOFFSETFROM:-0500
TZOFFSETTO:-0400
TZNAME:EDT
DTSTART:20220313T070000
END:DAYLIGHT
BEGIN:STANDARD
TZOFFSETFROM:-0400
TZOFFSETTO:-0500
TZNAME:EST
DTSTART:20221106T060000
END:STANDARD
END:VTIMEZONE
BEGIN:VEVENT
DTSTART;TZID=America/New_York:20220531T133000
DTEND;TZID=America/New_York:20220531T163000
DTSTAMP:20260424T091245
CREATED:20220518T095453Z
LAST-MODIFIED:20220518T143215Z
UID:96244-1654003800-1654014600@infinitehealing.co.uk
SUMMARY:Joyous Body Protocol – Certified
DESCRIPTION:[vc_row css=”.vc_custom_1643981182427{margin-bottom: 2px !important;}”][vc_column width=”1/2″ css=”.vc_custom_1636640422171{margin-bottom: 10px !important;}” el_class=”first-col”][vc_single_image image=”95249″ img_size=”full” alignment=”center” css=”.vc_custom_1647498656103{margin-top: 20px !important;margin-bottom: 5px !important;}”][vc_row_inner css=”.vc_custom_1640363144187{margin-bottom: 10px !important;}”][vc_column_inner el_class=”mrgn-btm-0″ width=”1/6″ css=”.vc_custom_1638878177960{margin-bottom: 0px !important;}”][/vc_column_inner][vc_column_inner el_class=”mrgn-btm-10″ width=”1/3″ css=”.vc_custom_1638878383870{margin-bottom: 0px !important;}”][vc_btn title=”Exciting Testimonials” color=”primary” align=”center” button_block=”true” link=”url:%23exist-testimonials|||” css=”.vc_custom_1643978417410{margin-bottom: 0px !important;}” el_class=”registerNOW78521 evtquickOptsih”][/vc_column_inner][vc_column_inner el_class=”rgister-btn-sec mrgn-btm-0″ width=”1/3″ css=”.vc_custom_1638878316277{margin-bottom: 10px !important;}”][vc_btn title=”Know More” color=”primary” align=”center” button_block=”true” link=”url:%23des-section|||” css=”.vc_custom_1638878011438{margin-bottom: 0px !important;}” el_class=”registerNOW78521 evtquickOptsih”][/vc_column_inner][vc_column_inner el_class=”mrgn-btm-0″ width=”1/6″ css=”.vc_custom_1638878319397{margin-bottom: 0px !important;}”][/vc_column_inner][/vc_row_inner][/vc_column][vc_column width=”1/2″ el_id=”des-section” css=”.vc_custom_1640350355209{padding-right: 0px !important;padding-left: 0px !important;}”][vc_column_text el_id=”regis-from” css=”.vc_custom_1652883991311{margin-bottom: 10px !important;padding-right: 10px !important;padding-left: 0px !important;}”] \nJoyous Body Protocol – Certified\n(English)\n31st May 2022\n9:30 AM EST / 2:30 PM GMT / 4:30 PM Israel / 7:00 PM India / 11:30 PM AET \nDuration: 3 Hrs (Click here to get the time for your time zone.) \n[/vc_column_text][vc_column_text css=”.vc_custom_1652867773646{margin-bottom: 15px !important;padding-top: 10px !important;padding-right: 10px !important;padding-bottom: 10px !important;padding-left: 10px !important;background-color: #f4f4f4 !important;}”]❤️ Course Cost: \n\n$88Add to cartAdd to cart  Buy Now\n\n[/vc_column_text][vc_column_text css=”.vc_custom_1650356708626{margin-bottom: 10px !important;padding-top: 0px !important;padding-right: 0px !important;padding-bottom: 0px !important;padding-left: 0px !important;background-color: #f4f4f4 !important;}”] \n\n❤️ Discount info:\nIf you are a repeater you are eligible for 50% Discount. Coupon code will be shared to you in Email. For queries\, please write to team@infinitehealing.co.uk\nNote: Offer expires after the class. \n\n[/vc_column_text][vc_column_text css=”.vc_custom_1652867785078{margin-bottom: 15px !important;padding-top: 10px !important;padding-right: 10px !important;padding-bottom: 10px !important;padding-left: 10px !important;background-color: #f4f4f4 !important;}”] \n❤️ Course Inclusion: \n\nUser Manual.\nVideo and Audio recordings.\nCertification (After passing a descriptive quiz).\n\n[/vc_column_text][/vc_column][/vc_row][vc_row css=”.vc_custom_1636623632846{margin-bottom: 10px !important;}”][vc_column width=”1/2″ css=”.vc_custom_1636640422171{margin-bottom: 10px !important;}” el_class=”first-col”][vc_column_text css=”.vc_custom_1645458453275{margin-bottom: 10px !important;}”] \n❤️ Description: \n\nJoyous Body Protocol is a self-help procedure consisting of a series of steps that use the vibration of light keys to restore the body’s healing ability and create harmony and peace with the body. Certified Practitioners can also perform this protocol on clients. This has been the most celebrated protocol in the entire light key system. \nThis protocol takes only about 15-20 minutes to complete and in just 11 days\, you will find a considerable shift in your body. \nThis is an upgraded version of Joyous body protocol which covers 3 additional topics as below along with Joyous body Protocol. \n\nLight Matrix command – A very effective tool to change anything and everything that is not working for you.\nLight Matrix command for releasing virus\, bacteria\, and parasites – To remove any infection\, inflammation\, or decay in the body and create a healthy body.\nTaster of Light key experience – Introduces the power of using light keys for creating peace and harmony.\n\n\n\n\n❤️ Potential benefits: \n\nStronger immune system.\nEnergy blocks cleared in the body.\nEnhanced energy flow.\nAn overall sense of well being and vitality.\nEmpowered to help others with healing.\n\n\n[/vc_column_text][vc_column_text css=”.vc_custom_1652867631373{margin-bottom: 10px !important;padding-top: 10px !important;padding-right: 10px !important;padding-bottom: 10px !important;padding-left: 10px !important;background-color: #f4f4f4 !important;}”] \n❤️ Course Cost:\n $88 Buy Now if not yet purchased.\n[/vc_column_text][/vc_column][vc_column width=”1/2″ css=”.vc_custom_1640350355209{padding-right: 0px !important;padding-left: 0px !important;}”][vc_column_text css=”.vc_custom_1650368701079{margin-bottom: 10px !important;padding-top: 10px !important;padding-right: 10px !important;padding-bottom: 10px !important;padding-left: 10px !important;background-color: #f4f4f4 !important;}”] \n❤️ Course Pre-requisite: \n\nNone.\n\n[/vc_column_text][vc_column_text css=”.vc_custom_1647410761633{margin-bottom: 10px !important;padding-top: 10px !important;padding-right: 10px !important;padding-bottom: 10px !important;padding-left: 10px !important;background-color: #f4f4f4 !important;}”] \nIf you like to practise this protocol on your clients\, get certified.\n❤️ Certification criterion: \n\nPass a descriptive Quiz with 60%.\n\n[/vc_column_text][vc_column_text css=”.vc_custom_1651038440695{margin-bottom: 15px !important;padding-top: 5px !important;padding-right: 10px !important;padding-bottom: 2px !important;padding-left: 10px !important;background-color: #f4f4f4 !important;}”] \n❤️ INR Payment Option:\nFor INR payments\, you can use Paytm payment gateway. Set the page currency as “INR” and then select ‘Paytm’ during the checkout. You can pay using QR code\, UPI\, bank transfer and credit/debit card as well.[/vc_column_text][vc_single_image image=”93958″ img_size=”200×200″ alignment=”center” style=”vc_box_border_circle_2″ css=”.vc_custom_1650356719838{margin-bottom: 10px !important;}”][vc_column_text] \n❤️ Your Facilitator: Winnie Bajaria\nEmail: dr.winniepmehta@gmail.com\n[/vc_column_text][/vc_column][/vc_row][vc_row full_width=”stretch_row” el_class=”discla-section-74904″][vc_column el_id=”exciting-testimonials”][vc_column_text css=”.vc_custom_1643978439139{margin-bottom: 10px !important;padding-top: 10px !important;padding-right: 10px !important;padding-bottom: 10px !important;padding-left: 10px !important;background-color: #f4f4f4 !important;}” el_id=”exist-testimonials”] \n\nDisclaimer: This is not meant to be a replacement for any professional help you may require.\nTerms: The experience of each individual varies and hence the outcome from this class cannot be guaranteed. Please register only if you are willing to take responsibility for the outcome of the practices taught.\n[/vc_column_text][vc_column_text css=”.vc_custom_1647409603947{margin-bottom: 10px !important;}”] \n❤️ Here are some amazing shares from previous classes:\n“”brillianttt… its like a weight has been lifted off the body and its vibratingg” “3 days of self JBP eased out my TMJ greatly. My mouth opens wider. So much ease with my head and neck.”” \nJBP not only brings change in our body but makes us love our ZINDAGI n life Beyond it…Thank you Nila♥️👼 \ni had pain in my left leg since 1 month and now u dont feel the pain at all….tingling all over my head..Thank u so much 😇😇 \n2 days ago one JBP session helped improve the blood pressure and urine output for an Alzheimer patient. Thank you 🙏 \n[/vc_column_text][vc_separator css=”.vc_custom_1621236614421{margin-bottom: 8px !important;}”][vc_btn title=”REGISTER YOUR INTEREST” color=”primary” align=”center” i_icon_fontawesome=”fa fa-pencil” add_icon=”true” link=”|||” css=”.vc_custom_1647409418139{margin-bottom: 10px !important;}” el_class=”event_registration NEWERIH”][vc_column_text] \nPlease feel free to register and share with your family and friends. \nFor any queries/support\, please click here.\n[/vc_column_text][/vc_column][/vc_row]
URL:https://infinitehealing.co.uk/event/joyous-body-protocol-certified-6/
CATEGORIES:Light key
END:VEVENT
END:VCALENDAR