
BEGIN:VCALENDAR
VERSION:2.0
PRODID:-//Light Key Academy - ECPv6.15.3//NONSGML v1.0//EN
CALSCALE:GREGORIAN
METHOD:PUBLISH
X-ORIGINAL-URL:https://infinitehealing.co.uk
X-WR-CALDESC:Events for Light Key Academy
REFRESH-INTERVAL;VALUE=DURATION:PT1H
X-Robots-Tag:noindex
X-PUBLISHED-TTL:PT1H
BEGIN:VTIMEZONE
TZID:America/New_York
BEGIN:DAYLIGHT
TZOFFSETFROM:-0500
TZOFFSETTO:-0400
TZNAME:EDT
DTSTART:20220313T070000
END:DAYLIGHT
BEGIN:STANDARD
TZOFFSETFROM:-0400
TZOFFSETTO:-0500
TZNAME:EST
DTSTART:20221106T060000
END:STANDARD
END:VTIMEZONE
BEGIN:VEVENT
DTSTART;TZID=America/New_York:20220601T140000
DTEND;TZID=America/New_York:20220601T150000
DTSTAMP:20260424T091827
CREATED:20220524T073251Z
LAST-MODIFIED:20220524T140655Z
UID:96374-1654092000-1654095600@infinitehealing.co.uk
SUMMARY:Light Key Protocol for Healing Abuse and Trauma
DESCRIPTION:[vc_row css=”.vc_custom_1643981182427{margin-bottom: 2px !important;}”][vc_column width=”1/2″ css=”.vc_custom_1636640422171{margin-bottom: 10px !important;}” el_class=”first-col”][vc_single_image image=”96373″ img_size=”full” alignment=”center” css=”.vc_custom_1647498656103{margin-top: 20px !important;margin-bottom: 5px !important;}”][vc_row_inner css=”.vc_custom_1640363144187{margin-bottom: 10px !important;}”][vc_column_inner el_class=”mrgn-btm-0″ width=”1/6″ css=”.vc_custom_1638878177960{margin-bottom: 0px !important;}”][/vc_column_inner][vc_column_inner el_class=”mrgn-btm-10″ width=”1/3″ css=”.vc_custom_1638878383870{margin-bottom: 0px !important;}”][vc_btn title=”Exciting Testimonials” color=”primary” align=”center” button_block=”true” link=”url:%23exist-testimonials|||” css=”.vc_custom_1643978417410{margin-bottom: 0px !important;}” el_class=”registerNOW78521 evtquickOptsih”][/vc_column_inner][vc_column_inner el_class=”rgister-btn-sec mrgn-btm-0″ width=”1/3″ css=”.vc_custom_1638878316277{margin-bottom: 10px !important;}”][vc_btn title=”Know More” color=”primary” align=”center” button_block=”true” link=”url:%23des-section|||” css=”.vc_custom_1638878011438{margin-bottom: 0px !important;}” el_class=”registerNOW78521 evtquickOptsih”][/vc_column_inner][vc_column_inner el_class=”mrgn-btm-0″ width=”1/6″ css=”.vc_custom_1638878319397{margin-bottom: 0px !important;}”][/vc_column_inner][/vc_row_inner][/vc_column][vc_column width=”1/2″ el_id=”des-section” css=”.vc_custom_1640350355209{padding-right: 0px !important;padding-left: 0px !important;}”][vc_column_text el_id=”regis-from” css=”.vc_custom_1645442126261{margin-bottom: 10px !important;padding-right: 10px !important;padding-left: 0px !important;}”] \nLight Key Protocol for Healing Abuse and Trauma (English)\n1st June 2022\n10:00 AM EST / 3:00 PM BST / 5:00 PM Israel / 7:30 PM India / 12:00 AM AET (Next Day) \nDuration: 1 Hr (Click here to get the time for your time zone.) \n[/vc_column_text][vc_column_text css=”.vc_custom_1646215304229{margin-bottom: 15px !important;padding-top: 10px !important;padding-right: 10px !important;padding-bottom: 10px !important;padding-left: 10px !important;background-color: #f4f4f4 !important;}”] \n❤️ Course Inclusion: \n\nUser Manual\nAudio and Video Recordings\n\n\n❤️ Course Cost:\n$55Add to cartAdd to cart  Buy Now\n\n[/vc_column_text][vc_column_text css=”.vc_custom_1653392462871{margin-bottom: 10px !important;padding-top: 5px !important;padding-right: 10px !important;padding-bottom: 2px !important;padding-left: 10px !important;background-color: #f4f4f4 !important;}” el_id=”DSK-ev-ADDTOCRT”] \n❤️ INR Payment Option:\nFor INR payments\, you can use Paytm payment gateway. Set the page currency as “INR” and then select ‘Paytm’ during the checkout. You can pay using QR code\, UPI\, bank transfer and credit/debit card as well.[/vc_column_text][vc_column_text css=”.vc_custom_1653395231689{margin-bottom: 10px !important;padding-top: 5px !important;padding-right: 10px !important;padding-bottom: 2px !important;padding-left: 10px !important;background-color: #f4f4f4 !important;}”] \n❤️ Course Pre-requisites:\n\nNone\n\n[/vc_column_text][/vc_column][/vc_row][vc_row][vc_column][vc_column_text] \n[/vc_column_text][/vc_column][/vc_row][vc_row css=”.vc_custom_1636623632846{margin-bottom: 10px !important;}”][vc_column width=”1/2″ css=”.vc_custom_1636640422171{margin-bottom: 10px !important;}” el_class=”first-col”][vc_column_text css=”.vc_custom_1653392675954{margin-bottom: 10px !important;}”] \n❤️ Description: \n\nIf you have repeating patterns in life\, it is possible that you are stuck in a time when abuse or trauma occurred. A series of simple steps channeled by Nila gently lifts you and helps you move forward in life. \nThe best thing about this process is that you do not have to relive the memories. Finally\, you can now move forward from being a victim to the master of your life. This protocol can be practiced by anyone and it only takes a few minutes \n\n\n[/vc_column_text][vc_column_text css=”.vc_custom_1646380339589{margin-bottom: 10px !important;padding-top: 10px !important;padding-right: 10px !important;padding-bottom: 10px !important;padding-left: 10px !important;background-color: #f4f4f4 !important;}”] \n❤️ Course Cost:\n $55 Buy Now if not yet purchased.\n[/vc_column_text][vc_column_text css=”.vc_custom_1653380180067{margin-bottom: 10px !important;padding-top: 10px !important;padding-right: 10px !important;padding-bottom: 10px !important;padding-left: 10px !important;background-color: #f4f4f4 !important;}” el_id=”exist-testimonials”] \n❤️ Here are some amazing shares from previous classes:\n“From the moment I joined the call\, I felt relief also can feel lightness after practicing the steps” \n\n“I overthink and worry over the smallest of things a lot. In the last few years\, I’ve seen how this can affect someone physically: the skin\, the body in terms of how active you are\, and so on. When I started doing the Abuse and Trauma Protocol\, I wasn’t expecting the results it had for me. I wasn’t even very consistent at it in the beginning\, but it became quite easy to let go and worry less. I’ll share one among the quite a few instances that strengthened my belief in and motivated me to work with this protocol. There was a situation at work where a client gave my team bad feedback and was very rude. When similar things happened earlier\, I have worried myself so much that at times I’ve had a fever. However\, this time\, although I was worried for some time\, it was easier to let go\, to accept that there was a problem\, and sit down to work on the solution.I was able to think rationally faster. I was worried less. I say less because I have a long way to go. But starting something is the most difficult thing to do. And this protocol\, in my opinion\, is a great and easy start.\nEven I am doing it everyday…..don’t have the count of no of days…..and my relationship is changing like magic. “\n\n“Hi Nila.. I have an experience with your couple of programs. I see tremendous change in my self esteem\, confidence and ease. I used attract abusive \, controlling relationships\, it started changii. I feel more comfortable and grounded and fearless with people around me. Your conciousnes clearings are also magic. “ \n[/vc_column_text][/vc_column][vc_column width=”1/2″ css=”.vc_custom_1640350355209{padding-right: 0px !important;padding-left: 0px !important;}”][vc_column_text css=”.vc_custom_1647410761633{margin-bottom: 10px !important;padding-top: 10px !important;padding-right: 10px !important;padding-bottom: 10px !important;padding-left: 10px !important;background-color: #f4f4f4 !important;}”] \nIf you like to practise this protocol on your clients\, get certified.\n❤️ Certification criterion: \n\nPass a descriptive quiz with 60%.\nComplete a case study successfully.\n\n\n❤️ Certification Cost:\n$52Add to cartAdd to cart  Buy Now\n\n❤️ Certification Pre-requisites: \n\nLight Key Protocol for Healing Abuse and Trauma course\nMust have Certification of Light Key Frequencies – Transformational processes for body\, life and beyond\nMust have Certification of Joyous Body Protocol\nLight Keys for Life and Beyond! (Intermediate Course-V3) (OR) Light Key Intermediate Blueprint Course For Life and Beyond-V4\nConscious and Prosperous healer – Basic (certification not required)\n\n[/vc_column_text][vc_single_image image=”96372″ img_size=”200×200″ alignment=”center” style=”vc_box_border_circle_2″ css=”.vc_custom_1645452431533{margin-bottom: 10px !important;}”][vc_column_text css=”.vc_custom_1647330846472{margin-bottom: 10px !important;}”] \n❤️ Your Facilitator: Suguna Sathish\nEmail: mailssuguna@gmail.com\nPhone: +447860552678\n[/vc_column_text][vc_column_text css=”.vc_custom_1643978439139{margin-bottom: 10px !important;padding-top: 10px !important;padding-right: 10px !important;padding-bottom: 10px !important;padding-left: 10px !important;background-color: #f4f4f4 !important;}”] \n\nDisclaimer: This is not meant to be a replacement for any professional help you may require.\nTerms: The experience of each individual varies and hence the outcome from this class cannot be guaranteed. Please register only if you are willing to take responsibility for the outcome of the practices taught.\n[/vc_column_text][/vc_column][/vc_row][vc_row][vc_column][vc_column_text] \n[/vc_column_text][/vc_column][/vc_row][vc_row full_width=”stretch_row” el_class=”discla-section-74904″][vc_column el_id=”exciting-testimonials”][vc_separator css=”.vc_custom_1621236614421{margin-bottom: 8px !important;}”][vc_btn title=”REGISTER YOUR INTEREST” color=”primary” align=”center” i_icon_fontawesome=”fa fa-pencil” add_icon=”true” link=”|||” css=”.vc_custom_1647409418139{margin-bottom: 10px !important;}” el_class=”event_registration NEWERIH”][vc_column_text] \nPlease feel free to register and share with your family and friends. \nFor any queries/support\, please click here.\n[/vc_column_text][/vc_column][/vc_row]
URL:https://infinitehealing.co.uk/event/light-key-protocol-for-healing-abuse-and-trauma-4/
CATEGORIES:Light key
END:VEVENT
END:VCALENDAR