
BEGIN:VCALENDAR
VERSION:2.0
PRODID:-//Light Key Academy - ECPv6.15.3//NONSGML v1.0//EN
CALSCALE:GREGORIAN
METHOD:PUBLISH
X-WR-CALNAME:Light Key Academy
X-ORIGINAL-URL:https://infinitehealing.co.uk
X-WR-CALDESC:Events for Light Key Academy
REFRESH-INTERVAL;VALUE=DURATION:PT1H
X-Robots-Tag:noindex
X-PUBLISHED-TTL:PT1H
BEGIN:VTIMEZONE
TZID:America/New_York
BEGIN:DAYLIGHT
TZOFFSETFROM:-0500
TZOFFSETTO:-0400
TZNAME:EDT
DTSTART:20230312T070000
END:DAYLIGHT
BEGIN:STANDARD
TZOFFSETFROM:-0400
TZOFFSETTO:-0500
TZNAME:EST
DTSTART:20231105T060000
END:STANDARD
BEGIN:DAYLIGHT
TZOFFSETFROM:-0500
TZOFFSETTO:-0400
TZNAME:EDT
DTSTART:20240310T070000
END:DAYLIGHT
BEGIN:STANDARD
TZOFFSETFROM:-0400
TZOFFSETTO:-0500
TZNAME:EST
DTSTART:20241103T060000
END:STANDARD
END:VTIMEZONE
BEGIN:VEVENT
DTSTART;TZID=America/New_York:20231101T040000
DTEND;TZID=America/New_York:20241101T035900
DTSTAMP:20260424T091329
CREATED:20231024T091851Z
LAST-MODIFIED:20231108T085903Z
UID:110423-1698811200-1730433540@infinitehealing.co.uk
SUMMARY:Celestial Alliance with the Ancients: Annual Healing Support
DESCRIPTION:[vc_row css=”.vc_custom_1643981182427{margin-bottom: 2px !important;}”][vc_column width=”1/2″ css=”.vc_custom_1636640422171{margin-bottom: 10px !important;}” el_class=”first-col”][vc_single_image image=”110422″ img_size=”full” alignment=”center” css=”.vc_custom_1698140546791{margin-top: 20px !important;margin-bottom: 5px !important;}”][vc_row_inner css=”.vc_custom_1640363144187{margin-bottom: 10px !important;}”][vc_column_inner el_class=”mrgn-btm-0″ width=”1/6″ css=”.vc_custom_1638878177960{margin-bottom: 0px !important;}”][/vc_column_inner][vc_column_inner el_class=”mrgn-btm-10″ width=”1/3″ css=”.vc_custom_1638878383870{margin-bottom: 0px !important;}”][vc_btn title=”Exciting Testimonials” color=”primary” align=”center” button_block=”true” link=”url:%23testimonials|||” css=”.vc_custom_1689581742827{margin-bottom: 0px !important;}” el_class=”registerNOW78521 evtquickOptsih”][/vc_column_inner][vc_column_inner el_class=”rgister-btn-sec mrgn-btm-0″ width=”1/3″ css=”.vc_custom_1638878316277{margin-bottom: 10px !important;}”][vc_btn title=”Know More” color=”primary” align=”center” button_block=”true” link=”url:%23des-section|||” css=”.vc_custom_1638878011438{margin-bottom: 0px !important;}” el_class=”registerNOW78521 evtquickOptsih”][/vc_column_inner][vc_column_inner el_class=”mrgn-btm-0″ width=”1/6″ css=”.vc_custom_1638878319397{margin-bottom: 0px !important;}”][/vc_column_inner][/vc_row_inner][vc_column_text css=”.vc_custom_1698155255565{margin-bottom: 10px !important;}” el_class=”DSK-ev-ADDTOCRT”] \nTransform your life with the power of ancient wisdom and divine guidance.\n\nEmbark on a year-long journey of healing and transformation with the Celestial Alliance\, a unique partnership between humanity and the wise and benevolent Ancients.\nAs we enter a new era of heightened consciousness\, the Ancients offer their support and guidance to help us create a life filled with love\, abundance\, and miracles.\n\n❤️ What you can expect from the Celestial Alliance:\n\nEndless streams of ancient wisdom: Tap into the profound knowledge and revitalizing energies of the Ancients to gain deeper insights into your life’s purpose and manifest your highest potential.\nHeart-centered transformation: Experience a deep and lasting healing process that dissolves barriers\, harmonizes your relationships\, and opens you up to receive the boundless blessings of the cosmos.\nMiracles as constants: Live in a world where wonders and blessings are commonplace\, under the gentle touch of the Celestial Alliance.\n\n\nJoin the Celestial Alliance today and embark on a year drenched in marvels and boundless prosperity.\nThe Ancients await your partnership. Embrace the journey!\n❤️ How does it work?\n\nNila\, along with Ancients\, will set up the healing stream for the registrants. This healing stream flows through the registrants and uplifts their life holistically. As Ancients are very tuned to the energy of human life on earth\, the healing is sent where it is required without having to pray or having specific intention. The healing is custom for every individual for their highest good.\nEven though there is no need to connect to the stream consciously to receive the benefits\, it is also recommended to connect every now and then to experience the energy and sense of support. The access information will be shared with the registrants for them to connect to the stream any time between November 2023 to October 2024.\nIt’s all virtual and absent.\n[/vc_column_text][vc_column_text css=”.vc_custom_1698143051161{margin-bottom: 10px !important;padding-top: 10px !important;padding-right: 10px !important;padding-bottom: 10px !important;padding-left: 10px !important;background-color: #f4f4f4 !important;}” el_class=”DSK-ev-ADDTOCRT”] \n Investment:\n $396 $120 Buy Now if not yet purchased.\n[/vc_column_text][vc_column_text css=”.vc_custom_1695205311825{margin-bottom: 10px !important;padding-top: 10px !important;padding-right: 10px !important;padding-bottom: 10px !important;padding-left: 10px !important;background-color: #f4f4f4 !important;}” el_class=”DSK-ev-ADDTOCRT”] \n\nDisclaimer: This is not meant to be a replacement for any professional support/medication you may require.\nTerms: The experience of each individual varies and hence the outcome from this class cannot be guaranteed. Please register only if you are willing to take responsibility for the outcome of the practices taught.\n[/vc_column_text][/vc_column][vc_column width=”1/2″ el_id=”des-section” css=”.vc_custom_1640350355209{padding-right: 0px !important;padding-left: 0px !important;}”][vc_column_text css=”.vc_custom_1698155267601{margin-bottom: 10px !important;padding-right: 10px !important;padding-left: 0px !important;}”] \nCelestial Alliance with the Ancients: Annual Healing Support\n(English)\n1st Nov 2023 to 31st Oct 2024\n[/vc_column_text][vc_column_text css=”.vc_custom_1699433912354{margin-bottom: 10px !important;padding-top: 10px !important;padding-right: 10px !important;padding-bottom: 10px !important;padding-left: 10px !important;background-color: #f4f4f4 !important;}” el_class=”hidden”]❤️ Investment: \n\n$396 Original price was: $396.$120Current price is: $120.Add to cartAdd to cart  Buy Now\n\nNote: Offer valid until 7th November 2023\n[/vc_column_text][vc_column_text css=”.vc_custom_1699433919482{margin-bottom: 10px !important;padding-top: 10px !important;padding-right: 10px !important;padding-bottom: 10px !important;padding-left: 10px !important;background-color: #f4f4f4 !important;}”]❤️ Investment: \n\n$396 Original price was: $396.$120Current price is: $120.Add to cartAdd to cart  Buy Now\n\n[/vc_column_text][vc_column_text css=”.vc_custom_1698139227295{margin-bottom: 10px !important;padding-top: 10px !important;padding-right: 10px !important;padding-bottom: 10px !important;padding-left: 10px !important;background-color: #f4f4f4 !important;}” el_class=”hidden”] \n Inclusion: \n\nInstructions to Receive Blessings.\n\n[/vc_column_text][vc_column_text css=”.vc_custom_1695365867372{margin-bottom: 10px !important;padding-top: 10px !important;padding-right: 10px !important;padding-bottom: 10px !important;padding-left: 10px !important;background-color: #f4f4f4 !important;}”] \n Inclusion: \n\nInstructions to Receive Blessings.\n\n[/vc_column_text][vc_column_text css=”.vc_custom_1698139235942{margin-top: 10px !important;margin-bottom: 10px !important;}” el_class=”hidden”] \n\n❤️ Bonus: Gratitude Challenge\n\nGrace inspires gratitude\, and gratitude brings abundance. Join our October gratitude challenge and experience the difference for yourself!\n\n[/vc_column_text][vc_column_text css=”.vc_custom_1698139242156{margin-top: 10px !important;margin-bottom: 10px !important;}” el_class=”hidden”] \n\n❤️ Exclusive offer:\nGet $15 Flat Discount for this October stream\, if you have purchased Grace Healing with Ancients – Certified\nCoupon code: AGOSOFF15$\n\n\n[/vc_column_text][vc_column_text css=”.vc_custom_1695205300270{margin-bottom: 15px !important;padding-top: 5px !important;padding-right: 10px !important;padding-bottom: 2px !important;padding-left: 10px !important;background-color: #f4f4f4 !important;}”] \n INR Payment Option:\nFor INR payments\, you can use Paytm payment gateway. Set the page currency as “INR” and then select ‘Paytm’ during the checkout. You can pay using QR code\, UPI\, bank transfer and credit/debit card as well. \n[/vc_column_text][vc_column_text css=”.vc_custom_1698155277460{margin-bottom: 10px !important;}” el_class=”mob-ev-ADDTOCRT”] \nTransform your life with the power of ancient wisdom and divine guidance.\n\nEmbark on a year-long journey of healing and transformation with the Celestial Alliance\, a unique partnership between humanity and the wise and benevolent Ancients.\nAs we enter a new era of heightened consciousness\, the Ancients offer their support and guidance to help us create a life filled with love\, abundance\, and miracles.\n\n❤️ What you can expect from the Celestial Alliance:\n\nEndless streams of ancient wisdom: Tap into the profound knowledge and revitalizing energies of the Ancients to gain deeper insights into your life’s purpose and manifest your highest potential.\nHeart-centered transformation: Experience a deep and lasting healing process that dissolves barriers\, harmonizes your relationships\, and opens you up to receive the boundless blessings of the cosmos.\nMiracles as constants: Live in a world where wonders and blessings are commonplace\, under the gentle touch of the Celestial Alliance.\n\n\nJoin the Celestial Alliance today and embark on a year drenched in marvels and boundless prosperity.\nThe Ancients await your partnership. Embrace the journey!\n❤️ How does it work?\n\nNila\, along with Ancients\, will set up the healing stream for the registrants. This healing stream flows through the registrants and uplifts their life holistically. As Ancients are very tuned to the energy of human life on earth\, the healing is sent where it is required without having to pray or having specific intention. The healing is custom for every individual for their highest good.\nEven though there is no need to connect to the stream consciously to receive the benefits\, it is also recommended to connect every now and then to experience the energy and sense of support. The access information will be shared with the registrants for them to connect to the stream any time between November 2023 to October 2024.\nIt’s all virtual and absent.\n[/vc_column_text][vc_column_text css=”.vc_custom_1698143069376{margin-bottom: 10px !important;padding-top: 10px !important;padding-right: 10px !important;padding-bottom: 10px !important;padding-left: 10px !important;background-color: #f4f4f4 !important;}” el_class=”mob-ev-ADDTOCRT”] \n Investment:\n $396 $120 Buy Now if not yet purchased.\n[/vc_column_text][vc_single_image image=”68644″ img_size=”200×200″ alignment=”center” style=”vc_box_border_circle_2″ css=”.vc_custom_1695364246291{margin-bottom: 10px !important;}”][vc_column_text el_id=”testimonials” css=”.vc_custom_1695207891293{margin-bottom: 10px !important;}”] \nNila is an international wellbeing coach who has been in this journey for more than 2 decades. She is also a medium\, channel\, author and entrepreneur. Her capacity with Money is well known – She has increased her company’s turnover by 17 times within 18 months; created multiple revenue streams out of nowhere; received windfall of money as if by magic etc. She is also known as ‘The magic lady’. Nila has the knack of simplifying the laws of the universe through very simple techniques that are fun to practice. \n[/vc_column_text][vc_column_text css=”.vc_custom_1698155527537{margin-top: 15px !important;margin-bottom: 10px !important;}” el_class=”DSK-ev-ADDTOCRT”] \n❤️ Here are some amazing shares:\n\n“Today I got a nice gift a surprising phone call from a performers’ copyrights organisation\, that I was a member in from 1996… and I totally forgot about it 🙂 They told me they were searching for me for a while\, and wanted to pay me royalties for some small dubbing/voice over works that I did few years ago\, for 3-4 animated movies that were dubbed from English to Hebrew (the Lego movie\, Zootropolis\, and 2 more works I really haven’t even remembered that I did :). So they are about to pay me almost 200$ to my account :)) I know it’s the ancients’ contribution to remembering and receiving from my own creations And it’s such a great tribute… it made me smile today 🙂 So grateful!” \n\n\n“My heart is filled with so much Gratitude to you Nila. Truly blessed to have crossed paths with you. I just realised this morning\, The Ancients Blessing Stream has been healing my Mummy too. My Mummy is 84 yrs & has a knee issue\, it was difficult for her to walk\, she used to be in a lot of pain\, this morning I saw that she was walking much better than usual & with not much pain. I have even realised that this fear I have of something happening to my Mummy has just gone. I realised that I have Surrendered everything with Faith knowing that I am being taken care of. Lots of Love & Blessings to you Nila Mam. Thank you\, Thank you\, Thank you” \n\n\n“I am grateful to the ancients for their assistance\, for the excellent news that I just received now that I will have the blefaroplastic surgery that I have been waiting for 2 years\, and the best part is that I will not have to pay for it because it is covered by the health system. Thank you to the Ancients and to all of you and specially to Nilla\, Love you” \n\n\n“I’m n insomniac. …n its taken me a few days to realise that as the month started i was getting 3 hrs of sleep n today i got 5 hrs .n then i went back to sleep again for another 5 hrs!!! thank you Nila and ancients” \n\n\n“These days when I look at myself in the mirror\, I find a beautiful me! I haven’t felt like this in many years …the ancients are contributing to me in many ways…also with money” \n\n[/vc_column_text][/vc_column][/vc_row][vc_row full_width=”stretch_row” el_class=”discla-section-74904″][vc_column el_id=”exciting-testimonials”][vc_column_text css=”.vc_custom_1695205319982{margin-bottom: 10px !important;padding-top: 10px !important;padding-right: 10px !important;padding-bottom: 10px !important;padding-left: 10px !important;background-color: #f4f4f4 !important;}” el_class=”mob-ev-ADDTOCRT”] \n\nDisclaimer: This is not meant to be a replacement for any professional support/medication you may require.\nTerms: The experience of each individual varies and hence the outcome from this class cannot be guaranteed. Please register only if you are willing to take responsibility for the outcome of the practices taught.\n[/vc_column_text][vc_column_text css=”.vc_custom_1698143103722{margin-bottom: 10px !important;}” el_class=”mob-ev-ADDTOCRT”] \n❤️ Here are some amazing shares:\n\n“Today I got a nice gift a surprising phone call from a performers’ copyrights organisation\, that I was a member in from 1996… and I totally forgot about it 🙂 They told me they were searching for me for a while\, and wanted to pay me royalties for some small dubbing/voice over works that I did few years ago\, for 3-4 animated movies that were dubbed from English to Hebrew (the Lego movie\, Zootropolis\, and 2 more works I really haven’t even remembered that I did :). So they are about to pay me almost 200$ to my account :)) I know it’s the ancients’ contribution to remembering and receiving from my own creations And it’s such a great tribute… it made me smile today 🙂 So grateful!” \n\n\n“My heart is filled with so much Gratitude to you Nila. Truly blessed to have crossed paths with you. I just realised this morning\, The Ancients Blessing Stream has been healing my Mummy too. My Mummy is 84 yrs & has a knee issue\, it was difficult for her to walk\, she used to be in a lot of pain\, this morning I saw that she was walking much better than usual & with not much pain. I have even realised that this fear I have of something happening to my Mummy has just gone. I realised that I have Surrendered everything with Faith knowing that I am being taken care of. Lots of Love & Blessings to you Nila Mam. Thank you\, Thank you\, Thank you” \n\n\n“I am grateful to the ancients for their assistance\, for the excellent news that I just received now that I will have the blefaroplastic surgery that I have been waiting for 2 years\, and the best part is that I will not have to pay for it because it is covered by the health system. Thank you to the Ancients and to all of you and specially to Nilla\, Love you” \n\n\n“I’m n insomniac. …n its taken me a few days to realise that as the month started i was getting 3 hrs of sleep n today i got 5 hrs .n then i went back to sleep again for another 5 hrs!!! thank you Nila and ancients” \n\n[/vc_column_text][vc_btn title=”REGISTER YOUR INTEREST” color=”primary” align=”center” i_icon_fontawesome=”fa fa-pencil” add_icon=”true” link=”|||” css=”.vc_custom_1692453278526{margin-bottom: 10px !important;}” el_class=”event_registration NEWERIH”][vc_column_text el_class=”hidden”] \nFor any queries/support\, please click here.\n[/vc_column_text][vc_column_text] \nPlease feel free to register and share with your family and friends. \nFor any queries/support\, please click here.\n[/vc_column_text][/vc_column][/vc_row]
URL:https://infinitehealing.co.uk/event/celestial-alliance-with-the-ancients-annual-healing-support/
CATEGORIES:Healing,Life,Light key,Spiritual,Wealth,Wellbeing
END:VEVENT
BEGIN:VEVENT
DTSTART;TZID=America/New_York:20240109T133000
DTEND;TZID=America/New_York:20240109T163000
DTSTAMP:20260424T091329
CREATED:20231129T075230Z
LAST-MODIFIED:20240110T063227Z
UID:111086-1704807000-1704817800@infinitehealing.co.uk
SUMMARY:Conscious and Prosperous Healer (Basic)
DESCRIPTION:[vc_row css=”.vc_custom_1643981182427{margin-bottom: 2px !important;}”][vc_column width=”1/2″ css=”.vc_custom_1636640422171{margin-bottom: 10px !important;}” el_class=”first-col”][vc_single_image image=”111095″ img_size=”full” alignment=”center” css=”.vc_custom_1701252829866{margin-top: 20px !important;margin-bottom: 5px !important;}”][vc_row_inner css=”.vc_custom_1640363144187{margin-bottom: 10px !important;}”][vc_column_inner el_class=”mrgn-btm-0″ width=”1/6″ css=”.vc_custom_1638878177960{margin-bottom: 0px !important;}”][/vc_column_inner][vc_column_inner el_class=”mrgn-btm-10″ width=”1/3″ css=”.vc_custom_1638878383870{margin-bottom: 0px !important;}”][vc_btn title=”Exciting Testimonials” color=”primary” align=”center” button_block=”true” link=”url:%23testimonials|||” css=”.vc_custom_1682087355115{margin-bottom: 0px !important;}” el_class=”registerNOW78521 evtquickOptsih”][/vc_column_inner][vc_column_inner el_class=”rgister-btn-sec mrgn-btm-0″ width=”1/3″ css=”.vc_custom_1638878316277{margin-bottom: 10px !important;}”][vc_btn title=”Know More” color=”primary” align=”center” button_block=”true” link=”url:%23des-section|||” css=”.vc_custom_1638878011438{margin-bottom: 0px !important;}” el_class=”registerNOW78521 evtquickOptsih”][/vc_column_inner][vc_column_inner el_class=”mrgn-btm-0″ width=”1/6″ css=”.vc_custom_1638878319397{margin-bottom: 0px !important;}”][/vc_column_inner][/vc_row_inner][vc_column_text css=”.vc_custom_1701247425942{margin-bottom: 10px !important;}” el_class=”DSK-ev-ADDTOCRT”] \nIn this class\, you are going to learn & experience the following:\n\n\nBusting the myths about healing and healers\nAre you healing your clients or seeking healing from your clients?\nThe difference between conscious healing and unconscious healing\nHow to be a catalyst for your client NOT a candle\nAcknowledging your willingness to be prosperous\nTaking responsibility and making conscious choices for your prosperity\n\nBonus: \nLightlogue to exponentialize your healing capacity.\nPossible Benefits:\n\nYou will feel more empowered and authentic.\nThe dynamics between you and your client changes significantly for the better.\nNo more burn out from energy healing sessions.\nMore clarity with respect to your work.\nMoved into Prosperity consciousness from poverty consciousness.\n\n\n[/vc_column_text][vc_column_text css=”.vc_custom_1704868237007{margin-bottom: 10px !important;padding-top: 10px !important;padding-right: 10px !important;padding-bottom: 10px !important;padding-left: 10px !important;background-color: #f4f4f4 !important;}” el_class=”hidden DSK-ev-ADDTOCRT”] \n❤️ Course Investment:\n  $126 Buy Now if not yet purchased.\n[/vc_column_text][vc_column_text css=”.vc_custom_1701258282385{margin-bottom: 10px !important;padding-top: 10px !important;padding-right: 10px !important;padding-bottom: 10px !important;padding-left: 10px !important;background-color: #f4f4f4 !important;}” el_class=”hidden DSK-ev-ADDTOCRT”] \n\nDisclaimer: This is not meant to be a replacement for any professional support/medication you may require.\nTerms: The experience of each individual varies and hence the outcome from this class cannot be guaranteed. Please register only if you are willing to take responsibility for the outcome of the practices taught.\n[/vc_column_text][/vc_column][vc_column width=”1/2″ el_id=”des-section” css=”.vc_custom_1640350355209{padding-right: 0px !important;padding-left: 0px !important;}”][vc_column_text el_id=”regis-from” css=”.vc_custom_1701258544622{margin-bottom: 10px !important;padding-right: 10px !important;padding-left: 0px !important;}”] \nConscious and Prosperous Healer (Basic)\n(English)\n9th January 2024\n8.30 AM EST / 1:30 PM GMT / 3:30 PM Israel / 7:00 PM India / 12:30 AM AET (Next Day) \nDuration: 2.5 – 3 Hours (Click here to get the time for your time zone.) \n[/vc_column_text][vc_column_text css=”.vc_custom_1704868330877{margin-bottom: 10px !important;}”] \nClass Cancelled\n[/vc_column_text][vc_column_text css=”.vc_custom_1704868229501{margin-bottom: 10px !important;padding-top: 10px !important;padding-right: 10px !important;padding-bottom: 10px !important;padding-left: 10px !important;background-color: #f4f4f4 !important;}” el_class=”hidden”] \n❤️ Course Investment:\n$126Add to cartAdd to cart  Buy Now\n[/vc_column_text][vc_column_text css=”.vc_custom_1701258221526{margin-bottom: 10px !important;padding-top: 10px !important;padding-right: 10px !important;padding-bottom: 10px !important;padding-left: 10px !important;background-color: #f4f4f4 !important;}”] \n❤️ Course Inclusion: \n\nUser Manual.\nVideo and Audio recordings.\nBonus Lightlogue.\n\n[/vc_column_text][vc_column_text css=”.vc_custom_1701258226461{margin-bottom: 10px !important;padding-top: 10px !important;padding-right: 10px !important;padding-bottom: 10px !important;padding-left: 10px !important;background-color: #f4f4f4 !important;}”] \n❤️ Course Pre-requisite: \n\nNone.\n\n[/vc_column_text][vc_column_text css=”.vc_custom_1701258232210{margin-bottom: 10px !important;}”] \n\n❤️ Discount info:\nIf you are a repeater you are eligible for 50% Discount. Coupon is available in your account. For queries\, please write to team@infinitehealing.co.uk\nNote: Offer expires after the class.\n\n[/vc_column_text][vc_column_text css=”.vc_custom_1694608770771{margin-bottom: 10px !important;padding-top: 5px !important;padding-right: 10px !important;padding-bottom: 2px !important;padding-left: 10px !important;background-color: #f4f4f4 !important;}”] \n❤️ INR Payment Option:\nFor INR payments\, you can use Paytm payment gateway. Set the page currency as “INR” and then select ‘Paytm’ during the checkout. You can pay using QR code\, UPI\, bank transfer and credit/debit card as well. \n[/vc_column_text][vc_column_text css=”.vc_custom_1701258237843{margin-bottom: 10px !important;}” el_class=”mob-ev-ADDTOCRT”] \nIn this class\, you are going to learn & experience the following:\n\n\nBusting the myths about healing and healers\nAre you healing your clients or seeking healing from your clients?\nThe difference between conscious healing and unconscious healing\nHow to be a catalyst for your client NOT a candle\nAcknowledging your willingness to be prosperous\nTaking responsibility and making conscious choices for your prosperity\n\nBonus: \nLightlogue to exponentialize your healing capacity.\nPossible Benefits:\n\nYou will feel more empowered and authentic.\nThe dynamics between you and your client changes significantly for the better.\nNo more burn out from energy healing sessions.\nMore clarity with respect to your work.\nMoved into Prosperity consciousness from poverty consciousness.\n\n\n[/vc_column_text][vc_column_text css=”.vc_custom_1704868247415{margin-bottom: 10px !important;padding-top: 10px !important;padding-right: 10px !important;padding-bottom: 10px !important;padding-left: 10px !important;background-color: #f4f4f4 !important;}” el_class=”hidden mob-ev-ADDTOCRT”] \n❤️ Course Investment:\n  $126 Buy Now if not yet purchased.\n[/vc_column_text][vc_column_text css=”.vc_custom_1701258254399{margin-bottom: 10px !important;padding-top: 10px !important;padding-right: 10px !important;padding-bottom: 10px !important;padding-left: 10px !important;background-color: #f4f4f4 !important;}”] \nIf you like to practise this protocol on your clients\, get certified.\n❤️ Certification criterion: \n\nPass a simple Quiz with 60%.\n\n[/vc_column_text][vc_column_text css=”.vc_custom_1701258249887{margin-bottom: 10px !important;padding-top: 10px !important;padding-right: 10px !important;padding-bottom: 10px !important;padding-left: 10px !important;background-color: #f4f4f4 !important;}”] \n❤️ Certification Pre-requisite: \n\nConscious and Prosperous Healer (Basic) – Course.\n\n[/vc_column_text][vc_column_text css=”.vc_custom_1704868253758{margin-bottom: 10px !important;padding-top: 10px !important;padding-right: 10px !important;padding-bottom: 10px !important;padding-left: 10px !important;background-color: #f4f4f4 !important;}” el_class=”hidden”] \n❤️ Certification Investment:\n$42Add to cartAdd to cart  Buy Now\n[/vc_column_text][vc_single_image image=”102658″ img_size=”200×200″ alignment=”center” style=”vc_box_border_circle_2″ css=”.vc_custom_1701258264032{margin-bottom: 10px !important;}”][vc_column_text] \n❤️ Your Facilitator: Smriti Shivdasani\nEmail: smriti.shivdasani@gmail.com\n[/vc_column_text][/vc_column][/vc_row][vc_row full_width=”stretch_row” el_class=”discla-section-74904″][vc_column el_id=”exciting-testimonials”][vc_column_text css=”.vc_custom_1701330673207{margin-bottom: 10px !important;padding-top: 10px !important;padding-right: 10px !important;padding-bottom: 10px !important;padding-left: 10px !important;background-color: #f4f4f4 !important;}” el_id=”testimonials”] \n\nDisclaimer: This is not meant to be a replacement for any professional support/medication you may require.\nTerms: The experience of each individual varies and hence the outcome from this class cannot be guaranteed. Please register only if you are willing to take responsibility for the outcome of the practices taught.\n[/vc_column_text][vc_column_text css=”.vc_custom_1694603810217{margin-bottom: 10px !important;}”] \n❤️ Here are some amazing shares:\n\n“I just completed listening to conscious and prosperous healer basic. Nila could have named it conscious parenting\, dealing with mother in law\, relationship class\, and it would still be relevant. For me\, it opened up how I have been dealing with my son. It has led me to drop expectations\, or at least name them out to him. I now spell out the situation to him. I tell him what is expected behaviour and what he has been doing\, rather than scolding and projecting that he does not understand. And so much more. Yesterday I went about my day with a grumpy mil\, without being pushed around but in allowance and she came around As Smriti rightly put it at the end of the course\, it is about how we function in our lives. Nila has poured out her years of accumulated wisdom and it is a treasure trove of beingness. In gratitude” \n\n\n“I had preconditioning that spirituality is a service…it was very difficult for me to take money for healing services. I also had my value attached to what I was doing. All this cleared with more awareness of how can a Healer (even if you heal only yourself) operate with consciousness. Well there were different points that cleared for different people but this One Of A Kind course surely stirred everyone up. Definitely not to miss as no one teaches you to be a Conscious and Prosperous Healer!” \n\n\n“Thankyou @Nila I was so enjoying the class so interesting …loved every bit…. So greatful to Universe CPH was my Ask for this month it got Created & How” \n\n[/vc_column_text][vc_btn title=”REGISTER YOUR INTEREST” color=”primary” align=”center” i_icon_fontawesome=”fa fa-pencil” add_icon=”true” link=”|||” css=”.vc_custom_1647409418139{margin-bottom: 10px !important;}” el_class=”event_registration NEWERIH”][vc_column_text] \nPlease feel free to register and share with your family and friends. \nFor any queries/support\, please click here.\n[/vc_column_text][/vc_column][/vc_row]
URL:https://infinitehealing.co.uk/event/conscious-and-prosperous-healer-basic-3/
CATEGORIES:Health,Light key,Spiritual,Wellbeing
END:VEVENT
END:VCALENDAR