
BEGIN:VCALENDAR
VERSION:2.0
PRODID:-//Light Key Academy - ECPv6.15.3//NONSGML v1.0//EN
CALSCALE:GREGORIAN
METHOD:PUBLISH
X-ORIGINAL-URL:https://infinitehealing.co.uk
X-WR-CALDESC:Events for Light Key Academy
REFRESH-INTERVAL;VALUE=DURATION:PT1H
X-Robots-Tag:noindex
X-PUBLISHED-TTL:PT1H
BEGIN:VTIMEZONE
TZID:America/New_York
BEGIN:DAYLIGHT
TZOFFSETFROM:-0500
TZOFFSETTO:-0400
TZNAME:EDT
DTSTART:20260308T070000
END:DAYLIGHT
BEGIN:STANDARD
TZOFFSETFROM:-0400
TZOFFSETTO:-0500
TZNAME:EST
DTSTART:20261101T060000
END:STANDARD
END:VTIMEZONE
BEGIN:VEVENT
DTSTART;TZID=America/New_York:20260303T150000
DTEND;TZID=America/New_York:20260303T153000
DTSTAMP:20260420T110130
CREATED:20260302T092714Z
LAST-MODIFIED:20260305T133555Z
UID:118955-1772550000-1772551800@infinitehealing.co.uk
SUMMARY:Unity Consciousness Activation: A Global Healing for Oneness
DESCRIPTION:[vc_row css=”.vc_custom_1717077099866{margin-bottom: 2px !important;}”][vc_column width=”1/2″ css=”.vc_custom_1636640422171{margin-bottom: 10px !important;}” el_class=”first-col”][vc_single_image image=”118958″ img_size=”full” alignment=”center” css=”.vc_custom_1772442595886{margin-top: 20px !important;margin-bottom: 5px !important;}”][vc_row_inner css=”.vc_custom_1717077651261{margin-bottom: 10px !important;}”][vc_column_inner el_class=”mrgn-btm-0″ width=”1/6″ css=”.vc_custom_1638878177960{margin-bottom: 0px !important;}”][/vc_column_inner][vc_column_inner el_class=”mrgn-btm-10″ width=”1/3″ css=”.vc_custom_1638878383870{margin-bottom: 0px !important;}”][vc_btn title=”Testimonials” color=”primary” align=”center” button_block=”true” link=”url:%23testimonial” css=”.vc_custom_1756392697984{margin-bottom: 0px !important;}” el_class=”registerNOW78521 evtquickOptsih”][/vc_column_inner][vc_column_inner el_class=”rgister-btn-sec mrgn-btm-0″ width=”1/3″ css=”.vc_custom_1638878316277{margin-bottom: 10px !important;}”][vc_btn title=”Know More” color=”primary” align=”center” button_block=”true” link=”url:%23des-section|||” css=”.vc_custom_1638878011438{margin-bottom: 0px !important;}” el_class=”registerNOW78521 evtquickOptsih”][/vc_column_inner][vc_column_inner el_class=”mrgn-btm-0″ width=”1/6″ css=”.vc_custom_1638878319397{margin-bottom: 0px !important;}”][/vc_column_inner][/vc_row_inner][vc_column_text el_class=”DSK-ev-ADDTOCRT” css=”.vc_custom_1772449291219{margin-bottom: 18px !important;}”] \nUnity Consciousness Activation\nWe are living in times where division feels loud and separation feels real.\nIn this 30-minute global healing session\, we gently dissolve the energetic roots of separation and restore the field of oneness within and around us.\n🌟 First 15 minutes (Led by Nila)\n🌸 Light Matrix transmutation to release collective density\n🌸 Light Key frequencies to shift “us vs. them” patterns\n🌸 Energetic recalibration into unity field\n🌟 Next 15 minutes (Led by Nilofer Safdar)\n🌸 Guided Unity Consciousness meditation\n🌸 Anchoring shared humanity\n🌸 Expanding into one heart\, one field\, one awareness\nThis session is not about taking sides.\nIt is about rising above polarity.\nWhen separation softens within us\, peace becomes possible around us.\nCome as you are.\nLeave lighter.\nLeave connected.\nWatch live for free on YouTube or register to join the session on Zoom for an even deeper experience.\n[/vc_column_text][vc_column_text css=”.vc_custom_1772444958298{margin-top: 10px !important;margin-bottom: 10px !important;padding-top: 10px !important;padding-right: 10px !important;padding-bottom: 10px !important;padding-left: 10px !important;background-color: #f4f4f4 !important;}” el_class=”hidden DSK-ev-ADDTOCRT”] \nDisclaimer: This is not meant to be a replacement for any professional support/medication you may require.\nTerms: The experience of each individual varies and hence the outcome from this course cannot be guaranteed. Please buy only if you are willing to take responsibility for the outcome of the practices taught.\n[/vc_column_text][/vc_column][vc_column width=”1/2″ el_id=”des-section” css=”.vc_custom_1640350355209{padding-right: 0px !important;padding-left: 0px !important;}”][vc_column_text el_id=”regis-from” css=”.vc_custom_1772434730005{margin-right: 20px !important;margin-bottom: 15px !important;padding-right: 10px !important;padding-left: 0px !important;}” el_class=”DSK-ev-ADDTOCRT”] \nUnity Consciousness Activation: A Global Healing for Oneness\n(English)\n3 Mar 2026\n10.00 AM EST / 3:00 PM GMT / 5:00 PM Israel / 8:30 PM India \nDuration: 30 Minutes (Click here to get the time for your time zone.) \n[/vc_column_text][vc_column_text css=”.vc_custom_1772434758940{margin-bottom: 15px !important;padding-right: 10px !important;padding-left: 0px !important;}” el_class=”mob-ev-ADDTOCRT”] \nUnity Consciousness Activation: A Global Healing for Oneness\n(English)\n3 Mar 2026\n10.00 AM EST / 3:00 PM GMT / 5:00 PM Israel / 8:30 PM India \nDuration: 30 Minutes (Click here to get the time for your time zone.) \n[/vc_column_text][vc_column_text css=”.vc_custom_1767195499492{margin-right: 20px !important;margin-bottom: 20px !important;padding-top: 0px !important;padding-right: 0px !important;padding-bottom: 0px !important;padding-left: 0px !important;}” el_class=”DSK-ev-ADDTOCRT”] \nThis is a live experiential session\, and no recording will be available.\n[/vc_column_text][vc_column_text css=”.vc_custom_1772434926910{margin-bottom: 20px !important;padding-top: 0px !important;padding-right: 0px !important;padding-bottom: 0px !important;padding-left: 0px !important;}” el_class=”mob-ev-ADDTOCRT”] \nThis is a live experiential session\, and no recording will be available.\n[/vc_column_text][vc_column_text css=”.vc_custom_1772717736585{margin-right: 20px !important;margin-bottom: 10px !important;padding-top: 0px !important;padding-right: 0px !important;padding-bottom: 0px !important;padding-left: 0px !important;}” el_class=”hidden DSK-ev-ADDTOCRT”] \nRegister to receive the Zoom link for this Free Call\n[/vc_column_text][vc_column_text css=”.vc_custom_1772717747089{margin-bottom: 10px !important;padding-top: 0px !important;padding-right: 0px !important;padding-bottom: 0px !important;padding-left: 0px !important;}” el_class=”hidden mob-ev-ADDTOCRT”] \nRegister to receive the Zoom link for this Free Call\n[/vc_column_text][vc_row_inner css=”.vc_custom_1772717706109{margin-top: 25px !important;margin-bottom: 20px !important;}” el_class=”hidden DSK-ev-ADDTOCRT”][vc_column_inner el_class=”DSK-ev-ADDTOCRT” width=”1/3″ css=”.vc_custom_1680789451626{margin-bottom: 0px !important;}”][/vc_column_inner][vc_column_inner el_class=”rgister-btn-sec mrgn-btm-0″ width=”1/2″ css=”.vc_custom_1680789397323{margin-bottom: 10px !important;}”][vc_btn title=”Register Now” color=”primary” align=”center” button_block=”true” link=”|||” css=”.vc_custom_1682581549030{margin-bottom: 0px !important;}” el_class=”event_registration free-reg btn”][/vc_column_inner][vc_column_inner el_class=”DSK-ev-ADDTOCRT” width=”1/6″ css=”.vc_custom_1680789463314{margin-bottom: 0px !important;}”][/vc_column_inner][/vc_row_inner][vc_row_inner css=”.vc_custom_1772717719317{margin-top: 25px !important;margin-bottom: 20px !important;}” el_class=”hidden mob-ev-ADDTOCRT”][vc_column_inner el_class=”DSK-ev-ADDTOCRT” width=”1/3″ css=”.vc_custom_1680789451626{margin-bottom: 0px !important;}”][/vc_column_inner][vc_column_inner el_class=”rgister-btn-sec mrgn-btm-0″ width=”1/2″ css=”.vc_custom_1772445588099{margin-bottom: 10px !important;}”][vc_btn title=”Register Now” color=”primary” align=”center” button_block=”true” link=”|||” css=”.vc_custom_1682581549030{margin-bottom: 0px !important;}” el_class=”event_registration free-reg btn”][/vc_column_inner][vc_column_inner el_class=”DSK-ev-ADDTOCRT” width=”1/6″ css=”.vc_custom_1680789463314{margin-bottom: 0px !important;}”][/vc_column_inner][/vc_row_inner][vc_column_text css=”.vc_custom_1772448620033{margin-right: 20px !important;margin-bottom: 10px !important;padding-top: 10px !important;padding-right: 10px !important;padding-bottom: 10px !important;padding-left: 10px !important;background-color: #f4f4f4 !important;}” el_class=”hidden DSK-ev-ADDTOCRT”] \n❤️ Inclusion:\n\nNot applicable.\n\n[/vc_column_text][vc_column_text css=”.vc_custom_1772448644442{margin-bottom: 10px !important;padding-top: 10px !important;padding-right: 10px !important;padding-bottom: 10px !important;padding-left: 10px !important;background-color: #f4f4f4 !important;}” el_class=”hidden mob-ev-ADDTOCRT”] \n❤️ Inclusion:\n\nNot applicable.\n\n[/vc_column_text][vc_column_text css=”.vc_custom_1772448657095{margin-right: 20px !important;margin-bottom: 10px !important;padding-top: 10px !important;padding-right: 10px !important;padding-bottom: 10px !important;padding-left: 10px !important;background-color: #f4f4f4 !important;}” el_class=”hidden DSK-ev-ADDTOCRT”] \n❤️ Pre-requisite:\n\nNone.\n\n[/vc_column_text][vc_column_text css=”.vc_custom_1772448671970{margin-bottom: 10px !important;padding-top: 10px !important;padding-right: 10px !important;padding-bottom: 10px !important;padding-left: 10px !important;background-color: #f4f4f4 !important;}” el_class=”hidden mob-ev-ADDTOCRT”] \n❤️ Pre-requisite:\n\nNone.\n\n[/vc_column_text][vc_column_text css=”.vc_custom_1772448922990{margin-right: 20px !important;margin-bottom: 15px !important;padding-top: 0px !important;padding-right: 0px !important;padding-bottom: 0px !important;padding-left: 0px !important;background-color: #f4f4f4 !important;}” el_class=”DSK-ev-ADDTOCRT”] \n\n❤️ Let us come together in unity. Please share this event page with your near and dear ones and invite them to join this collective activation for global harmony.\n\n[/vc_column_text][vc_column_text css=”.vc_custom_1772448935370{margin-bottom: 15px !important;padding-top: 0px !important;padding-right: 0px !important;padding-bottom: 0px !important;padding-left: 0px !important;background-color: #f4f4f4 !important;}” el_class=”mob-ev-ADDTOCRT”] \n\n❤️ Let us come together in unity. Please share this event page with your near and dear ones and invite them to join this collective activation for global harmony.\n\n[/vc_column_text][vc_column_text css=”.vc_custom_1772438729310{margin-right: 20px !important;margin-bottom: 30px !important;padding-top: 0px !important;padding-right: 0px !important;padding-bottom: 0px !important;padding-left: 0px !important;background-color: #f4f4f4 !important;}” el_class=”DSK-ev-ADDTOCRT”] \n\n❤️ Mark Your Calendar:\n\nThe Light Matrix Miracle Path | Mar 10\, 11\, 17\, 18\, 2026 | A 4-Part Applied Mastery Journey into Happiness\, Health & Wealth.\nBasic Light Key Protocol for Clearing Energy Blocks | Mar 12\, 2026 | Clear stuckness and unblock your life’s flow.\n\n\n[/vc_column_text][vc_column_text css=”.vc_custom_1772450065119{margin-bottom: 15px !important;padding-top: 0px !important;padding-right: 0px !important;padding-bottom: 0px !important;padding-left: 0px !important;background-color: #f4f4f4 !important;}” el_class=”mob-ev-ADDTOCRT”] \n\n❤️ Mark Your Calendar:\n\nThe Light Matrix Miracle Path | Mar 10\, 11\, 17\, 18\, 2026 | A 4-Part Applied Mastery Journey into Happiness\, Health & Wealth.\nBasic Light Key Protocol for Clearing Energy Blocks | Mar 12\, 2026 | Clear stuckness and unblock your life’s flow.\n\n\n[/vc_column_text][vc_column_text css=”.vc_custom_1772449866006{margin-bottom: 15px !important;}” el_class=”mob-ev-ADDTOCRT”] \nUnity Consciousness Activation\nWe are living in times where division feels loud and separation feels real.\nIn this 30-minute global healing session\, we gently dissolve the energetic roots of separation and restore the field of oneness within and around us.\n🌟 First 15 minutes (Led by Nila)\n🌸 Light Matrix transmutation to release collective density\n🌸 Light Key frequencies to shift “us vs. them” patterns\n🌸 Energetic recalibration into unity field\n🌟 Next 15 minutes (Led by Nilofer Safdar)\n🌸 Guided Unity Consciousness meditation\n🌸 Anchoring shared humanity\n🌸 Expanding into one heart\, one field\, one awareness\nThis session is not about taking sides.\nIt is about rising above polarity.\nWhen separation softens within us\, peace becomes possible around us.\nCome as you are.\nLeave lighter.\nLeave connected.\nWatch live for free on YouTube or register to join the session on Zoom for an even deeper experience.\n[/vc_column_text][vc_single_image image=”113676″ img_size=”200×200″ alignment=”center” style=”vc_box_border_circle_2″ css=”.vc_custom_1746462389462{margin-right: 20px !important;margin-bottom: 15px !important;}” el_class=”DSK-ev-ADDTOCRT”][vc_single_image image=”113676″ img_size=”200×200″ alignment=”center” style=”vc_box_border_circle_2″ css=”.vc_custom_1746462409941{margin-bottom: 15px !important;}” el_class=”mob-ev-ADDTOCRT”][vc_column_text css=”.vc_custom_1746463296337{margin-right: 20px !important;margin-bottom: 10px !important;}” el_class=”DSK-ev-ADDTOCRT”] \nNila is an international wellbeing coach who has been in this journey for more than 2 decades. She is also a medium\, channel\, author and entrepreneur. Her capacity with Money is well known – She has increased her company’s turnover by 17 times within 18 months; created multiple revenue streams out of nowhere; received windfall of money as if by magic etc. She is also known as ‘The magic lady’. Nila has the knack of simplifying the laws of the universe through very simple techniques that are fun to practice. \n[/vc_column_text][vc_column_text css=”.vc_custom_1746462994031{margin-bottom: 10px !important;}” el_class=”mob-ev-ADDTOCRT”] \nNila is an international wellbeing coach who has been in this journey for more than 2 decades. She is also a medium\, channel\, author and entrepreneur. Her capacity with Money is well known – She has increased her company’s turnover by 17 times within 18 months; created multiple revenue streams out of nowhere; received windfall of money as if by magic etc. She is also known as ‘The magic lady’. Nila has the knack of simplifying the laws of the universe through very simple techniques that are fun to practice. \n[/vc_column_text][vc_single_image image=”118956″ img_size=”200×200″ alignment=”center” style=”vc_box_border_circle_2″ css=”.vc_custom_1772437823969{margin-right: 20px !important;margin-bottom: 25px !important;}” el_class=”DSK-ev-ADDTOCRT”][vc_single_image image=”118956″ img_size=”200×200″ alignment=”center” style=”vc_box_border_circle_2″ css=”.vc_custom_1772437876740{margin-bottom: 25px !important;}” el_class=”mob-ev-ADDTOCRT”][vc_column_text css=”.vc_custom_1772448206253{margin-right: 20px !important;margin-bottom: 15px !important;}” el_class=”DSK-ev-ADDTOCRT”] \nNilofer Safdar is a clairvoyant energy healer who clears the root cause of emotional pain\, burnout\, confusion\, and resistance — guiding women back to peace\, purpose\, and flow. She specializes in dissolving deep money blocks and helping women rise into consistent 15K months with ease and alignment. Through her signature Money Vibe Scan\, she pinpoints exactly where abundance is getting stuck and reveals the precise energetic shifts needed to unlock their highest financial flow. \n[/vc_column_text][vc_column_text css=”.vc_custom_1772448219061{margin-bottom: 15px !important;}” el_class=”mob-ev-ADDTOCRT”] \nNilofer Safdar is a clairvoyant energy healer who clears the root cause of emotional pain\, burnout\, confusion\, and resistance — guiding women back to peace\, purpose\, and flow. She specializes in dissolving deep money blocks and helping women rise into consistent 15K months with ease and alignment. Through her signature Money Vibe Scan\, she pinpoints exactly where abundance is getting stuck and reveals the precise energetic shifts needed to unlock their highest financial flow. \n[/vc_column_text][vc_column_text css=”.vc_custom_1772444974173{margin-top: 10px !important;margin-right: 20px !important;margin-bottom: 10px !important;padding-top: 10px !important;padding-right: 10px !important;padding-bottom: 10px !important;padding-left: 10px !important;background-color: #f4f4f4 !important;}” el_class=”hidden DSK-ev-ADDTOCRT”] \nDisclaimer: This is not meant to be a replacement for any professional support/medication you may require.\nTerms: The experience of each individual varies and hence the outcome from this course cannot be guaranteed. Please buy only if you are willing to take responsibility for the outcome of the practices taught.\n[/vc_column_text][vc_column_text css=”.vc_custom_1772444993847{margin-right: 20px !important;margin-bottom: 10px !important;}” el_class=”hidden DSK-ev-ADDTOCRT”] \n❤️  Here are some amazing shares:\n\n“The energy during the activation was unlike anything I’ve felt before. It helped me release long-standing feelings of isolation and replace them with a sense of universal belonging.” \n\n\n“I was skeptical at first\, but the collective resonance was undeniable. I left the session feeling recharged\, balanced\, and deeply committed to living in oneness.” \n\n\n“An incredibly profound experience. I felt a deep sense of peace and a tangible connection to everyone participating. It truly felt like we were breathing as one.” \n\n\n“A powerful shift in perspective. This session didn’t just provide temporary healing; it felt like a permanent upgrade to my spiritual awareness.” \n\n[/vc_column_text][/vc_column][/vc_row][vc_row full_width=”stretch_row” el_class=”discla-section-74904″][vc_column el_id=”exciting-testimonials”][vc_column_text css=”.vc_custom_1772445020875{margin-bottom: 10px !important;padding-top: 10px !important;padding-right: 10px !important;padding-bottom: 10px !important;padding-left: 10px !important;background-color: #f4f4f4 !important;}”] \nDisclaimer: This is not meant to be a replacement for any professional support/medication you may require.\nTerms: The experience of each individual varies and hence the outcome from this course cannot be guaranteed. Please buy only if you are willing to take responsibility for the outcome of the practices taught.\n[/vc_column_text][vc_column_text css=”.vc_custom_1772445008234{margin-bottom: 15px !important;}” el_id=”testimonial”] \n❤️  Here are some amazing shares:\n\n“The energy during the activation was unlike anything I’ve felt before. It helped me release long-standing feelings of isolation and replace them with a sense of universal belonging.” \n\n\n“I was skeptical at first\, but the collective resonance was undeniable. I left the session feeling recharged\, balanced\, and deeply committed to living in oneness.” \n\n\n“An incredibly profound experience. I felt a deep sense of peace and a tangible connection to everyone participating. It truly felt like we were breathing as one.” \n\n\n“A powerful shift in perspective. This session didn’t just provide temporary healing; it felt like a permanent upgrade to my spiritual awareness.” \n\n[/vc_column_text][vc_column_text el_class=”hidden”] \nFor any queries/support\, please click here.\n[/vc_column_text][/vc_column][/vc_row]
URL:https://infinitehealing.co.uk/event/unity-consciousness-activation-a-global-healing-for-oneness/
CATEGORIES:Awareness,Healing,Life,Light key,peace,Spiritual,Wellbeing
END:VEVENT
END:VCALENDAR