
BEGIN:VCALENDAR
VERSION:2.0
PRODID:-//Light Key Academy - ECPv6.15.3//NONSGML v1.0//EN
CALSCALE:GREGORIAN
METHOD:PUBLISH
X-WR-CALNAME:Light Key Academy
X-ORIGINAL-URL:https://infinitehealing.co.uk
X-WR-CALDESC:Events for Light Key Academy
REFRESH-INTERVAL;VALUE=DURATION:PT1H
X-Robots-Tag:noindex
X-PUBLISHED-TTL:PT1H
BEGIN:VTIMEZONE
TZID:America/New_York
BEGIN:DAYLIGHT
TZOFFSETFROM:-0500
TZOFFSETTO:-0400
TZNAME:EDT
DTSTART:20240310T070000
END:DAYLIGHT
BEGIN:STANDARD
TZOFFSETFROM:-0400
TZOFFSETTO:-0500
TZNAME:EST
DTSTART:20241103T060000
END:STANDARD
END:VTIMEZONE
BEGIN:VEVENT
DTSTART;TZID=America/New_York:20241015T150000
DTEND;TZID=America/New_York:20241017T153000
DTSTAMP:20260421T234216
CREATED:20240925T111828Z
LAST-MODIFIED:20241014T120124Z
UID:114505-1729004400-1729179000@infinitehealing.co.uk
SUMMARY:The Light Key Festival of Alchemy: 3 Days to Prosperity\, Attraction and Body Transformation
DESCRIPTION:[vc_row css=”.vc_custom_1727268813529{margin-bottom: 15px !important;}”][vc_column css=”.vc_custom_1646222981569{margin-bottom: 0px !important;}” el_class=”first-col”][vc_single_image image=”114503″ img_size=”full” alignment=”center” css=”.vc_custom_1727262983864{margin-top: 20px !important;margin-bottom: 10px !important;}” el_class=”DSK-ev-ADDTOCRT”][vc_single_image image=”114504″ img_size=”full” alignment=”center” css=”.vc_custom_1727263003431{margin-top: 20px !important;margin-bottom: 15px !important;}” el_class=”mob-ev-ADDTOCRT”][/vc_column][/vc_row][vc_row css=”.vc_custom_1727266975098{margin-bottom: 20px !important;}”][vc_column css=”.vc_custom_1646222981569{margin-bottom: 0px !important;}” el_class=”first-col”][vc_column_text css=”.vc_custom_1727420941894{margin-bottom: 15px !important;}”] \nManifest Miracles in a 3-day transformative journey where you receive powerful healing sessions & advanced tools from Expert Healers of Light Key Academy to attract wealth\, amplify your personal magnetism\, and achieve lasting wellness. Step into a space where change happens effortlessly!\n[/vc_column_text][vc_column_text css=”.vc_custom_1727270919280{margin-bottom: 10px !important;padding-top: 8px !important;padding-right: 10px !important;padding-bottom: 15px !important;padding-left: 10px !important;background-color: #f4f4f4 !important;}” el_class=”highlight-pink-bg”] \nGet notified to attend LIVE for FREE. Subscribe to Nila Mystic TV YouTube Channel and click the Bell icon and choose All.\nGet Notified for Live\n[/vc_column_text][vc_raw_html]JTVCbWFpbHBvZXRfZm9ybSUyMGlkJTNEJTIyMTYlMjIlNUQ=[/vc_raw_html][/vc_column][/vc_row][vc_row css=”.vc_custom_1727266855702{margin-bottom: 15px !important;}” el_class=”hidden hidden-amt”][vc_column width=”1/3″ css=”.vc_custom_1646296241115{margin-bottom: 5px !important;}”][vc_btn title=”Nila Mystic TV” color=”danger” align=”center” i_icon_fontawesome=”fab fa-youtube” add_icon=”true” link=”url:https%3A%2F%2Fwww.youtube.com%2Fc%2FNilaMysticTV|title:Nila%20Mystic%20TV|target:_blank” css=”.vc_custom_1715702002104{margin-bottom: 10px !important;}” el_class=”hidden”][/vc_column][vc_column width=”1/3″ css=”.vc_custom_1646296234063{margin-bottom: 5px !important;}” el_class=”first-col”][vc_column_text css=”.vc_custom_1715882070950{margin-bottom: 10px !important;padding-top: 5px !important;padding-right: 10px !important;padding-bottom: 21px !important;padding-left: 10px !important;background-color: #f4f4f4 !important;}” el_class=”highlight-pink-bg”] \n❤️ Purchase all the six session recordings together at a massive 50% discount:\n $132 Original price was: $132.$66Current price is: $66.Add to cartAdd to cart  Buy Now \n[/vc_column_text][/vc_column][vc_column width=”1/3″][vc_column_text css=”.vc_custom_1716902992878{margin-bottom: 10px !important;padding-top: 15px !important;padding-right: 18px !important;padding-bottom: 23px !important;padding-left: 18px !important;background-color: #f4f4f4 !important;}” el_class=”highlight-pink-bg”] \n\n❤️ Exclusive offer:\nIf you are a YouTube Limitless member\, you can access the session recordings. CLICK HERE To Join as a YouTube Limitless Member.\n\n[/vc_column_text][vc_column_text css=”.vc_custom_1716903025872{margin-bottom: 10px !important;padding-top: 15px !important;padding-right: 18px !important;padding-bottom: 23px !important;padding-left: 18px !important;background-color: #f4f4f4 !important;}” el_class=”hidden highlight-pink-bg”] \n\n❤️ Exclusive offer:\nYouTube Limitless members can get the sessions recording for FREE. CLICK HERE To Join as a YouTube Limitless Member.\n\n[/vc_column_text][/vc_column][/vc_row][vc_row css=”.vc_custom_1727268827860{margin-bottom: 15px !important;}” el_class=”hidden-amt”][vc_column width=”1/3″ css=”.vc_custom_1727268600957{margin-bottom: 15px !important;}”][vc_single_image image=”114524″ img_size=”full” alignment=”center” style=”vc_box_rounded” css=”.vc_custom_1727268096227{margin-bottom: 0px !important;padding-top: 0px !important;padding-right: 0px !important;padding-bottom: 0px !important;padding-left: 0px !important;background-color: #b86633 !important;}”][vc_column_text css=”.vc_custom_1727422675276{margin-bottom: -5px !important;padding-top: 20px !important;padding-right: 10px !important;padding-bottom: 10px !important;padding-left: 10px !important;background-color: #ffd8c0 !important;}” el_class=”fam-main-container”] \nDuration: 20 – 30 Mins  \nClick here for your local time \n[/vc_column_text][vc_column_text css=”.vc_custom_1728907183683{margin-bottom: 5px !important;padding-top: 10px !important;padding-right: 10px !important;padding-bottom: 145px !important;padding-left: 10px !important;background-color: #ffd8c0 !important;}” el_class=”fam-main-container mmh”] \nWith Light Key Blessings and tools from various Prosperity Classes from Light Key Academy\, Experience how small shifts can create massive flows of wealth and abundance into your life.\nAttend the FREE live session on the Nila Mystic TV YouTube channel! Subscribe and hit the bell icon to get notified when it starts.\nhttps://www.youtube.com/watch?v=S3Gaipm1-oM\n[/vc_column_text][/vc_column][vc_column width=”1/3″ css=”.vc_custom_1727268616046{margin-bottom: 15px !important;}” el_class=”first-col”][vc_single_image image=”114525″ img_size=”full” alignment=”center” style=”vc_box_rounded” css=”.vc_custom_1727268110114{margin-bottom: 0px !important;padding-top: 0px !important;padding-right: 0px !important;padding-bottom: 0px !important;padding-left: 0px !important;background-color: #b86633 !important;}”][vc_column_text css=”.vc_custom_1727422721287{margin-bottom: -5px !important;padding-top: 20px !important;padding-right: 10px !important;padding-bottom: 10px !important;padding-left: 10px !important;background-color: #ffd8c0 !important;}” el_class=”fam-main-container”] \nDuration: 20 – 30 Mins  \nClick here for your local time \n[/vc_column_text][vc_column_text css=”.vc_custom_1728907215426{margin-bottom: 5px !important;padding-top: 10px !important;padding-right: 10px !important;padding-bottom: 105px !important;padding-left: 10px !important;background-color: #ffd8c0 !important;}” el_class=”fam-main-container mmh”] \nDiscover how to effortlessly attract the right people with a couple of quick exercises. Dive deeper into more life-altering methods from 10 Practices to become a People Magnet\, and uncover special tools to boost your natural charisma. Receive Light Key Blessings to shine bright in the world.\nAttend the FREE live session on the Nila Mystic TV YouTube channel! Subscribe and hit the bell icon to get notified when it starts.\nhttps://www.youtube.com/watch?v=FUUXFaIH8zQ\n[/vc_column_text][/vc_column][vc_column width=”1/3″ css=”.vc_custom_1727268630895{margin-bottom: 15px !important;}”][vc_single_image image=”114523″ img_size=”full” alignment=”center” style=”vc_box_rounded” css=”.vc_custom_1727268124325{margin-bottom: 0px !important;padding-top: 0px !important;padding-right: 0px !important;padding-bottom: 0px !important;padding-left: 0px !important;background-color: #b86633 !important;}”][vc_column_text css=”.vc_custom_1727422790541{margin-bottom: -5px !important;padding-top: 20px !important;padding-right: 10px !important;padding-bottom: 10px !important;padding-left: 10px !important;background-color: #ffd8c0 !important;}” el_class=”fam-main-container”] \nDuration: 20 – 30 Mins  \nClick here for your local time \n[/vc_column_text][vc_column_text css=”.vc_custom_1728907241227{margin-bottom: 5px !important;padding-top: 10px !important;padding-right: 10px !important;padding-bottom: 5px !important;padding-left: 10px !important;background-color: #ffd8c0 !important;}” el_class=”fam-main-container mmh”] \nThis finale brings double the delight – Two powerful Light Key Frequencies sessions designed to help you shed the stubborn weight you’ve been struggling with. Our expert Light Key healers will first guide you through a session to Clear the Energy Blocks that have been keeping you stuck on your weight loss journey. This will be followed by a second session to Release Unhealthy Attachments (e.g.\, to food\, people\, emotions) that may be preventing you from moving forward and creating the body you desire.\nIt’s time to lighten both your mind and body for lasting\, transformative change!\nAttend the FREE live session on the Nila Mystic TV YouTube channel! Subscribe and hit the bell icon to get notified when it starts.\nhttps://www.youtube.com/watch?v=Uv5c5ul5Jps\n[/vc_column_text][/vc_column][/vc_row][vc_row css=”.vc_custom_1715705726624{margin-bottom: 5px !important;}” el_class=”hidden”][vc_column width=”1/2″ css=”.vc_custom_1646222947969{margin-bottom: 0px !important;}” el_class=”first-col”][vc_column_text css=”.vc_custom_1715269977358{margin-bottom: 10px !important;padding-top: 10px !important;padding-right: 10px !important;padding-bottom: 10px !important;padding-left: 10px !important;background-color: #f4f4f4 !important;}”] \n\nDisclaimer: This is not meant to be a replacement for any professional support/medication you may require.\nTerms: The experience of each individual varies and hence the outcome from this call cannot be guaranteed. Please register only if you are willing to take responsibility for the outcome of the practices taught.\n[/vc_column_text][/vc_column][vc_column width=”1/2″][vc_column_text css=”.vc_custom_1715610799636{margin-bottom: 10px !important;}”] \n❤️ Here are some amazing shares:\n\n“Thank you sooooo much Nila. I was feeling like i am standing under the rain where Light key frequencies\, Symbols\, grace\, blessings all showering on me. HOW DOES IT GET BETTER THAN THIS. THank You all healers\, Blessed and grateful to be here today TOOOOOO GOOOD. THANK YOU SO MUCH NILA” \n\n\n“Can’t believe that I attended such an amazing amazing session and receiving so much from all expert healers and Nila. Thank you each and everyone for your contributions and am feeling very awesome. Thank you for my gift. Will be looking forward to the next festival of light” \n\n\n“Thank you sooo much for the Festival of Lights.. it’s not just giving the glimps of all the light key processes n protocols.. but so much awareness through dft dft facilitators.. all are creating magic everyday.. Thank you to each n everyone who is contributing to our lives.” \n\n[/vc_column_text][vc_column_text css=”.vc_custom_1715610450400{margin-bottom: 10px !important;padding-top: 5px !important;padding-right: 10px !important;padding-bottom: 5px !important;padding-left: 10px !important;background-color: #f4f4f4 !important;}” el_class=”highlight-pink-bg”] \n❤️ Recording Investment: $132 Original price was: $132.$66Current price is: $66.Add to cartAdd to cart  Buy Now You save $42.\n[/vc_column_text][vc_column_text css=”.vc_custom_1715610460549{margin-bottom: 10px !important;padding-right: 10px !important;padding-left: 10px !important;}”] \n\n❤️ Exclusive offer:\nYouTube Limitless members can get the sessions recording for FREE. CLICK HERE To Join as a YouTube Limitless Member.\n\n[/vc_column_text][/vc_column][/vc_row][vc_row css=”.vc_custom_1715705788353{margin-bottom: 5px !important;}” el_class=”hidden”][vc_column css=”.vc_custom_1646222947969{margin-bottom: 0px !important;}” el_class=”first-col”][vc_column_text] \nFor any queries/support\, please click here.\n[/vc_column_text][/vc_column][/vc_row][vc_row css=”.vc_custom_1715705745325{margin-bottom: 5px !important;}”][vc_column css=”.vc_custom_1646222947969{margin-bottom: 0px !important;}” el_class=”first-col”][vc_column_text css=”.vc_custom_1714727553844{margin-bottom: 10px !important;padding-top: 10px !important;padding-right: 10px !important;padding-bottom: 10px !important;padding-left: 10px !important;background-color: #f4f4f4 !important;}”] \n\nDisclaimer: This is not meant to be a replacement for any professional support/medication you may require.\nTerms: The experience of each individual varies and hence the outcome from this call cannot be guaranteed. Please register only if you are willing to take responsibility for the outcome of the practices taught.\n[/vc_column_text][vc_column_text css=”.vc_custom_1727268505611{margin-bottom: 10px !important;}”] \n❤️ Here are some amazing shares:\n\n“Festival of Lights was a wonderful experience for me. Everyday receiving blissful healing transmission from light key facilitator guided by Nila. My unforgettable moments was on last day when we received prosperity blessings and I still clearly remember images of Lord Ganesha and Lord Lakshmi blessing me…it was so exciting to hear about transformation during session and prizes everyday…. It’s been an amazing journey since then.. Keep choosing and receiving light and lightness…” \n\n\n“So much gratitude for the festival! I must say I would have so many points of view\, judgements and comparisons about ‘ how much aware’ me or someone else was. Less or more or whatever. Now I am beginning to get how much of a mind trap it is. I kept getting aware or noticing ‘mind and it’s chatter’ as distinctly an entity but not me. Mind and no mind. Thank you to all facilitators. I’m truly grateful for your being. It is a gift. I’m repeating but I honestly can’t stop” \n\n\n“Thank you sooooo much Nila. I was feeling like i am standing under the rain where Light key frequencies\, Symbols\, grace\, blessings all showering on me . HOW DOES IT GET BETTER THAN THIS. THank You all healers \, Blessed and grateful to be here today TOOOOOO GOOOD.THANK YOU SO MUCH NILA” \n\n\n“Can’t believe that I attended such an amazing amazing session and receiving so much from all expert healers and Nila. Thank you each and everyone for your contributions and am feeling very awesome. Thank you for my gift. Will be looking forward to the next festival of light” \n\n\n“Thank you sooo much for the Festival of Lights.. it’s not just giving the glimps of all the light key processes n protocols.. but so much awareness through dft dft facilitators.. all are creating magic everyday .. Thank you to each n everyone who is contributing to our lives” \n\n[/vc_column_text][vc_column_text] \nFor any queries/support\, please click here.\n[/vc_column_text][/vc_column][/vc_row]
URL:https://infinitehealing.co.uk/event/the-light-key-festival-of-alchemy-3-days-to-prosperity-attraction-body-transformation/
CATEGORIES:Happiness,Light key,Spiritual,Wealth,Weight Loss,Wellbeing
END:VEVENT
END:VCALENDAR