
BEGIN:VCALENDAR
VERSION:2.0
PRODID:-//Light Key Academy - ECPv6.15.3//NONSGML v1.0//EN
CALSCALE:GREGORIAN
METHOD:PUBLISH
X-ORIGINAL-URL:https://infinitehealing.co.uk
X-WR-CALDESC:Events for Light Key Academy
REFRESH-INTERVAL;VALUE=DURATION:PT1H
X-Robots-Tag:noindex
X-PUBLISHED-TTL:PT1H
BEGIN:VTIMEZONE
TZID:America/New_York
BEGIN:DAYLIGHT
TZOFFSETFROM:-0500
TZOFFSETTO:-0400
TZNAME:EDT
DTSTART:20260308T070000
END:DAYLIGHT
BEGIN:STANDARD
TZOFFSETFROM:-0400
TZOFFSETTO:-0500
TZNAME:EST
DTSTART:20261101T060000
END:STANDARD
END:VTIMEZONE
BEGIN:VEVENT
DTSTART;TZID=America/New_York:20260109T150000
DTEND;TZID=America/New_York:20260109T153000
DTSTAMP:20260421T181421
CREATED:20251226T154623Z
LAST-MODIFIED:20251229T173409Z
UID:118677-1767970800-1767972600@infinitehealing.co.uk
SUMMARY:From Struggle to Stillness: A Gentle Inner Peace Reset
DESCRIPTION:[vc_row css=”.vc_custom_1717077099866{margin-bottom: 2px !important;}”][vc_column width=”1/2″ css=”.vc_custom_1636640422171{margin-bottom: 10px !important;}” el_class=”first-col”][vc_single_image image=”118690″ img_size=”full” alignment=”center” css=”.vc_custom_1766767374268{margin-top: 20px !important;margin-bottom: 5px !important;}”][vc_row_inner css=”.vc_custom_1717077651261{margin-bottom: 10px !important;}”][vc_column_inner el_class=”mrgn-btm-0″ width=”1/6″ css=”.vc_custom_1638878177960{margin-bottom: 0px !important;}”][/vc_column_inner][vc_column_inner el_class=”mrgn-btm-10″ width=”1/3″ css=”.vc_custom_1638878383870{margin-bottom: 0px !important;}”][vc_btn title=”Testimonials” color=”primary” align=”center” button_block=”true” link=”url:%23testimonial” css=”.vc_custom_1756392697984{margin-bottom: 0px !important;}” el_class=”registerNOW78521 evtquickOptsih”][/vc_column_inner][vc_column_inner el_class=”rgister-btn-sec mrgn-btm-0″ width=”1/3″ css=”.vc_custom_1638878316277{margin-bottom: 10px !important;}”][vc_btn title=”Know More” color=”primary” align=”center” button_block=”true” link=”url:%23des-section|||” css=”.vc_custom_1638878011438{margin-bottom: 0px !important;}” el_class=”registerNOW78521 evtquickOptsih”][/vc_column_inner][vc_column_inner el_class=”mrgn-btm-0″ width=”1/6″ css=”.vc_custom_1638878319397{margin-bottom: 0px !important;}”][/vc_column_inner][/vc_row_inner][vc_column_text el_class=”DSK-ev-ADDTOCRT” css=”.vc_custom_1766761757791{margin-bottom: 18px !important;}”] \nJanuary often arrives with pressure to fix\, plan\, and push forward.\nThis workshop is an invitation to do the opposite.\nIn this gentle inner reset\, we step out of effort and into stillness — releasing the inner struggle that quietly drains our energy. Instead of forcing clarity or direction\, we allow calm to return first… and let the next chapter unfold from peace.\nThis session is not about motivation or goal-setting.\nIt’s about softening the nervous system\, quieting mental noise\, and reconnecting with a sense of inner safety and trust.\n🌟 In this 30-minute experience\, you’ll be guided to:\n🕊️ Release emotional and mental strain carried into the new year\n🕊️ Settle the body and mind into a state of calm presence\n🕊️ Let go of urgency\, pressure\, and self-expectation\n🕊️ Reconnect with gentle self-trust and inner peace\nYou’ll leave feeling lighter\, steadier\, and more centered — grounded in stillness rather than struggle\, and ready to begin the year from a place of ease.\nNo preparation needed.\nJust arrive as you are.\n[/vc_column_text][vc_column_text css=”.vc_custom_1766765045309{margin-bottom: 15px !important;padding-top: 10px !important;padding-right: 10px !important;padding-bottom: 10px !important;padding-left: 10px !important;background-color: #f4f4f4 !important;}” el_class=”DSK-ev-ADDTOCRT”] \n❤️ Investment:\n $33 Buy Now if not yet purchased.\n[/vc_column_text][vc_column_text css=”.vc_custom_1756386633635{margin-top: 10px !important;margin-bottom: 10px !important;padding-top: 10px !important;padding-right: 10px !important;padding-bottom: 10px !important;padding-left: 10px !important;background-color: #f4f4f4 !important;}” el_class=”hidden DSK-ev-ADDTOCRT”] \nDisclaimer: This is not meant to be a replacement for any professional support/medication you may require.\nTerms: The experience of each individual varies and hence the outcome from this course cannot be guaranteed. Please buy only if you are willing to take responsibility for the outcome of the practices taught.\n[/vc_column_text][/vc_column][vc_column width=”1/2″ el_id=”des-section” css=”.vc_custom_1640350355209{padding-right: 0px !important;padding-left: 0px !important;}”][vc_column_text el_id=”regis-from” css=”.vc_custom_1766761323610{margin-right: 20px !important;margin-bottom: 15px !important;padding-right: 10px !important;padding-left: 0px !important;}” el_class=”DSK-ev-ADDTOCRT”] \nFrom Struggle to Stillness: A Gentle Inner Peace Reset\n(English)\n9 Jan 2026\n10.00 AM EST / 3:00 PM GMT / 5:00 PM Israel / 8:30 PM India \nDuration: 30 Minutes (Click here to get the time for your time zone.) \n[/vc_column_text][vc_column_text css=”.vc_custom_1757421351583{margin-right: 20px !important;margin-bottom: 20px !important;padding-right: 10px !important;padding-left: 0px !important;}” el_class=”hidden DSK-ev-ADDTOCRT”] \nThis is a live experiential session\, and no recording will be available.\n[/vc_column_text][vc_column_text css=”.vc_custom_1736336283389{margin-right: 20px !important;margin-bottom: 10px !important;padding-right: 10px !important;padding-left: 0px !important;}” el_class=”hidden DSK-ev-ADDTOCRT”] \nYou can purchase the recordings of this class here:\nBuy Now\n[/vc_column_text][vc_column_text css=”.vc_custom_1766761342096{margin-bottom: 15px !important;padding-right: 10px !important;padding-left: 0px !important;}” el_class=”mob-ev-ADDTOCRT”] \nFrom Struggle to Stillness: A Gentle Inner Peace Reset\n(English)\n9 Jan 2026\n10.00 AM EST / 3:00 PM GMT / 5:00 PM Israel / 8:30 PM India \nDuration: 30 Minutes (Click here to get the time for your time zone.) \n[/vc_column_text][vc_column_text css=”.vc_custom_1757421374442{margin-bottom: 20px !important;padding-right: 10px !important;padding-left: 0px !important;}” el_class=”hidden mob-ev-ADDTOCRT”] \nThis is a live experiential session\, and no recording will be available.\n[/vc_column_text][vc_column_text css=”.vc_custom_1736336316044{margin-bottom: 10px !important;padding-right: 10px !important;padding-left: 0px !important;}” el_class=”hidden mob-ev-ADDTOCRT”] \nYou can purchase the recordings of this class here:\nBuy Now\n[/vc_column_text][vc_column_text css=”.vc_custom_1767029639734{margin-right: 20px !important;margin-bottom: 10px !important;padding-top: 10px !important;padding-right: 10px !important;padding-bottom: 10px !important;padding-left: 10px !important;background-color: #f4f4f4 !important;}” el_class=”DSK-ev-ADDTOCRT”] \n❤️ Investment: INR Payment Details \n$33Add to cartAdd to cart  Buy Now \n\n❤️ 11-Day Prosperity Alignment: A Live Wealth Reset for 2026 ⓘ×Experience 11 days of 20-minute live sessions for prosperity clearing and wealth alignment to transform your relationship with abundance. Check out the link to explore more!\nhttps://infinitehealing.co.uk/event/11-day-prosperity-alignment-a-live-wealth-reset-for-2026/\n$242 Original price was: $242.$99Current price is: $99.Add to cartAdd to cart  Buy Now\nExplore More\n[/vc_column_text][vc_column_text css=”.vc_custom_1767029609427{margin-bottom: 10px !important;padding-top: 10px !important;padding-right: 10px !important;padding-bottom: 10px !important;padding-left: 10px !important;background-color: #f4f4f4 !important;}” el_class=”mob-ev-ADDTOCRT”] \n❤️ Investment: INR Payment Details \n$33Add to cartAdd to cart  Buy Now \n\n❤️ 11-Day Prosperity Alignment: A Live Wealth Reset for 2026 ⓘ×Experience 11 days of 20-minute live sessions for prosperity clearing and wealth alignment to transform your relationship with abundance. Check out the link to explore more!\nhttps://infinitehealing.co.uk/event/11-day-prosperity-alignment-a-live-wealth-reset-for-2026/\n$242 Original price was: $242.$99Current price is: $99.Add to cartAdd to cart  Buy Now\nExplore More\n[/vc_column_text][vc_column_text css=”.vc_custom_1757426268315{margin-right: 20px !important;margin-bottom: 10px !important;padding-top: 10px !important;padding-right: 10px !important;padding-bottom: 10px !important;padding-left: 10px !important;background-color: #f4f4f4 !important;}” el_class=”DSK-ev-ADDTOCRT”] \n❤️ Inclusion:\n\nVideo and Audio Recordings.\n\n[/vc_column_text][vc_column_text css=”.vc_custom_1757426281736{margin-bottom: 10px !important;padding-top: 10px !important;padding-right: 10px !important;padding-bottom: 10px !important;padding-left: 10px !important;background-color: #f4f4f4 !important;}” el_class=”mob-ev-ADDTOCRT”] \n❤️ Inclusion:\n\nVideo and Audio Recordings.\n\n[/vc_column_text][vc_column_text css=”.vc_custom_1746462833901{margin-right: 20px !important;margin-bottom: 10px !important;padding-top: 10px !important;padding-right: 10px !important;padding-bottom: 10px !important;padding-left: 10px !important;background-color: #f4f4f4 !important;}” el_class=”DSK-ev-ADDTOCRT”] \n❤️ Pre-requisite:\n\nNone.\n\n[/vc_column_text][vc_column_text css=”.vc_custom_1746462842133{margin-bottom: 10px !important;padding-top: 10px !important;padding-right: 10px !important;padding-bottom: 10px !important;padding-left: 10px !important;background-color: #f4f4f4 !important;}” el_class=”mob-ev-ADDTOCRT”] \n❤️ Pre-requisite:\n\nNone.\n\n[/vc_column_text][vc_column_text css=”.vc_custom_1766766005902{margin-right: 20px !important;margin-bottom: 10px !important;padding-top: 10px !important;padding-right: 10px !important;padding-bottom: 10px !important;padding-left: 10px !important;background-color: #f4f4f4 !important;}” el_class=”DSK-ev-ADDTOCRT” el_id=”scrolldown”] \n❤️ INR Payment Option:\nSend Rs. 3\,135 to the following bank account or via Google Pay to 8056395346\, and email us at team@infinitehealing.co.uk for us to place the order.\nA/C No: 5949428977\nName: Light Key Academy\nBank: Kotak Mahindra Bank\nBranch: Selaiyur\, Chennai\nIFSC Code: KKBK0008523\n[/vc_column_text][vc_column_text css=”.vc_custom_1766766077348{margin-bottom: 10px !important;padding-top: 10px !important;padding-right: 10px !important;padding-bottom: 10px !important;padding-left: 10px !important;background-color: #f4f4f4 !important;}” el_class=”mob-ev-ADDTOCRT” el_id=”comedown”] \n❤️ INR Payment Option:\nSend Rs. 3\,135 to the following bank account or via Google Pay to 8056395346\, and email us at team@infinitehealing.co.uk for us to place the order.\nA/C No: 5949428977\nName: Light Key Academy\nBank: Kotak Mahindra Bank\nBranch: Selaiyur\, Chennai\nIFSC Code: KKBK0008523\n[/vc_column_text][vc_column_text css=”.vc_custom_1757428948139{margin-right: 20px !important;margin-bottom: 30px !important;padding-top: 0px !important;padding-right: 0px !important;padding-bottom: 0px !important;padding-left: 0px !important;background-color: #f4f4f4 !important;}” el_class=”DSK-ev-ADDTOCRT”] \n\n❤️ Exclusive offer:\nNila Mystic TV Youtube Limitless Members can attend this call for FREE. CLICK HERE To Join as a Youtube Limitless Member.\n\n[/vc_column_text][vc_column_text css=”.vc_custom_1757426420612{margin-bottom: 10px !important;padding-top: 0px !important;padding-right: 0px !important;padding-bottom: 0px !important;padding-left: 0px !important;background-color: #f4f4f4 !important;}” el_class=”mob-ev-ADDTOCRT”] \n\n❤️ Exclusive offer:\nNila Mystic TV Youtube Limitless Members can attend this call for FREE. CLICK HERE To Join as a Youtube Limitless Member.\n\n[/vc_column_text][vc_column_text css=”.vc_custom_1766761771517{margin-bottom: 10px !important;}” el_class=”mob-ev-ADDTOCRT”] \nJanuary often arrives with pressure to fix\, plan\, and push forward.\nThis workshop is an invitation to do the opposite.\nIn this gentle inner reset\, we step out of effort and into stillness — releasing the inner struggle that quietly drains our energy. Instead of forcing clarity or direction\, we allow calm to return first… and let the next chapter unfold from peace.\nThis session is not about motivation or goal-setting.\nIt’s about softening the nervous system\, quieting mental noise\, and reconnecting with a sense of inner safety and trust.\n🌟 In this 30-minute experience\, you’ll be guided to:\n🕊️ Release emotional and mental strain carried into the new year\n🕊️ Settle the body and mind into a state of calm presence\n🕊️ Let go of urgency\, pressure\, and self-expectation\n🕊️ Reconnect with gentle self-trust and inner peace\nYou’ll leave feeling lighter\, steadier\, and more centered — grounded in stillness rather than struggle\, and ready to begin the year from a place of ease.\nNo preparation needed.\nJust arrive as you are.\n[/vc_column_text][vc_column_text css=”.vc_custom_1766765065059{margin-bottom: 30px !important;padding-top: 10px !important;padding-right: 10px !important;padding-bottom: 10px !important;padding-left: 10px !important;background-color: #f4f4f4 !important;}” el_class=”mob-ev-ADDTOCRT”] \n❤️ Investment:\n $33 Buy Now if not yet purchased.\n[/vc_column_text][vc_single_image image=”113676″ img_size=”200×200″ alignment=”center” style=”vc_box_border_circle_2″ css=”.vc_custom_1746462389462{margin-right: 20px !important;margin-bottom: 15px !important;}” el_class=”DSK-ev-ADDTOCRT”][vc_single_image image=”113676″ img_size=”200×200″ alignment=”center” style=”vc_box_border_circle_2″ css=”.vc_custom_1746462409941{margin-bottom: 15px !important;}” el_class=”mob-ev-ADDTOCRT”][vc_column_text css=”.vc_custom_1746463296337{margin-right: 20px !important;margin-bottom: 10px !important;}” el_class=”DSK-ev-ADDTOCRT”] \nNila is an international wellbeing coach who has been in this journey for more than 2 decades. She is also a medium\, channel\, author and entrepreneur. Her capacity with Money is well known – She has increased her company’s turnover by 17 times within 18 months; created multiple revenue streams out of nowhere; received windfall of money as if by magic etc. She is also known as ‘The magic lady’. Nila has the knack of simplifying the laws of the universe through very simple techniques that are fun to practice. \n[/vc_column_text][vc_column_text css=”.vc_custom_1746462994031{margin-bottom: 10px !important;}” el_class=”mob-ev-ADDTOCRT”] \nNila is an international wellbeing coach who has been in this journey for more than 2 decades. She is also a medium\, channel\, author and entrepreneur. Her capacity with Money is well known – She has increased her company’s turnover by 17 times within 18 months; created multiple revenue streams out of nowhere; received windfall of money as if by magic etc. She is also known as ‘The magic lady’. Nila has the knack of simplifying the laws of the universe through very simple techniques that are fun to practice. \n[/vc_column_text][vc_column_text css=”.vc_custom_1766765675107{margin-top: 10px !important;margin-right: 20px !important;margin-bottom: 10px !important;padding-top: 10px !important;padding-right: 10px !important;padding-bottom: 10px !important;padding-left: 10px !important;background-color: #f4f4f4 !important;}” el_class=”DSK-ev-ADDTOCRT”] \nDisclaimer: This is not meant to be a replacement for any professional support/medication you may require.\nTerms: The experience of each individual varies and hence the outcome from this course cannot be guaranteed. Please buy only if you are willing to take responsibility for the outcome of the practices taught.\n[/vc_column_text][vc_column_text css=”.vc_custom_1766765637472{margin-right: 20px !important;margin-bottom: 10px !important;}” el_class=”hidden DSK-ev-ADDTOCRT”] \n❤️  Here are some amazing shares:\n\n“It was life transforming for me.. all the places I operate from.. who is controlling my life.. who I am being to protect peace and burning all bridges in my universe.. so heavy not being me.. It gave me all the answers on relationship issues I’ve been facing.. phenomenal!! I look forward to free myself from everything I am carrying!!!” \n\n\n“Thank you 🙏🏻 so much Nila for a beautiful 😍 magical session yesterday. So grateful 🙏🏻 immense gratitude. Yesterday after the session I came out and looked at the sky there were so many stars and then went to the supermarket\, I saw a girl with stars on her back of her T-shirt. 😍🥰👍🏻🙏🏻blessed to have you in our lives. 🙏🏻” \n\n\n“It feels so good and refreshing reading everyone’s experience & comments. Honestly it’s magical. I have a feeling something wonderful is coming my way and I can feel my inner source is calling me. I am feeling very content and peaceful. 😇 Thanks Nila & everyone in this group for this magical journey..!” \n\n\n“Same intensity in gums and chest I am feeling and some intense sensation above my head going in whirls.more over my spine and body is becoming more erect but with total ease .Thank you Nila .feeling as if some alignment is happening and becoming more calm and no trace of anger or frustration.” \n\n\n“A lot of changes happening in my life. Things don’t really bother me anymore. Finances are flowing in with ease. No more Doubts in my mind. Even when a Chaotic situation arises I see Blessings & opportunities in it. I sleep very peacefully . I am Flowing in these Blissful & Magical Energies.” \n\n[/vc_column_text][/vc_column][/vc_row][vc_row full_width=”stretch_row” el_class=”discla-section-74904″][vc_column el_id=”exciting-testimonials”][vc_column_text css=”.vc_custom_1766765663727{margin-bottom: 10px !important;padding-top: 10px !important;padding-right: 10px !important;padding-bottom: 10px !important;padding-left: 10px !important;background-color: #f4f4f4 !important;}” el_class=”mob-ev-ADDTOCRT”] \nDisclaimer: This is not meant to be a replacement for any professional support/medication you may require.\nTerms: The experience of each individual varies and hence the outcome from this course cannot be guaranteed. Please buy only if you are willing to take responsibility for the outcome of the practices taught.\n[/vc_column_text][vc_column_text css=”.vc_custom_1766765651130{margin-bottom: 15px !important;}” el_id=”testimonial”] \n❤️  Here are some amazing shares:\n\n“It was life transforming for me.. all the places I operate from.. who is controlling my life.. who I am being to protect peace and burning all bridges in my universe.. so heavy not being me.. It gave me all the answers on relationship issues I’ve been facing.. phenomenal!! I look forward to free myself from everything I am carrying!!!” \n\n\n“Thank you 🙏🏻 so much Nila for a beautiful 😍 magical session yesterday. So grateful 🙏🏻 immense gratitude. Yesterday after the session I came out and looked at the sky there were so many stars and then went to the supermarket\, I saw a girl with stars on her back of her T-shirt. 😍🥰👍🏻🙏🏻blessed to have you in our lives. 🙏🏻” \n\n\n“It feels so good and refreshing reading everyone’s experience & comments. Honestly it’s magical. I have a feeling something wonderful is coming my way and I can feel my inner source is calling me. I am feeling very content and peaceful. 😇 Thanks Nila & everyone in this group for this magical journey..!” \n\n\n“Same intensity in gums and chest I am feeling and some intense sensation above my head going in whirls.more over my spine and body is becoming more erect but with total ease .Thank you Nila .feeling as if some alignment is happening and becoming more calm and no trace of anger or frustration.” \n\n\n“A lot of changes happening in my life. Things don’t really bother me anymore. Finances are flowing in with ease. No more Doubts in my mind. Even when a Chaotic situation arises I see Blessings & opportunities in it. I sleep very peacefully . I am Flowing in these Blissful & Magical Energies.” \n\n[/vc_column_text][vc_btn title=”REGISTER YOUR INTEREST” color=”primary” align=”center” i_icon_fontawesome=”” add_icon=”true” link=”|||” css=”.vc_custom_1746803776070{margin-bottom: 15px !important;}” el_class=”event_registration NEWERIH”][vc_column_text] \nPlease feel free to register and share with your family and friends.\nFor any queries/support\, please click here.\n[/vc_column_text][vc_column_text el_class=”hidden”] \nFor any queries/support\, please click here.\n[/vc_column_text][/vc_column][/vc_row]
URL:https://infinitehealing.co.uk/event/from-struggle-to-stillness-a-gentle-inner-peace-reset/
CATEGORIES:Healing,Light key,peace,Spiritual,Wellbeing,Workshop
END:VEVENT
END:VCALENDAR