
BEGIN:VCALENDAR
VERSION:2.0
PRODID:-//Light Key Academy - ECPv6.15.3//NONSGML v1.0//EN
CALSCALE:GREGORIAN
METHOD:PUBLISH
X-ORIGINAL-URL:https://infinitehealing.co.uk
X-WR-CALDESC:Events for Light Key Academy
REFRESH-INTERVAL;VALUE=DURATION:PT1H
X-Robots-Tag:noindex
X-PUBLISHED-TTL:PT1H
BEGIN:VTIMEZONE
TZID:America/New_York
BEGIN:DAYLIGHT
TZOFFSETFROM:-0500
TZOFFSETTO:-0400
TZNAME:EDT
DTSTART:20250309T070000
END:DAYLIGHT
BEGIN:STANDARD
TZOFFSETFROM:-0400
TZOFFSETTO:-0500
TZNAME:EST
DTSTART:20251102T060000
END:STANDARD
END:VTIMEZONE
BEGIN:VEVENT
DTSTART;TZID=America/New_York:20251027T150000
DTEND;TZID=America/New_York:20251027T153000
DTSTAMP:20260424T105241
CREATED:20251012T113409Z
LAST-MODIFIED:20251028T072206Z
UID:118135-1761577200-1761579000@infinitehealing.co.uk
SUMMARY:Golden Tide: The Dragon and Whale Twin Stream Activation
DESCRIPTION:[vc_row css=”.vc_custom_1717077099866{margin-bottom: 2px !important;}”][vc_column width=”1/2″ css=”.vc_custom_1636640422171{margin-bottom: 10px !important;}” el_class=”first-col”][vc_single_image image=”118118″ img_size=”full” alignment=”center” css=”.vc_custom_1760268191236{margin-top: 20px !important;margin-bottom: 5px !important;}”][vc_row_inner css=”.vc_custom_1717077651261{margin-bottom: 10px !important;}”][vc_column_inner el_class=”mrgn-btm-0″ width=”1/6″ css=”.vc_custom_1638878177960{margin-bottom: 0px !important;}”][/vc_column_inner][vc_column_inner el_class=”mrgn-btm-10″ width=”1/3″ css=”.vc_custom_1638878383870{margin-bottom: 0px !important;}”][vc_btn title=”Testimonials” color=”primary” align=”center” button_block=”true” link=”url:%23testimonial” css=”.vc_custom_1756392697984{margin-bottom: 0px !important;}” el_class=”registerNOW78521 evtquickOptsih”][/vc_column_inner][vc_column_inner el_class=”rgister-btn-sec mrgn-btm-0″ width=”1/3″ css=”.vc_custom_1638878316277{margin-bottom: 10px !important;}”][vc_btn title=”Know More” color=”primary” align=”center” button_block=”true” link=”url:%23des-section|||” css=”.vc_custom_1638878011438{margin-bottom: 0px !important;}” el_class=”registerNOW78521 evtquickOptsih”][/vc_column_inner][vc_column_inner el_class=”mrgn-btm-0″ width=”1/6″ css=”.vc_custom_1638878319397{margin-bottom: 0px !important;}”][/vc_column_inner][/vc_row_inner][vc_column_text el_class=”DSK-ev-ADDTOCRT” css=”.vc_custom_1760450327856{margin-bottom: 18px !important;}”] \nA transformative 11-day journey that blends the Golden Dragon’s radiant fire with the Golden Whale’s oceanic grace. Together\, they create a twin stream of energy that awakens effortless abundance\, emotional harmony\, and divine confidence.\nEach component of this package is designed to activate\, integrate\, and sustain your golden flow – aligning will and surrender\, action and ease\, manifestation and joy.\n🐉 Golden Dragon Blessings\nIgnite your inner fire and awaken divine courage.\nThese blessings carry manifestation and leadership codes\, helping you move beyond limitation and embody golden confidence in every aspect of life.\n🐋 Golden Whale Blessings\nImmerse yourself in waves of peace and grace.\nThese transmissions restore emotional balance and reconnect you to the natural rhythm of divine flow.\n🔥🌊 Twin Stream Workshops\nTwo empowering sessions that merge the Dragon’s strength with the Whale’s softness.\nIncludes real-time activations\, practical exercises\, and insights to maintain alignment in everyday living.\nLive Call 1: 27 Oct 2025 – Awakening the Twin Streams\nOpening activation – introducing the Dragon and Whale frequencies\, igniting the balance of fire and flow within.\nLive Call 2: 3 Nov 2025 – Embodying the Golden Tide\nIntegration and expansion – merging both currents into your daily reality\, manifesting from harmony and grace.\n🌟 Activation Videos\nCompact\, power-packed frequency activations that instantly lift your vibration.\nEach 3-minute clip is designed for quick energetic realignment – morning\, evening\, or on-the-go.\n🎶 Healing Frequency Music\nAudio 1: Golden Fire Frequency\nActivates abundance\, vitality\, and inner strength.\nManifestation • Empowerment • Solar Codes\nAudio 2: Whale Song of Grace\nHeals emotional fields\, restores heart coherence\, and deepens flow.\nEmotional Healing • Love • Grace\nAudio 3: Union Frequency\nMerges fire and flow into unity consciousness — peace within creation.\n🖼️ Bonus Wallpapers\nDigital art carrying the energetic signatures of the Golden Dragon and Whale.\nUse them as subtle vibrational anchors to sustain your Twin Stream frequency throughout the day.\n[/vc_column_text][vc_column_text css=”.vc_custom_1760450124723{margin-bottom: 15px !important;padding-top: 10px !important;padding-right: 10px !important;padding-bottom: 10px !important;padding-left: 10px !important;background-color: #f4f4f4 !important;}” el_class=”DSK-ev-ADDTOCRT”] \n❤️ Package Investment:\n$264 $120 Buy Now if not yet purchased.\n[/vc_column_text][vc_column_text css=”.vc_custom_1760449931955{margin-top: 10px !important;margin-bottom: 10px !important;padding-top: 10px !important;padding-right: 10px !important;padding-bottom: 10px !important;padding-left: 10px !important;background-color: #f4f4f4 !important;}” el_class=”DSK-ev-ADDTOCRT”] \nDisclaimer: This is not meant to be a replacement for any professional support/medication you may require.\nTerms: The experience of each individual varies and hence the outcome from this course cannot be guaranteed. Please buy only if you are willing to take responsibility for the outcome of the practices taught.\n[/vc_column_text][/vc_column][vc_column width=”1/2″ el_id=”des-section” css=”.vc_custom_1640350355209{padding-right: 0px !important;padding-left: 0px !important;}”][vc_column_text el_id=”regis-from” css=”.vc_custom_1760445449802{margin-right: 20px !important;margin-bottom: 15px !important;padding-right: 10px !important;padding-left: 0px !important;}” el_class=”DSK-ev-ADDTOCRT”] \nGolden Tide: The Dragon and Whale Twin Stream Activation\n(English)\n11-day journey begins on 27 Oct 2025 \n11.00 AM EST / 3:00 PM GMT / 5:00 PM Israel / 8:30 PM India \n(Click here to get the time for your time zone.) \n[/vc_column_text][vc_column_text css=”.vc_custom_1757421351583{margin-right: 20px !important;margin-bottom: 20px !important;padding-right: 10px !important;padding-left: 0px !important;}” el_class=”hidden DSK-ev-ADDTOCRT”] \nThis is a live experiential session\, and no recording will be available.\n[/vc_column_text][vc_column_text css=”.vc_custom_1736336283389{margin-right: 20px !important;margin-bottom: 10px !important;padding-right: 10px !important;padding-left: 0px !important;}” el_class=”hidden DSK-ev-ADDTOCRT”] \nYou can purchase the recordings of this class here:\nBuy Now\n[/vc_column_text][vc_column_text css=”.vc_custom_1760445463143{margin-bottom: 15px !important;padding-right: 10px !important;padding-left: 0px !important;}” el_class=”mob-ev-ADDTOCRT”] \nGolden Tide: The Dragon and Whale Twin Stream Activation\n(English)\n11-day journey begins on 27 Oct 2025 \n11.00 AM EST / 3:00 PM GMT / 5:00 PM Israel / 8:30 PM India \n(Click here to get the time for your time zone.) \n[/vc_column_text][vc_column_text css=”.vc_custom_1757421374442{margin-bottom: 20px !important;padding-right: 10px !important;padding-left: 0px !important;}” el_class=”hidden mob-ev-ADDTOCRT”] \nThis is a live experiential session\, and no recording will be available.\n[/vc_column_text][vc_column_text css=”.vc_custom_1736336316044{margin-bottom: 10px !important;padding-right: 10px !important;padding-left: 0px !important;}” el_class=”hidden mob-ev-ADDTOCRT”] \nYou can purchase the recordings of this class here:\nBuy Now\n[/vc_column_text][vc_column_text css=”.vc_custom_1761635717628{margin-right: 20px !important;margin-bottom: 10px !important;padding-top: 10px !important;padding-right: 10px !important;padding-bottom: 10px !important;padding-left: 10px !important;background-color: #f4f4f4 !important;}” el_class=”fam-main-container DSK-ev-ADDTOCRT”] \n❤️ Package Investment: INR Payment Details \n$264 Original price was: $264.$120Current price is: $120.Add to cartAdd to cart  Buy Now \n\n❤️ 11-Day Golden Dragon and Whale Blessings:\n$66Add to cartAdd to cart  Buy Now\n[/vc_column_text][vc_column_text css=”.vc_custom_1761635734994{margin-bottom: 10px !important;padding-top: 10px !important;padding-right: 10px !important;padding-bottom: 10px !important;padding-left: 10px !important;background-color: #f4f4f4 !important;}” el_class=”fam-main-container mob-ev-ADDTOCRT”] \n❤️ Package Investment: INR Payment Details \n$264 Original price was: $264.$120Current price is: $120.Add to cartAdd to cart  Buy Now \n\n❤️ 11-Day Golden Dragon and Whale Blessings:\n$66Add to cartAdd to cart  Buy Now\n[/vc_column_text][vc_column_text css=”.vc_custom_1761635630511{margin-bottom: 10px !important;padding-top: 10px !important;padding-right: 10px !important;padding-bottom: 10px !important;padding-left: 10px !important;background-color: #f4f4f4 !important;}” el_class=”hidden fam-main-container mob-ev-ADDTOCRT”] \n❤️ Package Investment: INR Payment Details \n$264 Original price was: $264.$120Current price is: $120.Add to cartAdd to cart  Buy Now \n[/vc_column_text][vc_column_text css=”.vc_custom_1760342273442{margin-right: 20px !important;margin-bottom: 10px !important;padding-top: 10px !important;padding-right: 10px !important;padding-bottom: 10px !important;padding-left: 10px !important;background-color: #f4f4f4 !important;}” el_class=”DSK-ev-ADDTOCRT”] \n❤️ Package Inclusions:\n\n11-Day Golden Dragon & Whale Blessings (WhatsApp Group)\n2 × 30-Minute Live Workshops\n3 × 3-Minute Activation Videos\n3 × 20-Minute Healing Frequency Tracks\nBonus: Golden Dragon & Whale Wallpapers\n\n[/vc_column_text][vc_column_text css=”.vc_custom_1760342285715{margin-bottom: 10px !important;padding-top: 10px !important;padding-right: 10px !important;padding-bottom: 10px !important;padding-left: 10px !important;background-color: #f4f4f4 !important;}” el_class=”mob-ev-ADDTOCRT”] \n❤️ Package Inclusions:\n\n11-Day Golden Dragon & Whale Blessings (WhatsApp Group)\n2 × 30-Minute Live Workshops\n3 × 3-Minute Activation Videos\n3 × 20-Minute Healing Frequency Tracks\nBonus: Golden Dragon & Whale Wallpapers\n\n[/vc_column_text][vc_column_text css=”.vc_custom_1760445641963{margin-right: 20px !important;margin-bottom: 10px !important;padding-top: 10px !important;padding-right: 10px !important;padding-bottom: 10px !important;padding-left: 10px !important;background-color: #f4f4f4 !important;}” el_class=”hidden DSK-ev-ADDTOCRT”] \n❤️ Package Pre-requisite:\n\nNone.\n\n[/vc_column_text][vc_column_text css=”.vc_custom_1760445652867{margin-bottom: 10px !important;padding-top: 10px !important;padding-right: 10px !important;padding-bottom: 10px !important;padding-left: 10px !important;background-color: #f4f4f4 !important;}” el_class=”hidden mob-ev-ADDTOCRT”] \n❤️ Package Pre-requisite:\n\nNone.\n\n[/vc_column_text][vc_column_text css=”.vc_custom_1761488397203{margin-right: 20px !important;margin-bottom: 10px !important;padding-top: 0px !important;padding-right: 0px !important;padding-bottom: 0px !important;padding-left: 0px !important;background-color: #f4f4f4 !important;}” el_class=”DSK-ev-ADDTOCRT”] \n\n❤️ Special Offer:\n\nFundraiser for Smiliverse: Healing Frequency Music (3 × 20-Minute Tracks): ⓘ×Audio 1: Golden Fire Frequency Activates abundance\, vitality\, and inner strength.\nAudio 2: Whale Song of Grace Heals emotional fields\, restores heart coherence\, and deepens flow.\nAudio 3: Union Frequency Merges fire and flow into unity consciousness — peace within creation.\n$66 Original price was: $66.$18Current price is: $18.Add to cartAdd to cart  Buy Now\n\nExpert Healers: Access this package for just $81\, with an additional $39 in savings! Use discount code EH$39GDW at checkout.\nNila Mystic TV YouTube Limitless Members can attend the first live call of this package for FREE.\nLimitless Members also receive an extra $6 off the package! To claim the discount\, email us at team@infinitehealing.co.uk for your exclusive code. Click Here to join as a YouTube Limitless Member.\nUnlock the Golden Tide and Annual Blessing Stream Combo\nGet the Golden Tide: The Dragon and Whale Twin Stream Activation and the Golden Infinity Annual Blessing Stream at an incredible discount!\n$660 Original price was: $660.$180Current price is: $180.Add to cartAdd to cart  Buy Now\n\n\n[/vc_column_text][vc_column_text css=”.vc_custom_1761488574804{margin-bottom: 10px !important;padding-top: 0px !important;padding-right: 0px !important;padding-bottom: 0px !important;padding-left: 0px !important;background-color: #f4f4f4 !important;}” el_class=”mob-ev-ADDTOCRT”] \n\n❤️ Special Offer:\n\nFundraiser for Smiliverse: Healing Frequency Music (3 × 20-Minute Tracks): ⓘ×Audio 1: Golden Fire Frequency Activates abundance\, vitality\, and inner strength.\nAudio 2: Whale Song of Grace Heals emotional fields\, restores heart coherence\, and deepens flow.\nAudio 3: Union Frequency Merges fire and flow into unity consciousness — peace within creation.\n$66 Original price was: $66.$18Current price is: $18.Add to cartAdd to cart  Buy Now\n\nExpert Healers: Access this package for just $81\, with an additional $39 in savings! Use discount code EH$39GDW at checkout.\nNila Mystic TV YouTube Limitless Members can attend the first live call of this package for FREE.\nLimitless Members also receive an extra $6 off the package! To claim the discount\, email us at team@infinitehealing.co.uk for your exclusive code. Click Here to join as a YouTube Limitless Member.\nUnlock the Golden Tide and Annual Blessing Stream Combo\nGet the Golden Tide: The Dragon and Whale Twin Stream Activation and the Golden Infinity Annual Blessing Stream at an incredible discount!\n$660 Original price was: $660.$180Current price is: $180.Add to cartAdd to cart  Buy Now\n\n\n[/vc_column_text][vc_column_text css=”.vc_custom_1761488497819{margin-bottom: 10px !important;padding-top: 0px !important;padding-right: 0px !important;padding-bottom: 0px !important;padding-left: 0px !important;background-color: #f4f4f4 !important;}” el_class=”hidden mob-ev-ADDTOCRT”] \n\n❤️ Special Offer:\n\nFundraiser for Smiliverse: Healing Frequency Music (3 × 20-Minute Tracks): ⓘ×Audio 1: Golden Fire Frequency\nActivates abundance\, vitality\, and inner strength.\nAudio 2: Whale Song of Grace\nHeals emotional fields\, restores heart coherence\, and deepens flow.\nAudio 3: Union Frequency\nMerges fire and flow into unity consciousness — peace within creation.\n$66 Original price was: $66.$18Current price is: $18.Add to cartAdd to cart  Buy Now\nExpert Healers: Access this package for just $81\, with an additional $39 in savings! Use discount code EH$39GDW at checkout.\nNila Mystic TV YouTube Limitless Members can attend the first live call of this package for FREE.\nLimitless Members also receive an extra $6 off the package! To claim the discount\, email us at team@infinitehealing.co.uk for your exclusive code. Click Here to join as a YouTube Limitless Member.\n\n\n[/vc_column_text][vc_column_text css=”.vc_custom_1761636090406{margin-right: 20px !important;margin-bottom: 30px !important;padding-top: 10px !important;padding-right: 10px !important;padding-bottom: 10px !important;padding-left: 10px !important;background-color: #f4f4f4 !important;}” el_class=”DSK-ev-ADDTOCRT” el_id=”scrolldown”] \n❤️ INR Payment Option:\nSend Rs. 11\,040 for the package\, Rs. 1\,656 for Three Healing Frequency Tracks\, Rs. 7\,452 for Expert Healers (after the discount)\, or Rs. 6\,072 for 11-Day Golden Dragon & Whale Blessings to the following bank account or via Google Pay to 8056395346\, and email us at team@infinitehealing.co.uk for us to place the order.\nA/C No: 5949428977\nName: Light Key Academy\nBank: Kotak Mahindra Bank\nBranch: Selaiyur\, Chennai\nIFSC Code: KKBK0008523\n[/vc_column_text][vc_column_text css=”.vc_custom_1761636113844{margin-bottom: 10px !important;padding-top: 10px !important;padding-right: 10px !important;padding-bottom: 10px !important;padding-left: 10px !important;background-color: #f4f4f4 !important;}” el_class=”mob-ev-ADDTOCRT” el_id=”comedown”] \n❤️ INR Payment Option:\nSend Rs. 11\,040 for the package\, Rs. 1\,656 for Three Healing Frequency Tracks\, Rs. 7\,452 for Expert Healers (after the discount)\, or Rs. 6\,072 for 11-Day Golden Dragon & Whale Blessings to the following bank account or via Google Pay to 8056395346\, and email us at team@infinitehealing.co.uk for us to place the order.\nA/C No: 5949428977\nName: Light Key Academy\nBank: Kotak Mahindra Bank\nBranch: Selaiyur\, Chennai\nIFSC Code: KKBK0008523\n[/vc_column_text][vc_column_text css=”.vc_custom_1760450341336{margin-bottom: 10px !important;}” el_class=”mob-ev-ADDTOCRT”] \nA transformative 11-day journey that blends the Golden Dragon’s radiant fire with the Golden Whale’s oceanic grace. Together\, they create a twin stream of energy that awakens effortless abundance\, emotional harmony\, and divine confidence.\nEach component of this package is designed to activate\, integrate\, and sustain your golden flow – aligning will and surrender\, action and ease\, manifestation and joy.\n🐉 Golden Dragon Blessings\nIgnite your inner fire and awaken divine courage.\nThese blessings carry manifestation and leadership codes\, helping you move beyond limitation and embody golden confidence in every aspect of life.\n🐋 Golden Whale Blessings\nImmerse yourself in waves of peace and grace.\nThese transmissions restore emotional balance and reconnect you to the natural rhythm of divine flow.\n🔥🌊 Twin Stream Workshops\nTwo empowering sessions that merge the Dragon’s strength with the Whale’s softness.\nIncludes real-time activations\, practical exercises\, and insights to maintain alignment in everyday living.\nLive Call 1: 27 Oct 2025 – Awakening the Twin Streams\nOpening activation – introducing the Dragon and Whale frequencies\, igniting the balance of fire and flow within.\nLive Call 2: 3 Nov 2025 – Embodying the Golden Tide\nIntegration and expansion – merging both currents into your daily reality\, manifesting from harmony and grace.\n🌟 Activation Videos\nCompact\, power-packed frequency activations that instantly lift your vibration.\nEach 3-minute clip is designed for quick energetic realignment – morning\, evening\, or on-the-go.\n🎶 Healing Frequency Music\nAudio 1: Golden Fire Frequency\nActivates abundance\, vitality\, and inner strength.\nManifestation • Empowerment • Solar Codes\nAudio 2: Whale Song of Grace\nHeals emotional fields\, restores heart coherence\, and deepens flow.\nEmotional Healing • Love • Grace\nAudio 3: Union Frequency\nMerges fire and flow into unity consciousness — peace within creation.\n🖼️ Bonus Wallpapers\nDigital art carrying the energetic signatures of the Golden Dragon and Whale.\nUse them as subtle vibrational anchors to sustain your Twin Stream frequency throughout the day.\n[/vc_column_text][vc_column_text css=”.vc_custom_1760276462055{margin-bottom: 30px !important;padding-top: 10px !important;padding-right: 10px !important;padding-bottom: 10px !important;padding-left: 10px !important;background-color: #f4f4f4 !important;}” el_class=”mob-ev-ADDTOCRT”] \n❤️ Package Investment:\n$264 $120 Buy Now if not yet purchased.\n[/vc_column_text][vc_single_image image=”113676″ img_size=”200×200″ alignment=”center” style=”vc_box_border_circle_2″ css=”.vc_custom_1746462389462{margin-right: 20px !important;margin-bottom: 15px !important;}” el_class=”DSK-ev-ADDTOCRT”][vc_single_image image=”113676″ img_size=”200×200″ alignment=”center” style=”vc_box_border_circle_2″ css=”.vc_custom_1746462409941{margin-bottom: 15px !important;}” el_class=”mob-ev-ADDTOCRT”][vc_column_text css=”.vc_custom_1746463296337{margin-right: 20px !important;margin-bottom: 10px !important;}” el_class=”DSK-ev-ADDTOCRT”] \nNila is an international wellbeing coach who has been in this journey for more than 2 decades. She is also a medium\, channel\, author and entrepreneur. Her capacity with Money is well known – She has increased her company’s turnover by 17 times within 18 months; created multiple revenue streams out of nowhere; received windfall of money as if by magic etc. She is also known as ‘The magic lady’. Nila has the knack of simplifying the laws of the universe through very simple techniques that are fun to practice. \n[/vc_column_text][vc_column_text css=”.vc_custom_1746462994031{margin-bottom: 10px !important;}” el_class=”mob-ev-ADDTOCRT”] \nNila is an international wellbeing coach who has been in this journey for more than 2 decades. She is also a medium\, channel\, author and entrepreneur. Her capacity with Money is well known – She has increased her company’s turnover by 17 times within 18 months; created multiple revenue streams out of nowhere; received windfall of money as if by magic etc. She is also known as ‘The magic lady’. Nila has the knack of simplifying the laws of the universe through very simple techniques that are fun to practice. \n[/vc_column_text][vc_column_text css=”.vc_custom_1760449917470{margin-top: 10px !important;margin-right: 20px !important;margin-bottom: 10px !important;padding-top: 10px !important;padding-right: 10px !important;padding-bottom: 10px !important;padding-left: 10px !important;background-color: #f4f4f4 !important;}” el_class=”hidden DSK-ev-ADDTOCRT”] \nDisclaimer: This is not meant to be a replacement for any professional support/medication you may require.\nTerms: The experience of each individual varies and hence the outcome from this course cannot be guaranteed. Please buy only if you are willing to take responsibility for the outcome of the practices taught.\n[/vc_column_text][vc_column_text css=”.vc_custom_1760449890539{margin-right: 20px !important;margin-bottom: 15px !important;}” el_id=”testimonial” el_class=”DSK-ev-ADDTOCRT”] \n❤️  Here are some amazing shares:\n\n“I’ve felt an undeniable shift in my energy since starting this journey. The process has helped me align my inner strength with a deep sense of peace. I now experience emotional harmony\, increased confidence\, and a newfound ability to manifest effortlessly. This has opened doors to abundance and inner peace that I didn’t know were available. Truly transformative!” \n\n\n“I feel more connected to my own flow\, and my emotional balance has shifted in ways I couldn’t have imagined. The sense of peace I’ve gained is profound\, and I now find it easier to stay aligned with my natural rhythm. There’s a calmness I carry with me throughout my day\, and it has made a world of difference in my personal and professional life.” \n\n\n“The sessions have been incredibly empowering! I now feel more in control of my energy\, and the practices I’ve learned have allowed me to integrate them into my everyday life. I’ve found that balancing action with ease has helped me navigate challenges with greater flow and less resistance. The experience has been nothing short of empowering.” \n\n\n“My ability to manifest has increased dramatically. I feel empowered and confident in every decision I make. Where I once felt stuck\, I now experience an ease in creating the life I desire. The transformation has been remarkable\, and I now approach life with a renewed sense of purpose and clarity.” \n\n[/vc_column_text][/vc_column][/vc_row][vc_row full_width=”stretch_row” el_class=”discla-section-74904″][vc_column el_id=”exciting-testimonials”][vc_column_text css=”.vc_custom_1760287504748{margin-bottom: 10px !important;padding-top: 10px !important;padding-right: 10px !important;padding-bottom: 10px !important;padding-left: 10px !important;background-color: #f4f4f4 !important;}” el_class=”mob-ev-ADDTOCRT”] \nDisclaimer: This is not meant to be a replacement for any professional support/medication you may require.\nTerms: The experience of each individual varies and hence the outcome from this course cannot be guaranteed. Please buy only if you are willing to take responsibility for the outcome of the practices taught.\n[/vc_column_text][vc_column_text css=”.vc_custom_1760450039774{margin-bottom: 15px !important;}” el_class=”mob-ev-ADDTOCRT”] \n❤️  Here are some amazing shares:\n\n“I’ve felt an undeniable shift in my energy since starting this journey. The process has helped me align my inner strength with a deep sense of peace. I now experience emotional harmony\, increased confidence\, and a newfound ability to manifest effortlessly. This has opened doors to abundance and inner peace that I didn’t know were available. Truly transformative!” \n\n\n“I feel more connected to my own flow\, and my emotional balance has shifted in ways I couldn’t have imagined. The sense of peace I’ve gained is profound\, and I now find it easier to stay aligned with my natural rhythm. There’s a calmness I carry with me throughout my day\, and it has made a world of difference in my personal and professional life.” \n\n\n“The sessions have been incredibly empowering! I now feel more in control of my energy\, and the practices I’ve learned have allowed me to integrate them into my everyday life. I’ve found that balancing action with ease has helped me navigate challenges with greater flow and less resistance. The experience has been nothing short of empowering.” \n\n\n“My ability to manifest has increased dramatically. I feel empowered and confident in every decision I make. Where I once felt stuck\, I now experience an ease in creating the life I desire. The transformation has been remarkable\, and I now approach life with a renewed sense of purpose and clarity.” \n\n[/vc_column_text][vc_btn title=”REGISTER YOUR INTEREST” color=”primary” align=”center” i_icon_fontawesome=”” add_icon=”true” link=”|||” css=”.vc_custom_1746803776070{margin-bottom: 15px !important;}” el_class=”event_registration NEWERIH”][vc_column_text] \nPlease feel free to register and share with your family and friends.\nFor any queries/support\, please click here.\n[/vc_column_text][vc_column_text el_class=”hidden”] \nFor any queries/support\, please click here.\n[/vc_column_text][/vc_column][/vc_row]
URL:https://infinitehealing.co.uk/event/golden-tide-the-dragon-and-whale-twin-stream-activation/
CATEGORIES:Light key,Spiritual,Wealth,Wellbeing,Workshop
END:VEVENT
END:VCALENDAR